Workbook
Name Raion: '1'!$H$33
Name Raion: '1'!$H$33
Name Rubrici: [1]populatia!$D$6:$DA$6
Name Tabel_Populatia: [1]populatia!$D$6:$DA$1000

Sheet 1
A1: RAPORT STATISTIC DE RAMURĂ
A2: ОТРАСЛЕВОЙ СТАТИСТИЧЕСКИЙ ОТЧЁТ
K3: In conformitate cu Legea Republicii Moldova Nr. 412-XV din 9.12.2004 «Cu privire la statistica oficială» organele statisticii oficiale: -au dreptul să obţină date statistice de la toate persoanele fizice si juridice, indiferent de forma de proprietate; -asigură comfidențialitatea datelor individuale obținute și utilizarea lor numai în scopuri statistice. Refuzul, prezentarea cu întîrziere a datelor statistice, prezentarea datelor eronate sau în volum incomplet constituie contravenție administrativă şi se sancţionează conform legislaţiei în vigoare. В соответствии с Законом Республики Молдова N 412-XV oт 9.12.2004 «Об официальной статистике» органы официальной статистики: -имеют право получать статистические данные от всех физических и юридических лиц независимо от формы собственности; -гарантируют конфиденциальность полученных итдивидуальных данных и их использование только в статистических целях. Отказ, представление статистических данных с опозданием, представление ошибочных данных или не в полном объеме, является административным правонарушением и влекут за собой применение санкций в соответствии с действующим законодательством. Aprobat de MSMPSF al Republicii Moldova prin ordinul Nr. 1250 din 04.11.2019 Утвержден приказом МЗТСЗ Республики Молдова № 1250 от 04.11.2019 Prezintă: -Consiliul Naţional pentru Determinarea Dizabilităţii şi Capacităţii de Muncă -MSMPS al Republicii Moldova (către Agenția Națională pentru Sănătate Publică) în termenele fixate de ultimul; -MSMPS al Republicii Moldova (Agenția Națională pentru Sănătate Publică) centralizator anual la 3 martie - Biroului Naţional de Statistică. Представляют: - Национальный Консилиум Установления Ограничения Возможностей и Трудоспособности- МЗТСЗ РМ (Национальному Агенству Общественного Здоровья в установленные последним сроки; -МЗТСЗ Республики Молдова (Национальное Агенство Общественного Здоровья) сводные данные за год 3 марта Национальному Бюро Статистики.
A4: Denumirea: Наименование:
A5: CNDDCM
A9: Adresa: | B9: Адрес:
F10: RAPORT STATISTIC Nr. 27a
A11: Raionul (municipiul) | C11: mun. Chișinău | F11: (trimestrial cumulativ, anual)
A12: Район (муниципий)
F14: PRIVIND DETERMINAREA DIZABILITĂŢII LA COPII
A17: Strada | B17: Alecsandri | D17: , nr | E17: 1
A18: Улица | F18: СТАТИСТИЧЕСКИЙ ОТЧЁТ №27a (квартальный накопительный, годовой)
F19: (квартальный накопительный, годовой)
A20: Cod CUIÎO
A21: Код
F22: ОБ УСТАНОВЛЕНИИ ОГРАНИЧЕНИЯ ВОЗМОЖНОСТЕЙ У ДЕТЕЙ
A23: Cod INDO
A24: Код
C25: Cod CAEM, ediţia 2005
A26: Activitatea principală
A27: Основной вид деятельности | G27: pe 20 | H27: 20
G28: за
F32: CODUL MUNICIPIULUI / RAIONULUI
A33: Conducătorul L.Ş. Руководитель М.П. | H33: 41
A34: Руководитель | D34: М.П.
A36: Numele şi coordonatele executantului
A37: Фамилия и координаты исполнителя
A39: Dl (dna) | B39: Stela Pînzaru
A40: Tel: | B40: 22820677
F41: Ziua | G41: Luna | I41: Anul
A42: e-mail | B42: cnddcm@cnddcm.gov.md | F42: 18 | G42: 2 | I42: 21

Sheet 2
C2: I. REŢEAUA ŞI CADRELE CDDCM (CT, CS)
C3: СЕТЬ И КАДРЫ КУОВТ (ТК, СК)
B5: Nr. rînd № стр. | C5: Denumirea Наименование | H5: Număr CDDCM Число КУОВТ | J5: Nr. rînd № стр. | K5: Denumirea Наименование | Q5: Număr CDDCM Число КУОВТ
B6: A | C6: B | H6: 1 | J6: A | K6: B | Q6: 1
B7: 1 | C7: Total CDDCM Всего КУОВТ | H7: 1 | J7: 5 | K7: Număr asistenţi sociali Число соц. Pаботников | Q7: 10
B8: 2 | C8: Total cadre în CDDCM Всего кадры в КУОВТ | H8: 168 | J8: 6 | K8: Număr psihopedagogi Число психоредагогов | Q8: 3
B9: 3 | C9: Număr medici experţi Число врачей экспертов | H9: 37 | J9: 7
B10: 4 | C10: Din ei, aflaţi la lucrul de bază în CDDCM Из них работают в КУОВТ на основной работе | H10: 31 | J10: 8
C13: II. ACTIVITATEA CDDCM
C14: ДЕЯТЕЛЬНОСТЬ КУОВТ
B16: 1. Număr şedinţe
B17: Число заседаний
C19: III. REZULTATELE EXPERTIZĂRII PRIMARE A DIZABILITĂȚII
C20: РЕЗУЛЬТАТЫ ПЕРВИЧНOГO ОСВИДЕТЕЛЬСТВОВАНИЯ ОГРАНИЧЕНИЯ ВОЗМОЖНОСТЕЙ
B22: Nr. rînd № стр. | C22: Denumirea Наименование | F22: Total Всего | G22: Din ei locuiesc: Из них проживающих:
G23: în localităţi urbane в городской местности | M23: în localităţi rurale в сельской местности
A24: 2 | G24: total всего | H24: 0-2 ani 11 luni 29 zile | I24: 3-6 ani 11 luni 29 zile | J24: 7-15 ani 11 luni 29 zile | K24: 16-17 ani 11 luni 29 zile | M24: total всего | N24: 0-2 ani 11 luni 29 zile | O24: 3-6 ani 11 luni 29 zile | P24: 7-15 ani 11 luni 29 zile | Q24: 16-17 ani 11 luni 29 zile
K25: fete | L25: băieți | Q25: fete | R25: băieți
B26: A | C26: B | F26: 1 | G26: 2 | H26: 3 | I26: 4 | J26: 5 | K26: 6 | L26: 7 | M26: 8 | N26: 9 | O26: 10 | P26: 11 | Q26: 12 | R26: 13
B27: 1 | C27: Total adresări la CDDCM Всего обращений на КУОВТ | F27: 1313 | G27: 492 | H27: 125 | I27: 170 | J27: 168 | K27: 11 | L27: 18 | M27: 821 | N27: 223 | O27: 195 | P27: 334 | Q27: 37 | R27: 32
B28: 2 | C28: din ei: из них: recunoscute persoane cu dizabilităţi - total признано лиц с ограниченными возможностями -всего | F28: 1243 | G28: 475 | H28: 122 | I28: 166 | J28: 159 | K28: 10 | L28: 18 | M28: 768 | N28: 211 | O28: 180 | P28: 310 | Q28: 36 | R28: 31
B29: 2.1 | C29: inclusiv: в том числе: grad sever тяжелая степень | F29: 478 | G29: 212 | H29: 70 | I29: 92 | J29: 45 | K29: 2 | L29: 3 | M29: 266 | N29: 111 | O29: 71 | P29: 64 | Q29: 13 | R29: 7
B30: 2.2 | C30: grad accentuat выраженная степень | F30: 486 | G30: 179 | H30: 40 | I30: 51 | J30: 74 | K30: 3 | L30: 11 | M30: 307 | N30: 67 | O30: 74 | P30: 143 | Q30: 10 | R30: 13
B31: 2.3 | C31: grad mediu средняя степень | F31: 279 | G31: 84 | H31: 12 | I31: 23 | J31: 40 | K31: 5 | L31: 4 | M31: 195 | N31: 33 | O31: 35 | P31: 103 | Q31: 13 | R31: 11
B32: 3 | C32: s-a prelungit concediul medical* продлен медицинский отпуск | G32: 0 | H32: 0 | I32: 0 | J32: 0 | K32: 0 | L32: 0 | N32: 0 | O32: 0 | Q32: 0 | R32: 0
B33: 4 | C33: nu s-au încadrat în grad de dizabilitate не определена группа инвалидности | F33: 70 | G33: 17 | H33: 3 | I33: 4 | J33: 9 | K33: 1 | L33: 0 | M33: 53 | N33: 12 | O33: 15 | P33: 24 | Q33: 1 | R33: 1
B34: 5 | C34: total concluzii pentru tipuri de asistenţă socială всего заключений на видах социальной помощи | F34: 298 | G34: 144 | H34: 41 | I34: 72 | J34: 29 | K34: 0 | L34: 2 | M34: 154 | N34: 67 | O34: 54 | P34: 29 | Q34: 3 | R34: 1
B35: 6 | C35: necesită asistenţă personală нуждающиеся в персональной поддержке | F35: 15 | G35: 7 | H35: 5 | I35: 2 | J35: 0 | K35: 0 | L35: 0 | M35: 8 | N35: 5 | O35: 1 | P35: 2 | Q35: 0 | R35: 0
F36: ='4'!E20 -> 1243 | G36: ='6'!E20 -> 475 | H36: ='6'!F20 -> 122 | I36: ='6'!G20 -> 166 | J36: ='6'!H20 -> 159 | K36: ='6'!I20 -> 10 | L36: ='6'!J20 -> 18 | M36: ='8'!E20 -> 768 | N36: ='8'!F20 -> 211 | O36: ='8'!G20 -> 180 | P36: ='8'!H20 -> 310 | Q36: ='8'!I20 -> 36 | R36: ='8'!J20 -> 31
B37: *Rîndul 3 se abrogă de la 01.01.2020 | F37: ='4'!K20 -> 478 | G37: ='6'!K20 -> 212 | M37: ='8'!K20 -> 266
F38: ='4'!L20 -> 486 | G38: ='6'!L20 -> 179 | M38: ='8'!L20 -> 307
F39: ='4'!M20 -> 279 | G39: ='6'!M20 -> 84 | M39: ='8'!M20 -> 195

Sheet 3
L1: Anexa la f. nr.2 №27а CDDCM
L2: Вкладной лист к ф. №27а (КУОВТ)
C3: IV. REPARTIZAREA PERSOANELOR CU DIZABILITĂŢI CAZ NOU DUPĂ FORMELE DE BOALĂ, VÎRSTĂ, GEN, GRADUL DE DIZABILITATE
C4: РАСПРЕДЕЛЕНИЕ ПЕРВИЧНО ПРИЗНАННЫХ ЛИЦ С ОГРАНИЧЕННЫМИ ВОЗМОЖНОСТЯМИ ПО ФОРМАМ БОЛЕЗНЕЙ, ВОЗРАСТУ, ПОЛУ И СТЕПЕНИ ОГРАНИЧЕНИЯ ВОЗМОЖНОСТЕЙ
C5: a) total populaţie всего население
B6: Nr rînd № строки | C6: Diagnosticul CDDCM Диагноз КУОВТ | D6: Cifru conform CIM revizia X Шифр по МКБ X пересмотра | E6: Total persoane cu dizabilităţi Всего лиц с ограни-ченными возмож-ностями | F6: Inclusiv în vîrstă В том числе в возрасте | K6: Din numărul total de persoane cu dizabilităţi s-a determinat grad de dizabilitate Из общего числа лиц с ограниченными возможностями определены степень ограничения возможностeй
F7: 0-2 ani 11 luni 29 zile | G7: 3-6 ani 11 luni 29 zile | H7: 7-15 ani 11 luni 29 zile | I7: 16-17ani 11 luni 29 zile | K7: Grad sever тяжелая степень | L7: Grad accentuat выраженная степень | M7: Grad mediu cредняя степень
I8: fete | J8: băieți
B9: A | C9: B | D9: C | E9: 1 | F9: 2 | G9: 3 | H9: 4 | I9: 5 | J9: 6 | K9: 7 | L9: 8 | M9: 9
B10: 1.0 | C10: Bolile infecţioase şi parazitare Инфекционные и паразитарные болезни | D10: А00-А99 B00-B99 | E10: ='5'!E10+'7'!E10 -> 12 | F10: ='5'!F10+'7'!F10 -> 6 | G10: ='5'!G10+'7'!G10 -> 1 | H10: ='5'!H10+'7'!H10 -> 3 | I10: ='5'!I10+'7'!I10 -> 2 | J10: ='5'!J10+'7'!J10 -> 0 | K10: ='5'!K10+'7'!K10 -> 6 | L10: ='5'!L10+'7'!L10 -> 6 | M10: ='5'!M10+'7'!M10 -> 0
B11: 1.1 | C11: inclusiv: в том числе: tuberculoza туберкулез | D11: А15-A19 | E11: ='5'!E11+'7'!E11 -> 3 | F11: ='5'!F11+'7'!F11 -> 2 | G11: ='5'!G11+'7'!G11 -> 0 | H11: ='5'!H11+'7'!H11 -> 1 | I11: ='5'!I11+'7'!I11 -> 0 | J11: ='5'!J11+'7'!J11 -> 0 | K11: ='5'!K11+'7'!K11 -> 1 | L11: ='5'!L11+'7'!L11 -> 2 | M11: ='5'!M11+'7'!M11 -> 0
B12: 1.2 | C12: SIDA СПИД | D12: B20-B24 | E12: ='5'!E12+'7'!E12 -> 8 | F12: ='5'!F12+'7'!F12 -> 3 | G12: ='5'!G12+'7'!G12 -> 1 | H12: ='5'!H12+'7'!H12 -> 2 | I12: ='5'!I12+'7'!I12 -> 2 | J12: ='5'!J12+'7'!J12 -> 0 | K12: ='5'!K12+'7'!K12 -> 5 | L12: ='5'!L12+'7'!L12 -> 3 | M12: ='5'!M12+'7'!M12 -> 0
B13: 2.0 | C13: Tumori Новообразования | D13: C 00- D 48 | E13: ='5'!E13+'7'!E13 -> 67 | F13: ='5'!F13+'7'!F13 -> 12 | G13: ='5'!G13+'7'!G13 -> 27 | H13: ='5'!H13+'7'!H13 -> 17 | I13: ='5'!I13+'7'!I13 -> 5 | J13: ='5'!J13+'7'!J13 -> 6 | K13: ='5'!K13+'7'!K13 -> 59 | L13: ='5'!L13+'7'!L13 -> 2 | M13: ='5'!M13+'7'!M13 -> 6
A14: 3 | B14: 2.1 | C14: inclusiv tumori maligne в том числе злокачественные новообразования | D14: С00-С97 | E14: ='5'!E14+'7'!E14 -> 56 | F14: ='5'!F14+'7'!F14 -> 10 | G14: ='5'!G14+'7'!G14 -> 24 | H14: ='5'!H14+'7'!H14 -> 14 | I14: ='5'!I14+'7'!I14 -> 5 | J14: ='5'!J14+'7'!J14 -> 3 | K14: ='5'!K14+'7'!K14 -> 55 | L14: ='5'!L14+'7'!L14 -> 0 | M14: ='5'!M14+'7'!M14 -> 1
B15: 3.0 | C15: Bolile sîngelui, ale organelor hematopoietice şi unele tulburări ale mecanismului imunitar Болезни крови, кроветворных органов и отдельные нарушения с вовлечением иммунного механизмa | D15: D50-D89 | E15: ='5'!E15+'7'!E15 -> 24 | F15: ='5'!F15+'7'!F15 -> 7 | G15: ='5'!G15+'7'!G15 -> 4 | H15: ='5'!H15+'7'!H15 -> 10 | I15: ='5'!I15+'7'!I15 -> 2 | J15: ='5'!J15+'7'!J15 -> 1 | K15: ='5'!K15+'7'!K15 -> 20 | L15: ='5'!L15+'7'!L15 -> 3 | M15: ='5'!M15+'7'!M15 -> 1
B16: 4.0 | C16: Bolile endocrine,de nutriţie şi metabolism Болезни эндокринной системы, расстройства питания и нарушения обмена веществ | D16: E00-E90 | E16: ='5'!E16+'7'!E16 -> 74 | F16: ='5'!F16+'7'!F16 -> 7 | G16: ='5'!G16+'7'!G16 -> 13 | H16: ='5'!H16+'7'!H16 -> 46 | I16: ='5'!I16+'7'!I16 -> 2 | J16: ='5'!J16+'7'!J16 -> 6 | K16: ='5'!K16+'7'!K16 -> 6 | L16: ='5'!L16+'7'!L16 -> 63 | M16: ='5'!M16+'7'!M16 -> 5
B17: 4.1 | C17: inclusiv: в том числе: diabetul zaharat сахарный диабет | D17: E10-E14 | E17: ='5'!E17+'7'!E17 -> 60 | F17: ='5'!F17+'7'!F17 -> 4 | G17: ='5'!G17+'7'!G17 -> 9 | H17: ='5'!H17+'7'!H17 -> 41 | I17: ='5'!I17+'7'!I17 -> 2 | J17: ='5'!J17+'7'!J17 -> 4 | K17: ='5'!K17+'7'!K17 -> 2 | L17: ='5'!L17+'7'!L17 -> 56 | M17: ='5'!M17+'7'!M17 -> 2
B18: 4.2 | C18: afecţiunile glandei tiroide болезни щитовидной жедезы | D18: E00-E07 | E18: ='5'!E18+'7'!E18 -> 4 | F18: ='5'!F18+'7'!F18 -> 1 | G18: ='5'!G18+'7'!G18 -> 1 | H18: ='5'!H18+'7'!H18 -> 1 | I18: ='5'!I18+'7'!I18 -> 0 | J18: ='5'!J18+'7'!J18 -> 1 | K18: ='5'!K18+'7'!K18 -> 1 | L18: ='5'!L18+'7'!L18 -> 2 | M18: ='5'!M18+'7'!M18 -> 1
B19: 5.0 | C19: Tulburări mentale şi de comportament Психические расстройства и расстройства поведения | D19: F00-F99 | E19: ='5'!E19+'7'!E19 -> 326 | F19: ='5'!F19+'7'!F19 -> 8 | G19: ='5'!G19+'7'!G19 -> 142 | H19: ='5'!H19+'7'!H19 -> 155 | I19: ='5'!I19+'7'!I19 -> 7 | J19: ='5'!J19+'7'!J19 -> 14 | K19: ='5'!K19+'7'!K19 -> 143 | L19: ='5'!L19+'7'!L19 -> 117 | M19: ='5'!M19+'7'!M19 -> 66
B20: 5.1 | C20: inclusiv: в том числе: schizofrenia шизофрения | D20: F 20 | E20: ='5'!E20+'7'!E20 -> 1 | F20: ='5'!F20+'7'!F20 -> 0 | G20: ='5'!G20+'7'!G20 -> 0 | H20: ='5'!H20+'7'!H20 -> 0 | I20: ='5'!I20+'7'!I20 -> 0 | J20: ='5'!J20+'7'!J20 -> 1 | K20: ='5'!K20+'7'!K20 -> 0 | L20: ='5'!L20+'7'!L20 -> 1 | M20: ='5'!M20+'7'!M20 -> 0
B21: 5.2 | C21: epilepsia cu tulburări mentale şi de comportament эпилепсия с психическими и поведенческими расстройствами | D21: F02.8; F06.2, 8; F07.0 | E21: ='5'!E21+'7'!E21 -> 6 | F21: ='5'!F21+'7'!F21 -> 0 | G21: ='5'!G21+'7'!G21 -> 1 | H21: ='5'!H21+'7'!H21 -> 4 | I21: ='5'!I21+'7'!I21 -> 1 | J21: ='5'!J21+'7'!J21 -> 0 | K21: ='5'!K21+'7'!K21 -> 1 | L21: ='5'!L21+'7'!L21 -> 1 | M21: ='5'!M21+'7'!M21 -> 4
B22: 5.3 | C22: retard mental умственная отсталость | D22: F70-F79 | E22: ='5'!E22+'7'!E22 -> 179 | F22: ='5'!F22+'7'!F22 -> 1 | G22: ='5'!G22+'7'!G22 -> 54 | H22: ='5'!H22+'7'!H22 -> 111 | I22: ='5'!I22+'7'!I22 -> 4 | J22: ='5'!J22+'7'!J22 -> 9 | K22: ='5'!K22+'7'!K22 -> 27 | L22: ='5'!L22+'7'!L22 -> 103 | M22: ='5'!M22+'7'!M22 -> 49
B23: 5.4 | C23: tulburări de spectru autist расстройство аутистического спектра | D23: F84-F84.9 | E23: ='5'!E23+'7'!E23 -> 112 | F23: ='5'!F23+'7'!F23 -> 3 | G23: ='5'!G23+'7'!G23 -> 81 | H23: ='5'!H23+'7'!H23 -> 27 | I23: ='5'!I23+'7'!I23 -> 0 | J23: ='5'!J23+'7'!J23 -> 1 | K23: ='5'!K23+'7'!K23 -> 112 | L23: ='5'!L23+'7'!L23 -> 0 | M23: ='5'!M23+'7'!M23 -> 0
B24: 6.0 | C24: Bolile sistemului nervos Болезни нервной системы | D24: G00-G99 | E24: ='5'!E24+'7'!E24 -> 193 | F24: ='5'!F24+'7'!F24 -> 80 | G24: ='5'!G24+'7'!G24 -> 49 | H24: ='5'!H24+'7'!H24 -> 55 | I24: ='5'!I24+'7'!I24 -> 5 | J24: ='5'!J24+'7'!J24 -> 4 | K24: ='5'!K24+'7'!K24 -> 86 | L24: ='5'!L24+'7'!L24 -> 82 | M24: ='5'!M24+'7'!M24 -> 25
B25: 6.1 | C25: inclusiv: paralizia cerebrală infantilă в том числе: детский церебральный паралич | D25: G80 | E25: ='5'!E25+'7'!E25 -> 58 | F25: ='5'!F25+'7'!F25 -> 28 | G25: ='5'!G25+'7'!G25 -> 17 | H25: ='5'!H25+'7'!H25 -> 13 | I25: ='5'!I25+'7'!I25 -> 0 | J25: ='5'!J25+'7'!J25 -> 0 | K25: ='5'!K25+'7'!K25 -> 40 | L25: ='5'!L25+'7'!L25 -> 15 | M25: ='5'!M25+'7'!M25 -> 3
B26: 7.0 | C26: Bolile ochiului şi anexelor sale Болезни глаза и его придатков | D26: H00-H59 | E26: ='5'!E26+'7'!E26 -> 39 | F26: ='5'!F26+'7'!F26 -> 2 | G26: ='5'!G26+'7'!G26 -> 9 | H26: ='5'!H26+'7'!H26 -> 23 | I26: ='5'!I26+'7'!I26 -> 3 | J26: ='5'!J26+'7'!J26 -> 2 | K26: ='5'!K26+'7'!K26 -> 3 | L26: ='5'!L26+'7'!L26 -> 8 | M26: ='5'!M26+'7'!M26 -> 28
... B28: 8.1 | C28: inclusiv surditatea в том числе глухота | D28: H90-H91 | E28: ='5'!E28+'7'!E28 -> 35 | F28: ='5'!F28+'7'!F28 -> 6 | G28: ='5'!G28+'7'!G28 -> 17 | H28: ='5'!H28+'7'!H28 -> 12 | I28: ='5'!I28+'7'!I28 -> 0 | J28: ='5'!J28+'7'!J28 -> 0 | K28: ='5'!K28+'7'!K28 -> 0 | L28: ='5'!L28+'7'!L28 -> 27 | M28: ='5'!M28+'7'!M28 -> 8

Sheet 4
B2: Nr rînd № строки | C2: Diagnosticul CDDCM Диагноз КУОВТ | D2: Cifru conform CIM revizia X Шифр по МКБ X пересмотра | E2: Total persoane cu dizabilităţi Всего лиц с ограни-ченными возмож-ностями | F2: Inclusiv în vîrstă В том числе в возрасте | K2: Din numărul total de persoane cu dizabilităţi s-a determinat grad de dizabilitate Из общего числа лиц с ограниченными возможностями определены степень ограничения возможностeй
F3: 0-2 ani 11 luni 29 zile | G3: 3-6 ani 11 luni 29 zile | H3: 7-15 ani 11 luni 29 zile | I3: 16-17ani 11 luni 29 zile | K3: Grad sever тяжелая степень | L3: Grad accentuat выраженная степень | M3: Grad mediu cредняя степень
I4: fete | J4: băieți
B5: A | C5: B | D5: C | E5: 1 | F5: 2 | G5: 3 | H5: 4 | I5: 5 | J5: 6 | K5: 7 | L5: 8 | M5: 9
B6: 9.0 | C6: Bolile aparatului circulator Болезни системы кровообращения | D6: I00-I99 | E6: ='6'!E6+'8'!E6 -> 15 | F6: ='6'!F6+'8'!F6 -> 4 | G6: ='6'!G6+'8'!G6 -> 4 | H6: ='6'!H6+'8'!H6 -> 7 | I6: ='6'!I6+'8'!I6 -> 0 | J6: ='6'!J6+'8'!J6 -> 0 | K6: ='6'!K6+'8'!K6 -> 4 | L6: ='6'!L6+'8'!L6 -> 6 | M6: ='6'!M6+'8'!M6 -> 5
B7: 9.1 | C7: inclusiv reumatismul articular acut в том числе ревматический артрит острый | D7: I 00-I 02 | E7: ='6'!E7+'8'!E7 -> 0 | F7: ='6'!F7+'8'!F7 -> 0 | G7: ='6'!G7+'8'!G7 -> 0 | H7: ='6'!H7+'8'!H7 -> 0 | I7: ='6'!I7+'8'!I7 -> 0 | J7: ='6'!J7+'8'!J7 -> 0 | K7: ='6'!K7+'8'!K7 -> 0 | L7: ='6'!L7+'8'!L7 -> 0 | M7: ='6'!M7+'8'!M7 -> 0
B8: 10.0 | C8: Bolile aparatului respirator Болезни органов дыхания | D8: J00-J99 | E8: ='6'!E8+'8'!E8 -> 8 | F8: ='6'!F8+'8'!F8 -> 0 | G8: ='6'!G8+'8'!G8 -> 5 | H8: ='6'!H8+'8'!H8 -> 2 | I8: ='6'!I8+'8'!I8 -> 0 | J8: ='6'!J8+'8'!J8 -> 1 | K8: ='6'!K8+'8'!K8 -> 0 | L8: ='6'!L8+'8'!L8 -> 2 | M8: ='6'!M8+'8'!M8 -> 6
B9: 10.1 | C9: inclusiv astmul bronşic в том числе бронхиальная астма | D9: J45-J46 | E9: ='6'!E9+'8'!E9 -> 7 | F9: ='6'!F9+'8'!F9 -> 0 | G9: ='6'!G9+'8'!G9 -> 5 | H9: ='6'!H9+'8'!H9 -> 2 | I9: ='6'!I9+'8'!I9 -> 0 | J9: ='6'!J9+'8'!J9 -> 0 | K9: ='6'!K9+'8'!K9 -> 0 | L9: ='6'!L9+'8'!L9 -> 1 | M9: ='6'!M9+'8'!M9 -> 6
B10: 11.0 | C10: Bolile aparatului digestiv Болезни органов пищеварения | D10: K 00-K 93; B 18-B19 | E10: ='6'!E10+'8'!E10 -> 16 | F10: ='6'!F10+'8'!F10 -> 3 | G10: ='6'!G10+'8'!G10 -> 5 | H10: ='6'!H10+'8'!H10 -> 4 | I10: ='6'!I10+'8'!I10 -> 4 | J10: ='6'!J10+'8'!J10 -> 0 | K10: ='6'!K10+'8'!K10 -> 9 | L10: ='6'!L10+'8'!L10 -> 5 | M10: ='6'!M10+'8'!M10 -> 2
B11: 11.1 | C11: inclusiv: в том числе: ciroză hepatică цирроз печени | D11: K 70.0; K 70.3; K 74,3-K74,6 | E11: ='6'!E11+'8'!E11 -> 2 | F11: ='6'!F11+'8'!F11 -> 0 | G11: ='6'!G11+'8'!G11 -> 1 | H11: ='6'!H11+'8'!H11 -> 0 | I11: ='6'!I11+'8'!I11 -> 1 | J11: ='6'!J11+'8'!J11 -> 0 | K11: ='6'!K11+'8'!K11 -> 1 | L11: ='6'!L11+'8'!L11 -> 0 | M11: ='6'!M11+'8'!M11 -> 1
B12: 11.2 | C12: hepatită cronică хронический гепатит | D12: B 18-B19 K 70.1; K 70.9-K 71.9; K 73.0-K 73.9 | E12: ='6'!E12+'8'!E12 -> 0 | F12: ='6'!F12+'8'!F12 -> 0 | G12: ='6'!G12+'8'!G12 -> 0 | H12: ='6'!H12+'8'!H12 -> 0 | I12: ='6'!I12+'8'!I12 -> 0 | J12: ='6'!J12+'8'!J12 -> 0 | K12: ='6'!K12+'8'!K12 -> 0 | L12: ='6'!L12+'8'!L12 -> 0 | M12: ='6'!M12+'8'!M12 -> 0
B13: 12.0 | C13: Bolile pielii şi ţesutului celular subcutanat Болезни кожи и подкожной клетчатки | D13: L00-L99 | E13: ='6'!E13+'8'!E13 -> 13 | F13: ='6'!F13+'8'!F13 -> 4 | G13: ='6'!G13+'8'!G13 -> 2 | H13: ='6'!H13+'8'!H13 -> 5 | I13: ='6'!I13+'8'!I13 -> 1 | J13: ='6'!J13+'8'!J13 -> 1 | K13: ='6'!K13+'8'!K13 -> 0 | L13: ='6'!L13+'8'!L13 -> 5 | M13: ='6'!M13+'8'!M13 -> 8
A14: 4 | B14: 13.0 | C14: Bolile sistemului osteo-articular, ale muşchilor şi ţesutului conjunctiv Болезни костно-суставной системы, мышц и соединительной ткани | D14: M00-M99 | E14: ='6'!E14+'8'!E14 -> 80 | F14: ='6'!F14+'8'!F14 -> 3 | G14: ='6'!G14+'8'!G14 -> 13 | H14: ='6'!H14+'8'!H14 -> 56 | I14: ='6'!I14+'8'!I14 -> 5 | J14: ='6'!J14+'8'!J14 -> 3 | K14: ='6'!K14+'8'!K14 -> 11 | L14: ='6'!L14+'8'!L14 -> 36 | M14: ='6'!M14+'8'!M14 -> 33
B15: 14.0 | C15: Bolile aparatului genito-urinar Болезни мочеполовой системы | D15: N00-N99 | E15: ='6'!E15+'8'!E15 -> 15 | F15: ='6'!F15+'8'!F15 -> 4 | G15: ='6'!G15+'8'!G15 -> 2 | H15: ='6'!H15+'8'!H15 -> 6 | I15: ='6'!I15+'8'!I15 -> 2 | J15: ='6'!J15+'8'!J15 -> 1 | K15: ='6'!K15+'8'!K15 -> 2 | L15: ='6'!L15+'8'!L15 -> 7 | M15: ='6'!M15+'8'!M15 -> 6
B16: 15.0 | C16: Malformaţii congenitale, deformaţii şi anomalii cromosomiale Врожденные пороки развития, деформации и хромосомиальные аномалии | D16: Q00-Q99 | E16: ='6'!E16+'8'!E16 -> 293 | F16: ='6'!F16+'8'!F16 -> 183 | G16: ='6'!G16+'8'!G16 -> 50 | H16: ='6'!H16+'8'!H16 -> 48 | I16: ='6'!I16+'8'!I16 -> 6 | J16: ='6'!J16+'8'!J16 -> 6 | K16: ='6'!K16+'8'!K16 -> 119 | L16: ='6'!L16+'8'!L16 -> 101 | M16: ='6'!M16+'8'!M16 -> 73
B17: 15.1 | C17: inclusiv: в том числе: malformaţii congenitale ale aparatului circulator врожденные пороки развития системы кровообращения | D17: Q20- Q28 | E17: ='6'!E17+'8'!E17 -> 90 | F17: ='6'!F17+'8'!F17 -> 52 | G17: ='6'!G17+'8'!G17 -> 17 | H17: ='6'!H17+'8'!H17 -> 17 | I17: ='6'!I17+'8'!I17 -> 2 | J17: ='6'!J17+'8'!J17 -> 2 | K17: ='6'!K17+'8'!K17 -> 19 | L17: ='6'!L17+'8'!L17 -> 40 | M17: ='6'!M17+'8'!M17 -> 31
B18: 15.2 | C18: malformaţii congenitale şi deformaţii ale sistemului osteo-muscular врожденные пороки развития и деформации костно- мышечной системы | D18: Q65-Q79 | E18: ='6'!E18+'8'!E18 -> 54 | F18: ='6'!F18+'8'!F18 -> 27 | G18: ='6'!G18+'8'!G18 -> 13 | H18: ='6'!H18+'8'!H18 -> 10 | I18: ='6'!I18+'8'!I18 -> 2 | J18: ='6'!J18+'8'!J18 -> 2 | K18: ='6'!K18+'8'!K18 -> 9 | L18: ='6'!L18+'8'!L18 -> 27 | M18: ='6'!M18+'8'!M18 -> 18
B19: 16.0 | C19: Leziuni traumatice, otrăviri şi alte consecinţe ale cauzelor externe Травмы, отравления и другие последствия воздействия внешних причин | D19: S 00-T 98 | E19: ='6'!E19+'8'!E19 -> 33 | F19: ='6'!F19+'8'!F19 -> 4 | G19: ='6'!G19+'8'!G19 -> 3 | H19: ='6'!H19+'8'!H19 -> 20 | I19: ='6'!I19+'8'!I19 -> 2 | J19: ='6'!J19+'8'!J19 -> 4 | K19: ='6'!K19+'8'!K19 -> 10 | L19: ='6'!L19+'8'!L19 -> 16 | M19: ='6'!M19+'8'!M19 -> 7
B20: 17.0 | C20: Total Всего | E20: ='6'!E20+'8'!E20 -> 1243 | F20: ='6'!F20+'8'!F20 -> 333 | G20: ='6'!G20+'8'!G20 -> 346 | H20: ='6'!H20+'8'!H20 -> 469 | I20: ='6'!I20+'8'!I20 -> 46 | J20: ='6'!J20+'8'!J20 -> 49 | K20: ='6'!K20+'8'!K20 -> 478 | L20: ='6'!L20+'8'!L20 -> 486 | M20: ='6'!M20+'8'!M20 -> 279
B21: 17.1 | C21: inclusiv de sex feminin в том числе женщин | E21: ='6'!E21+'8'!E21 -> 511 | F21: ='6'!F21+'8'!F21 -> 158 | G21: ='6'!G21+'8'!G21 -> 123 | H21: ='6'!H21+'8'!H21 -> 184 | I21: ='6'!I21+'8'!I21 -> 46 | J21: X | K21: ='6'!K21+'8'!K21 -> 193 | L21: ='6'!L21+'8'!L21 -> 199 | M21: ='6'!M21+'8'!M21 -> 119
E22: ='3'!E10+'3'!E13+'3'!E15+'3'!E16+'3'!E19+'3'!E24+'3'!E26+'3'!E27+'4'!E6+'4'!E8+'4'!E10+'4'!E13+'4'!E14+'4'!E15+'4'!E16+'4'!E19 -> 1243 | F22: ='3'!F10+'3'!F13+'3'!F15+'3'!F16+'3'!F19+'3'!F24+'3'!F26+'3'!F27+'4'!F6+'4'!F8+'4'!F10+'4'!F13+'4'!F14+'4'!F15+'4'!F16+'4'!F19 -> 333 | G22: ='3'!G10+'3'!G13+'3'!G15+'3'!G16+'3'!G19+'3'!G24+'3'!G26+'3'!G27+'4'!G6+'4'!G8+'4'!G10+'4'!G13+'4'!G14+'4'!G15+'4'!G16+'4'!G19 -> 346 | H22: ='3'!H10+'3'!H13+'3'!H15+'3'!H16+'3'!H19+'3'!H24+'3'!H26+'3'!H27+'4'!H6+'4'!H8+'4'!H10+'4'!H13+'4'!H14+'4'!H15+'4'!H16+'4'!H19 -> 469 | I22: ='3'!I10+'3'!I13+'3'!I15+'3'!I16+'3'!I19+'3'!I24+'3'!I26+'3'!I27+'4'!I6+'4'!I8+'4'!I10+'4'!I13+'4'!I14+'4'!I15+'4'!I16+'4'!I19 -> 46 | J22: ='3'!J10+'3'!J13+'3'!J15+'3'!J16+'3'!J19+'3'!J24+'3'!J26+'3'!J27+'4'!J6+'4'!J8+'4'!J10+'4'!J13+'4'!J14+'4'!J15+'4'!J16+'4'!J19 -> 49 | K22: ='3'!K10+'3'!K13+'3'!K15+'3'!K16+'3'!K19+'3'!K24+'3'!K26+'3'!K27+'4'!K6+'4'!K8+'4'!K10+'4'!K13+'4'!K14+'4'!K15+'4'!K16+'4'!K19 -> 478 | L22: ='3'!L10+'3'!L13+'3'!L15+'3'!L16+'3'!L19+'3'!L24+'3'!L26+'3'!L27+'4'!L6+'4'!L8+'4'!L10+'4'!L13+'4'!L14+'4'!L15+'4'!L16+'4'!L19 -> 486 | M22: ='3'!M10+'3'!M13+'3'!M15+'3'!M16+'3'!M19+'3'!M24+'3'!M26+'3'!M27+'4'!M6+'4'!M8+'4'!M10+'4'!M13+'4'!M14+'4'!M15+'4'!M16+'4'!M19 -> 279
B23: 18. | C23: Din numărul total de persoane cu dizabilităţi caz nou: | G23: stabilită dizabilitate pentru perioada de pînă la 17 ani 11luni 29 zile | L23: ='6'!L23+'8'!L23 -> 94
C24: Из числа впервые признанными лица с ограниченными возможностями: | G24: установлено ограничение возможностей на период до 17 лет 11 месяцев 29 дней

Sheet 5
L1: Anexa la f. nr.2 №27а CDDCM
L2: Вкладной лист к ф. №27а (КУОВТ)
C3: V. REPARTIZAREA PERSOANELOR CU DIZABILITĂŢI CAZ NOU DUPĂ FORMELE DE BOALĂ, VÎRSTĂ, GEN, GRADUL DE DIZABILITATE
C4: РАСПРЕДЕЛЕНИЕ ПЕРВИЧНО ПРИЗНАННЫХ ЛИЦ С ОГРАНИЧЕННЫМИ ВОЗМОЖНОСТЯМИ ПО ФОРМАМ БОЛЕЗНЕЙ, ВОЗРАСТУ, ПОЛУ И СТЕПЕНИ ОГРАНИЧЕНИЯ ВОЗМОЖНОСТЕЙ
C5: b) locuitori urbani городские жители
B6: Nr rînd № строки | C6: Diagnosticul CDDCM Диагноз КУОВТ | D6: Cifru conform CIM revizia X Шифр по МКБ X пересмотра | E6: Total persoane cu dizabilităţi Всего лиц с ограни-ченными возмож-ностями | F6: Inclusiv în vîrstă В том числе в возрасте | K6: Din numărul total de persoane cu dizabilităţi s-a determinat grad de dizabilitate Из общего числа лиц с ограниченными возможностями определены степень ограничения возможностeй
F7: 0-2 ani 11 luni 29 zile | G7: 3-6 ani 11 luni 29 zile | H7: 7-15 ani 11 luni 29 zile | I7: 16-17ani 11 luni 29 zile | K7: Grad sever тяжелая степень | L7: Grad accentuat выраженная степень | M7: Grad mediu cредняя степень
I8: fete | J8: băieți
B9: A | C9: B | D9: C | E9: 1 | F9: 2 | G9: 3 | H9: 4 | I9: 5 | J9: 6 | K9: 7 | L9: 8 | M9: 9
B10: 1.0 | C10: Bolile infecţioase şi parazitare Инфекционные и паразитарные болезни | D10: А00-А99 B00-B99 | E10: 7 | F10: 4 | G10: 1 | H10: 2 | I10: 0 | J10: 0 | K10: 3 | L10: 4 | M10: 0
B11: 1.1 | C11: inclusiv: в том числе: tuberculoza туберкулез | D11: А15-A19 | E11: 0 | F11: 0 | G11: 0 | H11: 0 | I11: 0 | J11: 0 | K11: 0 | L11: 0 | M11: 0
B12: 1.2 | C12: SIDA СПИД | D12: B20-B24 | E12: 6 | F12: 3 | G12: 1 | H12: 2 | I12: 0 | J12: 0 | K12: 3 | L12: 3 | M12: 0
B13: 2.0 | C13: Tumori Новообразования | D13: C 00- D 48 | E13: 24 | F13: 5 | G13: 12 | H13: 6 | I13: 1 | J13: 0 | K13: 23 | L13: 1 | M13: 0
A14: 5 | B14: 2.1 | C14: inclusiv tumori maligne в том числе злокачественные новообразования | D14: С00-С97 | E14: 20 | F14: 3 | G14: 11 | H14: 5 | I14: 1 | J14: 0 | K14: 20 | L14: 0 | M14: 0
B15: 3.0 | C15: Bolile sîngelui, ale organelor hematopoietice şi unele tulburări ale mecanismului imunitar Болезни крови, кроветворных органов и отдельные нарушения с вовлечением иммунного механизмa | D15: D50-D89 | E15: 10 | F15: 3 | G15: 3 | H15: 3 | I15: 1 | J15: 0 | K15: 9 | L15: 0 | M15: 1
B16: 4.0 | C16: Bolile endocrine,de nutriţie şi metabolism Болезни эндокринной системы, расстройства питания и нарушения обмена веществ | D16: E00-E90 | E16: 37 | F16: 3 | G16: 9 | H16: 21 | I16: 0 | J16: 4 | K16: 2 | L16: 32 | M16: 3
B17: 4.1 | C17: inclusiv: в том числе: diabetul zaharat сахарный диабет | D17: E10-E14 | E17: 29 | F17: 3 | G17: 6 | H17: 18 | I17: 0 | J17: 2 | K17: 0 | L17: 28 | M17: 1
B18: 4.2 | C18: afecţiunile glandei tiroide болезни щитовидной жедезы | D18: E00-E07 | E18: 3 | F18: 0 | G18: 1 | H18: 1 | I18: 0 | J18: 1 | K18: 1 | L18: 1 | M18: 1
B19: 5.0 | C19: Tulburări mentale şi de comportament Психические расстройства и расстройства поведения | D19: F00-F99 | E19: 137 | F19: 5 | G19: 72 | H19: 53 | I19: 1 | J19: 6 | K19: 85 | L19: 34 | M19: 18
B20: 5.1 | C20: inclusiv: в том числе: schizofrenia шизофрения | D20: F 20 | E20: 1 | F20: 0 | G20: 0 | H20: 0 | I20: 0 | J20: 1 | K20: 0 | L20: 1 | M20: 0
B21: 5.2 | C21: epilepsia cu tulburări mentale şi de comportament эпилепсия с психическими и поведенческими расстройствами | D21: F02.8; F06.2, 8; F07.0 | E21: 1 | F21: 0 | G21: 0 | H21: 1 | I21: 0 | J21: 0 | K21: 0 | L21: 1 | M21: 0
B22: 5.3 | C22: retard mental умственная отсталость | D22: F70-F79 | E22: 44 | F22: 1 | G22: 17 | H22: 23 | I22: 1 | J22: 2 | K22: 6 | L22: 26 | M22: 12
B23: 5.4 | C23: tulburări de spectru autist расстройство аутистического спектра | D23: F84-F84.9 | E23: 77 | F23: 2 | G23: 52 | H23: 22 | I23: 0 | J23: 1 | K23: 77 | L23: 0 | M23: 0
B24: 6.0 | C24: Bolile sistemului nervos Болезни нервной системы | D24: G00-G99 | E24: 69 | F24: 27 | G24: 21 | H24: 16 | I24: 2 | J24: 3 | K24: 30 | L24: 32 | M24: 7
B25: 6.1 | C25: inclusiv: paralizia cerebrală infantilă в том числе: детский церебральный паралич | D25: G80 | E25: 21 | F25: 11 | G25: 7 | H25: 3 | I25: 0 | J25: 0 | K25: 13 | L25: 7 | M25: 1
B26: 7.0 | C26: Bolile ochiului şi anexelor sale Болезни глаза и его придатков | D26: H00-H59 | E26: 10 | F26: 0 | G26: 5 | H26: 5 | I26: 0 | J26: 0 | K26: 0 | L26: 3 | M26: 7
... B28: 8.1 | C28: inclusiv surditatea в том числе глухота | D28: H90-H91 | E28: 9 | F28: 1 | G28: 5 | H28: 3 | I28: 0 | J28: 0 | K28: 0 | L28: 7 | M28: 2

Sheet 6
B2: Nr rînd № строки | C2: Diagnosticul CDDCM Диагноз КУОВТ | D2: Cifru conform CIM revizia X Шифр по МКБ X пересмотра | E2: Total persoane cu dizabilităţi Всего лиц с ограни-ченными возмож-ностями | F2: Inclusiv în vîrstă В том числе в возрасте | K2: Din numărul total de persoane cu dizabilităţi s-a determinat grad de dizabilitate Из общего числа лиц с ограниченными возможностями определены степень ограничения возможностeй
F3: 0-2 ani 11 luni 29 zile | G3: 3-6 ani 11 luni 29 zile | H3: 7-15 ani 11 luni 29 zile | I3: 16-17ani 11 luni 29 zile | K3: Grad sever тяжелая степень | L3: Grad accentuat выраженная степень | M3: Grad mediu cредняя степень
I4: fete | J4: băieți
B5: A | C5: B | D5: C | E5: 1 | F5: 2 | G5: 3 | H5: 4 | I5: 5 | J5: 6 | K5: 7 | L5: 8 | M5: 9
B6: 9.0 | C6: Bolile aparatului circulator Болезни системы кровообращения | D6: I00-I99 | E6: 5 | F6: 1 | G6: 2 | H6: 2 | I6: 0 | J6: 0 | K6: 1 | L6: 2 | M6: 2
B7: 9.1 | C7: inclusiv reumatismul articular acut в том числе ревматический артрит острый | D7: I 00-I 02 | E7: 0 | F7: 0 | G7: 0 | H7: 0 | I7: 0 | J7: 0 | K7: 0 | L7: 0 | M7: 0
B8: 10.0 | C8: Bolile aparatului respirator Болезни органов дыхания | D8: J00-J99 | E8: 4 | F8: 0 | G8: 3 | H8: 0 | I8: 0 | J8: 1 | K8: 0 | L8: 2 | M8: 2
B9: 10.1 | C9: inclusiv astmul bronşic в том числе бронхиальная астма | D9: J45-J46 | E9: 3 | F9: 0 | G9: 3 | H9: 0 | I9: 0 | J9: 0 | K9: 0 | L9: 1 | M9: 2
B10: 11.0 | C10: Bolile aparatului digestiv Болезни органов пищеварения | D10: K 00-K 93; B 18-B19 | E10: 8 | F10: 3 | G10: 1 | H10: 3 | I10: 1 | J10: 0 | K10: 5 | L10: 2 | M10: 1
B11: 11.1 | C11: inclusiv: в том числе: ciroză hepatică цирроз печени | D11: K 70.0; K 70.3; K 74,3-K74,6 | E11: 0 | F11: 0 | G11: 0 | H11: 0 | I11: 0 | J11: 0 | K11: 0 | L11: 0 | M11: 0
B12: 11.2 | C12: hepatită cronică хронический гепатит | D12: B 18-B19 K 70.1; K 70.9-K 71.9; K 73.0-K 73.9 | E12: 0 | F12: 0 | G12: 0 | H12: 0 | I12: 0 | J12: 0 | K12: 0 | L12: 0 | M12: 0
B13: 12.0 | C13: Bolile pielii şi ţesutului celular subcutanat Болезни кожи и подкожной клетчатки | D13: L00-L99 | E13: 2 | F13: 0 | G13: 0 | H13: 1 | I13: 0 | J13: 1 | K13: 0 | L13: 1 | M13: 1
A14: 6 | B14: 13.0 | C14: Bolile sistemului osteo-articular, ale muşchilor şi ţesutului conjunctiv Болезни костно-суставной системы, мышц и соединительной ткани | D14: M00-M99 | E14: 27 | F14: 2 | G14: 7 | H14: 16 | I14: 2 | J14: 0 | K14: 3 | L14: 13 | M14: 11
B15: 14.0 | C15: Bolile aparatului genito-urinar Болезни мочеполовой системы | D15: N00-N99 | E15: 5 | F15: 1 | G15: 1 | H15: 3 | I15: 0 | J15: 0 | K15: 1 | L15: 3 | M15: 1
B16: 15.0 | C16: Malformaţii congenitale, deformaţii şi anomalii cromosomiale Врожденные пороки развития, деформации и хромосомиальные аномалии | D16: Q00-Q99 | E16: 111 | F16: 65 | G16: 22 | H16: 20 | I16: 1 | J16: 3 | K16: 48 | L16: 36 | M16: 27
B17: 15.1 | C17: inclusiv: в том числе: malformaţii congenitale ale aparatului circulator врожденные пороки развития системы кровообращения | D17: Q20- Q28 | E17: 31 | F17: 15 | G17: 8 | H17: 6 | I17: 1 | J17: 1 | K17: 9 | L17: 13 | M17: 9
B18: 15.2 | C18: malformaţii congenitale şi deformaţii ale sistemului osteo-muscular врожденные пороки развития и деформации костно- мышечной системы | D18: Q65-Q79 | E18: 19 | F18: 8 | G18: 4 | H18: 5 | I18: 0 | J18: 2 | K18: 4 | L18: 10 | M18: 5
B19: 16.0 | C19: Leziuni traumatice, otrăviri şi alte consecinţe ale cauzelor externe Травмы, отравления и другие последствия воздействия внешних причин | D19: S 00-T 98 | E19: 10 | F19: 2 | G19: 2 | H19: 5 | I19: 1 | J19: 0 | K19: 2 | L19: 7 | M19: 1
B20: 17.0 | C20: Total Всего | E20: ='5'!E10+'5'!E13+'5'!E15+'5'!E16+'5'!E19+'5'!E24+'5'!E26+'5'!E27+'6'!E6+'6'!E8+'6'!E10+'6'!E13+'6'!E14+'6'!E15+'6'!E16+'6'!E19 -> 475 | F20: ='5'!F10+'5'!F13+'5'!F15+'5'!F16+'5'!F19+'5'!F24+'5'!F26+'5'!F27+'6'!F6+'6'!F8+'6'!F10+'6'!F13+'6'!F14+'6'!F15+'6'!F16+'6'!F19 -> 122 | G20: ='5'!G10+'5'!G13+'5'!G15+'5'!G16+'5'!G19+'5'!G24+'5'!G26+'5'!G27+'6'!G6+'6'!G8+'6'!G10+'6'!G13+'6'!G14+'6'!G15+'6'!G16+'6'!G19 -> 166 | H20: ='5'!H10+'5'!H13+'5'!H15+'5'!H16+'5'!H19+'5'!H24+'5'!H26+'5'!H27+'6'!H6+'6'!H8+'6'!H10+'6'!H13+'6'!H14+'6'!H15+'6'!H16+'6'!H19 -> 159 | I20: ='5'!I10+'5'!I13+'5'!I15+'5'!I16+'5'!I19+'5'!I24+'5'!I26+'5'!I27+'6'!I6+'6'!I8+'6'!I10+'6'!I13+'6'!I14+'6'!I15+'6'!I16+'6'!I19 -> 10 | J20: ='5'!J10+'5'!J13+'5'!J15+'5'!J16+'5'!J19+'5'!J24+'5'!J26+'5'!J27+'6'!J6+'6'!J8+'6'!J10+'6'!J13+'6'!J14+'6'!J15+'6'!J16+'6'!J19 -> 18 | K20: ='5'!K10+'5'!K13+'5'!K15+'5'!K16+'5'!K19+'5'!K24+'5'!K26+'5'!K27+'6'!K6+'6'!K8+'6'!K10+'6'!K13+'6'!K14+'6'!K15+'6'!K16+'6'!K19 -> 212 | L20: ='5'!L10+'5'!L13+'5'!L15+'5'!L16+'5'!L19+'5'!L24+'5'!L26+'5'!L27+'6'!L6+'6'!L8+'6'!L10+'6'!L13+'6'!L14+'6'!L15+'6'!L16+'6'!L19 -> 179 | M20: ='5'!M10+'5'!M13+'5'!M15+'5'!M16+'5'!M19+'5'!M24+'5'!M26+'5'!M27+'6'!M6+'6'!M8+'6'!M10+'6'!M13+'6'!M14+'6'!M15+'6'!M16+'6'!M19 -> 84
B21: 17.1 | C21: inclusiv de sex feminin в том числе женщин | E21: 187 | F21: 56 | G21: 64 | H21: 57 | I21: 10 | J21: 0 | K21: 80 | L21: 76 | M21: 31
E22: ='5'!E10+'5'!E13+'5'!E15+'5'!E16+'5'!E19+'5'!E24+'5'!E26+'5'!E27+'6'!E6+'6'!E8+'6'!E10+'6'!E13+'6'!E14+'6'!E15+'6'!E16+'6'!E19 -> 475 | F22: ='5'!F10+'5'!F13+'5'!F15+'5'!F16+'5'!F19+'5'!F24+'5'!F26+'5'!F27+'6'!F6+'6'!F8+'6'!F10+'6'!F13+'6'!F14+'6'!F15+'6'!F16+'6'!F19 -> 122 | G22: ='5'!G10+'5'!G13+'5'!G15+'5'!G16+'5'!G19+'5'!G24+'5'!G26+'5'!G27+'6'!G6+'6'!G8+'6'!G10+'6'!G13+'6'!G14+'6'!G15+'6'!G16+'6'!G19 -> 166 | H22: ='5'!H10+'5'!H13+'5'!H15+'5'!H16+'5'!H19+'5'!H24+'5'!H26+'5'!H27+'6'!H6+'6'!H8+'6'!H10+'6'!H13+'6'!H14+'6'!H15+'6'!H16+'6'!H19 -> 159 | I22: ='5'!I10+'5'!I13+'5'!I15+'5'!I16+'5'!I19+'5'!I24+'5'!I26+'5'!I27+'6'!I6+'6'!I8+'6'!I10+'6'!I13+'6'!I14+'6'!I15+'6'!I16+'6'!I19 -> 10 | J22: ='5'!J10+'5'!J13+'5'!J15+'5'!J16+'5'!J19+'5'!J24+'5'!J26+'5'!J27+'6'!J6+'6'!J8+'6'!J10+'6'!J13+'6'!J14+'6'!J15+'6'!J16+'6'!J19 -> 18 | K22: ='5'!K10+'5'!K13+'5'!K15+'5'!K16+'5'!K19+'5'!K24+'5'!K26+'5'!K27+'6'!K6+'6'!K8+'6'!K10+'6'!K13+'6'!K14+'6'!K15+'6'!K16+'6'!K19 -> 212 | L22: ='5'!L10+'5'!L13+'5'!L15+'5'!L16+'5'!L19+'5'!L24+'5'!L26+'5'!L27+'6'!L6+'6'!L8+'6'!L10+'6'!L13+'6'!L14+'6'!L15+'6'!L16+'6'!L19 -> 179 | M22: ='5'!M10+'5'!M13+'5'!M15+'5'!M16+'5'!M19+'5'!M24+'5'!M26+'5'!M27+'6'!M6+'6'!M8+'6'!M10+'6'!M13+'6'!M14+'6'!M15+'6'!M16+'6'!M19 -> 84
B23: 18. | C23: Din numărul total de persoane cu dizabilităţi caz nou: | G23: stabilită dizabilitate pentru perioada de pînă la 17 ani 11luni 29 zile | L23: 33
C24: Из числа впервые признанными лица с ограниченными возможностями: | G24: установлено ограничение возможностей на период до 17 лет 11 месяцев 29 дней

Sheet 7
L1: Anexa la f. nr.2 №27а CDDCM
L2: Вкладной лист к ф. №27а (КУОВТ)
C3: VI. REPARTIZAREA PERSOANELOR CU DIZABILITĂŢI CAZ NOU DUPĂ FORMELE DE BOALĂ, VÎRSTĂ, GEN, GRADUL DE DIZABILITATE
C4: РАСПРЕДЕЛЕНИЕ ПЕРВИЧНО ПРИЗНАННЫХ ЛИЦ С ОГРАНИЧЕННЫМИ ВОЗМОЖНОСТЯМИ ПО ФОРМАМ БОЛЕЗНЕЙ, ВОЗРАСТУ, ПОЛУ И СТЕПЕНИ ОГРАНИЧЕНИЯ ВОЗМОЖНОСТЕЙ
C5: c) locuitori rurali сельские жители
B6: Nr rînd № строки | C6: Diagnosticul CDDCM Диагноз КУОВТ | D6: Cifru conform CIM revizia X Шифр по МКБ X пересмотра | E6: Total persoane cu dizabilităţi Всего лиц с ограни-ченными возмож-ностями | F6: Inclusiv în vîrstă В том числе в возрасте | K6: Din numărul total de persoane cu dizabilităţi s-a determinat grad de dizabilitate Из общего числа лиц с ограниченными возможностями определены степень ограничения возможностeй
F7: 0-2 ani 11 luni 29 zile | G7: 3-6 ani 11 luni 29 zile | H7: 7-15 ani 11 luni 29 zile | I7: 16-17ani 11 luni 29 zile | K7: Grad sever тяжелая степень | L7: Grad accentuat выраженная степень | M7: Grad mediu cредняя степень
I8: fete | J8: băieți
B9: A | C9: B | D9: C | E9: 1 | F9: 2 | G9: 3 | H9: 4 | I9: 5 | J9: 6 | K9: 7 | L9: 8 | M9: 9
B10: 1.0 | C10: Bolile infecţioase şi parazitare Инфекционные и паразитарные болезни | D10: А00-А99 B00-B99 | E10: 5 | F10: 2 | G10: 0 | H10: 1 | I10: 2 | J10: 0 | K10: 3 | L10: 2 | M10: 0
B11: 1.1 | C11: inclusiv: в том числе: tuberculoza туберкулез | D11: А15-A19 | E11: 3 | F11: 2 | G11: 0 | H11: 1 | I11: 0 | J11: 0 | K11: 1 | L11: 2 | M11: 0
B12: 1.2 | C12: SIDA СПИД | D12: B20-B24 | E12: 2 | F12: 0 | G12: 0 | H12: 0 | I12: 2 | J12: 0 | K12: 2 | L12: 0 | M12: 0
B13: 2.0 | C13: Tumori Новообразования | D13: C 00- D 48 | E13: 43 | F13: 7 | G13: 15 | H13: 11 | I13: 4 | J13: 6 | K13: 36 | L13: 1 | M13: 6
A14: 7 | B14: 2.1 | C14: inclusiv tumori maligne в том числе злокачественные новообразования | D14: С00-С97 | E14: 36 | F14: 7 | G14: 13 | H14: 9 | I14: 4 | J14: 3 | K14: 35 | L14: 0 | M14: 1
B15: 3.0 | C15: Bolile sîngelui, ale organelor hematopoietice şi unele tulburări ale mecanismului imunitar Болезни крови, кроветворных органов и отдельные нарушения с вовлечением иммунного механизмa | D15: D50-D89 | E15: 14 | F15: 4 | G15: 1 | H15: 7 | I15: 1 | J15: 1 | K15: 11 | L15: 3 | M15: 0
B16: 4.0 | C16: Bolile endocrine,de nutriţie şi metabolism Болезни эндокринной системы, расстройства питания и нарушения обмена веществ | D16: E00-E90 | E16: 37 | F16: 4 | G16: 4 | H16: 25 | I16: 2 | J16: 2 | K16: 4 | L16: 31 | M16: 2
B17: 4.1 | C17: inclusiv: в том числе: diabetul zaharat сахарный диабет | D17: E10-E14 | E17: 31 | F17: 1 | G17: 3 | H17: 23 | I17: 2 | J17: 2 | K17: 2 | L17: 28 | M17: 1
B18: 4.2 | C18: afecţiunile glandei tiroide болезни щитовидной жедезы | D18: E00-E07 | E18: 1 | F18: 1 | G18: 0 | H18: 0 | I18: 0 | J18: 0 | K18: 0 | L18: 1 | M18: 0
B19: 5.0 | C19: Tulburări mentale şi de comportament Психические расстройства и расстройства поведения | D19: F00-F99 | E19: 189 | F19: 3 | G19: 70 | H19: 102 | I19: 6 | J19: 8 | K19: 58 | L19: 83 | M19: 48
B20: 5.1 | C20: inclusiv: в том числе: schizofrenia шизофрения | D20: F 20 | E20: 0 | F20: 0 | G20: 0 | H20: 0 | I20: 0 | J20: 0 | K20: 0 | L20: 0 | M20: 0
B21: 5.2 | C21: epilepsia cu tulburări mentale şi de comportament эпилепсия с психическими и поведенческими расстройствами | D21: F02.8; F06.2, 8; F07.0 | E21: 5 | F21: 0 | G21: 1 | H21: 3 | I21: 1 | J21: 0 | K21: 1 | L21: 0 | M21: 4
B22: 5.3 | C22: retard mental умственная отсталость | D22: F70-F79 | E22: 135 | F22: 0 | G22: 37 | H22: 88 | I22: 3 | J22: 7 | K22: 21 | L22: 77 | M22: 37
B23: 5.4 | C23: tulburări de spectru autist расстройство аутистического спектра | D23: F84-F84.9 | E23: 35 | F23: 1 | G23: 29 | H23: 5 | I23: 0 | J23: 0 | K23: 35 | L23: 0 | M23: 0
B24: 6.0 | C24: Bolile sistemului nervos Болезни нервной системы | D24: G00-G99 | E24: 124 | F24: 53 | G24: 28 | H24: 39 | I24: 3 | J24: 1 | K24: 56 | L24: 50 | M24: 18
B25: 6.1 | C25: inclusiv: paralizia cerebrală infantilă в том числе: детский церебральный паралич | D25: G80 | E25: 37 | F25: 17 | G25: 10 | H25: 10 | I25: 0 | J25: 0 | K25: 27 | L25: 8 | M25: 2
B26: 7.0 | C26: Bolile ochiului şi anexelor sale Болезни глаза и его придатков | D26: H00-H59 | E26: 29 | F26: 2 | G26: 4 | H26: 18 | I26: 3 | J26: 2 | K26: 3 | L26: 5 | M26: 21
... B28: 8.1 | C28: inclusiv surditatea в том числе глухота | D28: H90-H91 | E28: 26 | F28: 5 | G28: 12 | H28: 9 | I28: 0 | J28: 0 | K28: 0 | L28: 20 | M28: 6

Sheet 8
B2: Nr rînd № строки | C2: Diagnosticul CDDCM Диагноз КУОВТ | D2: Cifru conform CIM revizia X Шифр по МКБ X пересмотра | E2: Total persoane cu dizabilităţi Всего лиц с ограни-ченными возмож-ностями | F2: Inclusiv în vîrstă В том числе в возрасте | K2: Din numărul total de persoane cu dizabilităţi s-a determinat grad de dizabilitate Из общего числа лиц с ограниченными возможностями определены степень ограничения возможностeй
F3: 0-2 ani 11 luni 29 zile | G3: 3-6 ani 11 luni 29 zile | H3: 7-15 ani 11 luni 29 zile | I3: 16-17ani 11 luni 29 zile | K3: Grad sever тяжелая степень | L3: Grad accentuat выраженная степень | M3: Grad mediu cредняя степень
I4: fete | J4: băieți
B5: A | C5: B | D5: C | E5: 1 | F5: 2 | G5: 3 | H5: 4 | I5: 5 | J5: 6 | K5: 7 | L5: 8 | M5: 9
B6: 9.0 | C6: Bolile aparatului circulator Болезни системы кровообращения | D6: I00-I99 | E6: 10 | F6: 3 | G6: 2 | H6: 5 | I6: 0 | J6: 0 | K6: 3 | L6: 4 | M6: 3
B7: 9.1 | C7: inclusiv reumatismul articular acut в том числе ревматический артрит острый | D7: I 00-I 02 | E7: 0 | F7: 0 | G7: 0 | H7: 0 | I7: 0 | J7: 0 | K7: 0 | L7: 0 | M7: 0
B8: 10.0 | C8: Bolile aparatului respirator Болезни органов дыхания | D8: J00-J99 | E8: 4 | F8: 0 | G8: 2 | H8: 2 | I8: 0 | J8: 0 | K8: 0 | L8: 0 | M8: 4
B9: 10.1 | C9: inclusiv astmul bronşic в том числе бронхиальная астма | D9: J45-J46 | E9: 4 | F9: 0 | G9: 2 | H9: 2 | I9: 0 | J9: 0 | K9: 0 | L9: 0 | M9: 4
B10: 11.0 | C10: Bolile aparatului digestiv Болезни органов пищеварения | D10: K 00-K 93; B 18-B19 | E10: 8 | F10: 0 | G10: 4 | H10: 1 | I10: 3 | J10: 0 | K10: 4 | L10: 3 | M10: 1
B11: 11.1 | C11: inclusiv: в том числе: ciroză hepatică цирроз печени | D11: K 70.0; K 70.3; K 74,3-K74,6 | E11: 2 | F11: 0 | G11: 1 | H11: 0 | I11: 1 | J11: 0 | K11: 1 | L11: 0 | M11: 1
B12: 11.2 | C12: hepatită cronică хронический гепатит | D12: B 18-B19 K 70.1; K 70.9-K 71.9; K 73.0-K 73.9 | E12: 0 | F12: 0 | G12: 0 | H12: 0 | I12: 0 | J12: 0 | K12: 0 | L12: 0 | M12: 0
B13: 12.0 | C13: Bolile pielii şi ţesutului celular subcutanat Болезни кожи и подкожной клетчатки | D13: L00-L99 | E13: 11 | F13: 4 | G13: 2 | H13: 4 | I13: 1 | J13: 0 | K13: 0 | L13: 4 | M13: 7
A14: 8 | B14: 13.0 | C14: Bolile sistemului osteo-articular, ale muşchilor şi ţesutului conjunctiv Болезни костно-суставной системы, мышц и соединительной ткани | D14: M00-M99 | E14: 53 | F14: 1 | G14: 6 | H14: 40 | I14: 3 | J14: 3 | K14: 8 | L14: 23 | M14: 22
B15: 14.0 | C15: Bolile aparatului genito-urinar Болезни мочеполовой системы | D15: N00-N99 | E15: 10 | F15: 3 | G15: 1 | H15: 3 | I15: 2 | J15: 1 | K15: 1 | L15: 4 | M15: 5
B16: 15.0 | C16: Malformaţii congenitale, deformaţii şi anomalii cromosomiale Врожденные пороки развития, деформации и хромосомиальные аномалии | D16: Q00-Q99 | E16: 182 | F16: 118 | G16: 28 | H16: 28 | I16: 5 | J16: 3 | K16: 71 | L16: 65 | M16: 46
B17: 15.1 | C17: inclusiv: в том числе: malformaţii congenitale ale aparatului circulator врожденные пороки развития системы кровообращения | D17: Q20- Q28 | E17: 59 | F17: 37 | G17: 9 | H17: 11 | I17: 1 | J17: 1 | K17: 10 | L17: 27 | M17: 22
B18: 15.2 | C18: malformaţii congenitale şi deformaţii ale sistemului osteo-muscular врожденные пороки развития и деформации костно- мышечной системы | D18: Q65-Q79 | E18: 35 | F18: 19 | G18: 9 | H18: 5 | I18: 2 | J18: 0 | K18: 5 | L18: 17 | M18: 13
B19: 16.0 | C19: Leziuni traumatice, otrăviri şi alte consecinţe ale cauzelor externe Травмы, отравления и другие последствия воздействия внешних причин | D19: S 00-T 98 | E19: 23 | F19: 2 | G19: 1 | H19: 15 | I19: 1 | J19: 4 | K19: 8 | L19: 9 | M19: 6
B20: 17.0 | C20: Total Всего | E20: ='7'!E10+'7'!E13+'7'!E15+'7'!E16+'7'!E19+'7'!E24+'7'!E26+'7'!E27+'8'!E6+'8'!E8+'8'!E10+'8'!E13+'8'!E14+'8'!E15+'8'!E16+'8'!E19 -> 768 | F20: ='7'!F10+'7'!F13+'7'!F15+'7'!F16+'7'!F19+'7'!F24+'7'!F26+'7'!F27+'8'!F6+'8'!F8+'8'!F10+'8'!F13+'8'!F14+'8'!F15+'8'!F16+'8'!F19 -> 211 | G20: ='7'!G10+'7'!G13+'7'!G15+'7'!G16+'7'!G19+'7'!G24+'7'!G26+'7'!G27+'8'!G6+'8'!G8+'8'!G10+'8'!G13+'8'!G14+'8'!G15+'8'!G16+'8'!G19 -> 180 | H20: ='7'!H10+'7'!H13+'7'!H15+'7'!H16+'7'!H19+'7'!H24+'7'!H26+'7'!H27+'8'!H6+'8'!H8+'8'!H10+'8'!H13+'8'!H14+'8'!H15+'8'!H16+'8'!H19 -> 310 | I20: ='7'!I10+'7'!I13+'7'!I15+'7'!I16+'7'!I19+'7'!I24+'7'!I26+'7'!I27+'8'!I6+'8'!I8+'8'!I10+'8'!I13+'8'!I14+'8'!I15+'8'!I16+'8'!I19 -> 36 | J20: ='7'!J10+'7'!J13+'7'!J15+'7'!J16+'7'!J19+'7'!J24+'7'!J26+'7'!J27+'8'!J6+'8'!J8+'8'!J10+'8'!J13+'8'!J14+'8'!J15+'8'!J16+'8'!J19 -> 31 | K20: ='7'!K10+'7'!K13+'7'!K15+'7'!K16+'7'!K19+'7'!K24+'7'!K26+'7'!K27+'8'!K6+'8'!K8+'8'!K10+'8'!K13+'8'!K14+'8'!K15+'8'!K16+'8'!K19 -> 266 | L20: ='7'!L10+'7'!L13+'7'!L15+'7'!L16+'7'!L19+'7'!L24+'7'!L26+'7'!L27+'8'!L6+'8'!L8+'8'!L10+'8'!L13+'8'!L14+'8'!L15+'8'!L16+'8'!L19 -> 307 | M20: ='7'!M10+'7'!M13+'7'!M15+'7'!M16+'7'!M19+'7'!M24+'7'!M26+'7'!M27+'8'!M6+'8'!M8+'8'!M10+'8'!M13+'8'!M14+'8'!M15+'8'!M16+'8'!M19 -> 195
B21: 17.1 | C21: inclusiv de sex feminin в том числе женщин | E21: 324 | F21: 102 | G21: 59 | H21: 127 | I21: 36 | J21: 0 | K21: 113 | L21: 123 | M21: 88
E22: ='7'!E10+'7'!E13+'7'!E15+'7'!E16+'7'!E19+'7'!E24+'7'!E26+'7'!E27+'8'!E6+'8'!E8+'8'!E10+'8'!E13+'8'!E14+'8'!E15+'8'!E16+'8'!E19 -> 768 | F22: ='7'!F10+'7'!F13+'7'!F15+'7'!F16+'7'!F19+'7'!F24+'7'!F26+'7'!F27+'8'!F6+'8'!F8+'8'!F10+'8'!F13+'8'!F14+'8'!F15+'8'!F16+'8'!F19 -> 211 | G22: ='7'!G10+'7'!G13+'7'!G15+'7'!G16+'7'!G19+'7'!G24+'7'!G26+'7'!G27+'8'!G6+'8'!G8+'8'!G10+'8'!G13+'8'!G14+'8'!G15+'8'!G16+'8'!G19 -> 180 | H22: ='7'!H10+'7'!H13+'7'!H15+'7'!H16+'7'!H19+'7'!H24+'7'!H26+'7'!H27+'8'!H6+'8'!H8+'8'!H10+'8'!H13+'8'!H14+'8'!H15+'8'!H16+'8'!H19 -> 310 | I22: ='7'!I10+'7'!I13+'7'!I15+'7'!I16+'7'!I19+'7'!I24+'7'!I26+'7'!I27+'8'!I6+'8'!I8+'8'!I10+'8'!I13+'8'!I14+'8'!I15+'8'!I16+'8'!I19 -> 36 | J22: ='7'!J10+'7'!J13+'7'!J15+'7'!J16+'7'!J19+'7'!J24+'7'!J26+'7'!J27+'8'!J6+'8'!J8+'8'!J10+'8'!J13+'8'!J14+'8'!J15+'8'!J16+'8'!J19 -> 31 | K22: ='7'!K10+'7'!K13+'7'!K15+'7'!K16+'7'!K19+'7'!K24+'7'!K26+'7'!K27+'8'!K6+'8'!K8+'8'!K10+'8'!K13+'8'!K14+'8'!K15+'8'!K16+'8'!K19 -> 266 | L22: ='7'!L10+'7'!L13+'7'!L15+'7'!L16+'7'!L19+'7'!L24+'7'!L26+'7'!L27+'8'!L6+'8'!L8+'8'!L10+'8'!L13+'8'!L14+'8'!L15+'8'!L16+'8'!L19 -> 307 | M22: ='7'!M10+'7'!M13+'7'!M15+'7'!M16+'7'!M19+'7'!M24+'7'!M26+'7'!M27+'8'!M6+'8'!M8+'8'!M10+'8'!M13+'8'!M14+'8'!M15+'8'!M16+'8'!M19 -> 195
B23: 18. | C23: Din numărul total de persoane cu dizabilităţi caz nou: | G23: stabilită dizabilitate pentru perioada de pînă la 17 ani 11luni 29 zile | L23: 61
C24: Из числа впервые признанными лица с ограниченными возможностями: | G24: установлено ограничение возможностей на период до 17 лет 11 месяцев 29 дней

Sheet 9
A1: VII. REZULTATELE REEXPERTIZĂRII PERSOANELOR CU DIZABILITĂȚI
A2: РЕЗУЛЬТАТЫ ПЕРЕОСВИДЕТЕЛЬСТВОВАНИЯ ЛИЦ С ОГРАНИЧЕННЫМИ ВОЗМОЖНОСТЯМИ
B3: a) Total reexpertizaţi locuitori urbani | D3: 2494 | E3: persoane
B4: Переосвидетельствованно городских жителей | E4: человек
B6: Rezultatele reexpertizării persoanelor cu dizabilități/ locuitori urbani
B7: Результаты переосвидетельствования лиц с ограниченными возможностями
A8: Nr. rînd № стр. | B8: Grad de dizabilitate pînă la reexpertizare степень ограничения возможностей до переосвидетельствования | C8: Număr reexpertizaţi Число переосвидетель-свованных | D8: Din nou încadraţi în grad de dizabilitate Снова признаны лица с ограниченными возможностями | E8: din ei: из них:
E9: Grad sever тяжелая степень | F9: Grad accentuat выраженная степень | G9: Grad mediu cредняя степень
A10: A | B10: B | C10: 1 | D10: 2 | E10: 3 | F10: 4 | G10: 5
A11: 1 | B11: Total Всего | C11: 2494 | D11: 2455 | E11: 647 | F11: 1057 | G11: 751
A12: 2 | B12: inclusiv: в том числе: grad sever тяжелая степень | C12: 693 | D12: 689 | E12: 592 | F12: 84 | G12: 13
A13: 3 | B13: grad accentuat выраженная степень | C13: 1126 | D13: 1120 | E13: 47 | F13: 925 | G13: 148
A14: 4 | B14: grad mediu cредняя степень | C14: 675 | D14: 646 | E14: 8 | F14: 48 | G14: 590
A16: 5. | B16: Dizabilitatea a fost stabilită pînă la 17 ani 11luni 29 zile | D16: 679 | E16: persoane
B17: Установлено ограничение возможностей до 17 лет 11 месяцев 29 дней | E17: человек
B25: b) Total reexpertizaţi locuitori rurali | D25: 4158 | E25: persoane
B26: Переосвидетельствованно сельских жителей | E26: человек
B28: Rezultatele reexpertizării persoanelor cu dizabilități/ locuitori rurali
B29: Результаты переосвидетельствования лиц с ограниченными возможностями
A30: Nr. rînd № стр. | B30: Grad de dizabilitate pînă la reexpertizare степень ограничения возможностей до переосвидетельствования | C30: Număr reexpertizaţi Число переосвидетель-свованных | D30: Din nou încadraţi în grad de dizabilitate Снова признаны лица с ограниченными возможностями | E30: din ei: из них:
E31: Grad sever тяжелая степень | F31: Grad accentuat выраженная степень | G31: Grad mediu cредняя степень
A32: A | B32: B | C32: 1 | D32: 2 | E32: 3 | F32: 4 | G32: 5
A33: 1 | B33: Total Всего | C33: 4158 | D33: 4104 | E33: 875 | F33: 1802 | G33: 1427
A34: 2 | B34: inclusiv: в том числе: grad sever тяжелая степень | C34: 939 | D34: 938 | E34: 803 | F34: 126 | G34: 9
A35: 3 | B35: grad accentuat выраженная степень | C35: 1904 | D35: 1892 | E35: 61 | F35: 1571 | G35: 260
A36: 4 | B36: grad mediu cредняя степень | C36: 1315 | D36: 1274 | E36: 11 | F36: 105 | G36: 1158
A38: 5. | B38: Dizabilitatea a fost stabilită pînă la 17 ani 11luni 29 zile | D38: 1084 | E38: persoane
B39: Установлено ограничение возможностей до 17 лет 11 месяцев 29 дней | E39: человек

Sheet 10
K1: Anexa la f. nr.2 №27а CDDCM
K2: Вкладной лист к ф. №27а (КУОВТ)
C3: IV. REPARTIZAREA PERSOANELOR REEXPERTIZATE CU DIZABILITĂŢI DUPĂ FORMELE DE BOALĂ, VÎRSTĂ, GEN, GRADUL DE DIZABILITATE
C4: РАСПРЕДЕЛЕНИЕ ПОВТОРНО ПРИЗНАННЫХ ЛИЦ С ОГРАНИЧЕННЫМИ ВОЗМОЖНОСТЯМИ ПО ФОРМАМ БОЛЕЗНЕЙ, ВОЗРАСТУ, ПОЛУ И СТЕПЕНИ ОГРАНИЧЕНИЯ ВОЗМОЖНОСТЕЙ
C5: a) total populaţie всего население
B6: Nr rînd № строки | C6: Diagnosticul CDDCM Диагноз КУОВТ | D6: Cifru conform CIM revizia X Шифр по МКБ X пересмотра | E6: Total persoane cu dizabilităţi Всего лиц с ограни-ченными возмож-ностями | F6: Inclusiv în vîrstă В том числе в возрасте | K6: Din numărul total de persoane cu dizabilităţi s-a determinat grad de dizabilitate Из общего числа лиц с ограниченными возможностями определены степень ограничения возможностeй
F7: 0-2 ani 11 luni 29 zile | G7: 3-6 ani 11 luni 29 zile | H7: 7-15 ani 11 luni 29 zile | I7: 16-17ani 11 luni 29 zile | K7: Grad sever тяжелая степень | L7: Grad accentuat выраженная степень | M7: Grad mediu cредняя степень
I8: fete | J8: băieți
B9: A | C9: B | D9: C | E9: 1 | F9: 2 | G9: 3 | H9: 4 | I9: 5 | J9: 6 | K9: 7 | L9: 8 | M9: 9
B10: 1.0 | C10: Bolile infecţioase şi parazitare Инфекционные и паразитарные болезни | D10: А00-А99 B00-B99 | E10: ='12'!E10+'14'!E10 -> 45 | F10: ='12'!F10+'14'!F10 -> 2 | G10: ='12'!G10+'14'!G10 -> 9 | H10: ='12'!H10+'14'!H10 -> 28 | I10: ='12'!I10+'14'!I10 -> 1 | J10: ='12'!J10+'14'!J10 -> 5 | K10: ='12'!K10+'14'!K10 -> 17 | L10: ='12'!L10+'14'!L10 -> 11 | M10: ='12'!M10+'14'!M10 -> 17
B11: 1.1 | C11: inclusiv: в том числе: tuberculoza туберкулез | D11: А15-A19 | E11: ='12'!E11+'14'!E11 -> 2 | F11: ='12'!F11+'14'!F11 -> 0 | G11: ='12'!G11+'14'!G11 -> 0 | H11: ='12'!H11+'14'!H11 -> 2 | I11: ='12'!I11+'14'!I11 -> 0 | J11: ='12'!J11+'14'!J11 -> 0 | K11: ='12'!K11+'14'!K11 -> 1 | L11: ='12'!L11+'14'!L11 -> 1 | M11: ='12'!M11+'14'!M11 -> 0
B12: 1.2 | C12: SIDA СПИД | D12: B20-B24 | E12: ='12'!E12+'14'!E12 -> 15 | F12: ='12'!F12+'14'!F12 -> 2 | G12: ='12'!G12+'14'!G12 -> 6 | H12: ='12'!H12+'14'!H12 -> 5 | I12: ='12'!I12+'14'!I12 -> 1 | J12: ='12'!J12+'14'!J12 -> 1 | K12: ='12'!K12+'14'!K12 -> 15 | L12: ='12'!L12+'14'!L12 -> 0 | M12: ='12'!M12+'14'!M12 -> 0
B13: 2.0 | C13: Tumori Новообразования | D13: C 00- D 48 | E13: ='12'!E13+'14'!E13 -> 240 | F13: ='12'!F13+'14'!F13 -> 3 | G13: ='12'!G13+'14'!G13 -> 46 | H13: ='12'!H13+'14'!H13 -> 156 | I13: ='12'!I13+'14'!I13 -> 13 | J13: ='12'!J13+'14'!J13 -> 22 | K13: ='12'!K13+'14'!K13 -> 167 | L13: ='12'!L13+'14'!L13 -> 50 | M13: ='12'!M13+'14'!M13 -> 23
A14: 10 | B14: 2.1 | C14: inclusiv tumori maligne в том числе злокачественные новообразования | D14: С00-С97 | E14: ='12'!E14+'14'!E14 -> 203 | F14: ='12'!F14+'14'!F14 -> 2 | G14: ='12'!G14+'14'!G14 -> 41 | H14: ='12'!H14+'14'!H14 -> 132 | I14: ='12'!I14+'14'!I14 -> 12 | J14: ='12'!J14+'14'!J14 -> 16 | K14: ='12'!K14+'14'!K14 -> 155 | L14: ='12'!L14+'14'!L14 -> 39 | M14: ='12'!M14+'14'!M14 -> 9
B15: 3.0 | C15: Bolile sîngelui, ale organelor hematopoietice şi unele tulburări ale mecanismului imunitar Болезни крови, кроветворных органов и отдельные нарушения с вовлечением иммунного механизмa | D15: D50-D89 | E15: ='12'!E15+'14'!E15 -> 72 | F15: ='12'!F15+'14'!F15 -> 2 | G15: ='12'!G15+'14'!G15 -> 11 | H15: ='12'!H15+'14'!H15 -> 49 | I15: ='12'!I15+'14'!I15 -> 1 | J15: ='12'!J15+'14'!J15 -> 9 | K15: ='12'!K15+'14'!K15 -> 48 | L15: ='12'!L15+'14'!L15 -> 20 | M15: ='12'!M15+'14'!M15 -> 4
B16: 4.0 | C16: Bolile endocrine,de nutriţie şi metabolism Болезни эндокринной системы, расстройства питания и нарушения обмена веществ | D16: E00-E90 | E16: ='12'!E16+'14'!E16 -> 408 | F16: ='12'!F16+'14'!F16 -> 10 | G16: ='12'!G16+'14'!G16 -> 35 | H16: ='12'!H16+'14'!H16 -> 297 | I16: ='12'!I16+'14'!I16 -> 30 | J16: ='12'!J16+'14'!J16 -> 36 | K16: ='12'!K16+'14'!K16 -> 99 | L16: ='12'!L16+'14'!L16 -> 298 | M16: ='12'!M16+'14'!M16 -> 11
B17: 4.1 | C17: inclusiv: в том числе: diabetul zaharat сахарный диабет | D17: E10-E14 | E17: ='12'!E17+'14'!E17 -> 300 | F17: ='12'!F17+'14'!F17 -> 3 | G17: ='12'!G17+'14'!G17 -> 21 | H17: ='12'!H17+'14'!H17 -> 224 | I17: ='12'!I17+'14'!I17 -> 22 | J17: ='12'!J17+'14'!J17 -> 30 | K17: ='12'!K17+'14'!K17 -> 52 | L17: ='12'!L17+'14'!L17 -> 247 | M17: ='12'!M17+'14'!M17 -> 1
B18: 4.2 | C18: afecţiunile glandei tiroide болезни щитовидной жедезы | D18: E00-E07 | E18: ='12'!E18+'14'!E18 -> 32 | F18: ='12'!F18+'14'!F18 -> 2 | G18: ='12'!G18+'14'!G18 -> 2 | H18: ='12'!H18+'14'!H18 -> 21 | I18: ='12'!I18+'14'!I18 -> 4 | J18: ='12'!J18+'14'!J18 -> 3 | K18: ='12'!K18+'14'!K18 -> 10 | L18: ='12'!L18+'14'!L18 -> 15 | M18: ='12'!M18+'14'!M18 -> 7
B19: 5.0 | C19: Tulburări mentale şi de comportament Психические расстройства и расстройства поведения | D19: F00-F99 | E19: ='12'!E19+'14'!E19 -> 1443 | F19: ='12'!F19+'14'!F19 -> 4 | G19: ='12'!G19+'14'!G19 -> 177 | H19: ='12'!H19+'14'!H19 -> 1052 | I19: ='12'!I19+'14'!I19 -> 85 | J19: ='12'!J19+'14'!J19 -> 125 | K19: ='12'!K19+'14'!K19 -> 419 | L19: ='12'!L19+'14'!L19 -> 760 | M19: ='12'!M19+'14'!M19 -> 264
B20: 5.1 | C20: inclusiv: в том числе: schizofrenia шизофрения | D20: F 20 | E20: ='12'!E20+'14'!E20 -> 5 | F20: ='12'!F20+'14'!F20 -> 0 | G20: ='12'!G20+'14'!G20 -> 0 | H20: ='12'!H20+'14'!H20 -> 4 | I20: ='12'!I20+'14'!I20 -> 1 | J20: ='12'!J20+'14'!J20 -> 0 | K20: ='12'!K20+'14'!K20 -> 2 | L20: ='12'!L20+'14'!L20 -> 3 | M20: ='12'!M20+'14'!M20 -> 0
B21: 5.2 | C21: epilepsia cu tulburări mentale şi de comportament эпилепсия с психическими и поведенческими расстройствами | D21: F02.8; F06.2, 8; F07.0 | E21: ='12'!E21+'14'!E21 -> 76 | F21: ='12'!F21+'14'!F21 -> 0 | G21: ='12'!G21+'14'!G21 -> 2 | H21: ='12'!H21+'14'!H21 -> 47 | I21: ='12'!I21+'14'!I21 -> 10 | J21: ='12'!J21+'14'!J21 -> 17 | K21: ='12'!K21+'14'!K21 -> 5 | L21: ='12'!L21+'14'!L21 -> 43 | M21: ='12'!M21+'14'!M21 -> 28
B22: 5.3 | C22: retard mental умственная отсталость | D22: F70-F79 | E22: ='12'!E22+'14'!E22 -> 1045 | F22: ='12'!F22+'14'!F22 -> 3 | G22: ='12'!G22+'14'!G22 -> 81 | H22: ='12'!H22+'14'!H22 -> 801 | I22: ='12'!I22+'14'!I22 -> 64 | J22: ='12'!J22+'14'!J22 -> 96 | K22: ='12'!K22+'14'!K22 -> 175 | L22: ='12'!L22+'14'!L22 -> 668 | M22: ='12'!M22+'14'!M22 -> 202
B23: 5.4 | C23: tulburări de spectru autist расстройство аутистического спектра | D23: F84-F84.9 | E23: ='12'!E23+'14'!E23 -> 229 | F23: ='12'!F23+'14'!F23 -> 0 | G23: ='12'!G23+'14'!G23 -> 83 | H23: ='12'!H23+'14'!H23 -> 145 | I23: ='12'!I23+'14'!I23 -> 0 | J23: ='12'!J23+'14'!J23 -> 1 | K23: ='12'!K23+'14'!K23 -> 229 | L23: ='12'!L23+'14'!L23 -> 0 | M23: ='12'!M23+'14'!M23 -> 0
B24: 6.0 | C24: Bolile sistemului nervos Болезни нервной системы | D24: G00-G99 | E24: ='12'!E24+'14'!E24 -> 926 | F24: ='12'!F24+'14'!F24 -> 44 | G24: ='12'!G24+'14'!G24 -> 263 | H24: ='12'!H24+'14'!H24 -> 503 | I24: ='12'!I24+'14'!I24 -> 46 | J24: ='12'!J24+'14'!J24 -> 70 | K24: ='12'!K24+'14'!K24 -> 295 | L24: ='12'!L24+'14'!L24 -> 410 | M24: ='12'!M24+'14'!M24 -> 221
B25: 6.1 | C25: inclusiv: paralizia cerebrală infantilă в том числе: детский церебральный паралич | D25: G80 | E25: ='12'!E25+'14'!E25 -> 326 | F25: ='12'!F25+'14'!F25 -> 21 | G25: ='12'!G25+'14'!G25 -> 127 | H25: ='12'!H25+'14'!H25 -> 140 | I25: ='12'!I25+'14'!I25 -> 12 | J25: ='12'!J25+'14'!J25 -> 26 | K25: ='12'!K25+'14'!K25 -> 179 | L25: ='12'!L25+'14'!L25 -> 110 | ... N25: ='12'!N25+'14'!N25 -> 0
B26: 7.0 | C26: Bolile ochiului şi anexelor sale Болезни глаза и его придатков | D26: H00-H59 | E26: ='12'!E26+'14'!E26 -> 270 | F26: ='12'!F26+'14'!F26 -> 9 | G26: ='12'!G26+'14'!G26 -> 37 | H26: ='12'!H26+'14'!H26 -> 180 | I26: ='12'!I26+'14'!I26 -> 19 | J26: ='12'!J26+'14'!J26 -> 25 | K26: ='12'!K26+'14'!K26 -> 45 | L26: ='12'!L26+'14'!L26 -> 98 | M26: ='12'!M26+'14'!M26 -> 127
B27: 8.0 | C27: Bolile urechii şi apofizei mastoide Болезни уха и сосцевидного отростка | D27: H60-H95 | E27: ='12'!E27+'14'!E27 -> 209 | F27: ='12'!F27+'14'!F27 -> 9 | G27: ='12'!G27+'14'!G27 -> 60 | H27: ='12'!H27+'14'!H27 -> 105 | I27: ='12'!I27+'14'!I27 -> 14 | J27: ='12'!J27+'14'!J27 -> 21 | K27: ='12'!K27+'14'!K27 -> 1 | L27: ='12'!L27+'14'!L27 -> 163 | M27: ='12'!M27+'14'!M27 -> 45
B28: 8.1 | C28: inclusiv surditatea в том числе глухота | D28: H90-H91 | E28: ='12'!E28+'14'!E28 -> 208 | F28: ='12'!F28+'14'!F28 -> 9 | G28: ='12'!G28+'14'!G28 -> 60 | H28: ='12'!H28+'14'!H28 -> 104 | I28: ='12'!I28+'14'!I28 -> 14 | J28: ='12'!J28+'14'!J28 -> 21 | K28: ='12'!K28+'14'!K28 -> 1 | L28: ='12'!L28+'14'!L28 -> 162 | M28: ='12'!M28+'14'!M28 -> 45

Sheet 11
B2: Nr rînd № строки | C2: Diagnosticul CDDCM Диагноз КУОВТ | D2: Cifru conform CIM revizia X Шифр по МКБ X пересмотра | E2: Total persoane cu dizabilităţi Всего лиц с ограни-ченными возмож-ностями | F2: Inclusiv în vîrstă В том числе в возрасте | K2: Din numărul total de persoane cu dizabilităţi s-a determinat grad de dizabilitate Из общего числа лиц с ограниченными возможностями определены степень ограничения возможностeй
F3: 0-2 ani 11 luni 29 zile | G3: 3-6 ani 11 luni 29 zile | H3: 7-15 ani 11 luni 29 zile | I3: 16-17ani 11 luni 29 zile | K3: Grad sever тяжелая степень | L3: Grad accentuat выраженная степень | M3: Grad mediu cредняя степень
I4: fete | J4: băieți
B5: A | C5: B | D5: C | E5: 1 | F5: 2 | G5: 3 | H5: 4 | I5: 5 | J5: 6 | K5: 7 | L5: 8 | M5: 9
B6: 9.0 | C6: Bolile aparatului circulator Болезни системы кровообращения | D6: I00-I99 | E6: ='13'!E6+'15'!E6 -> 29 | F6: ='13'!F6+'15'!F6 -> 1 | G6: ='13'!G6+'15'!G6 -> 2 | H6: ='13'!H6+'15'!H6 -> 18 | I6: ='13'!I6+'15'!I6 -> 2 | J6: ='13'!J6+'15'!J6 -> 6 | K6: ='13'!K6+'15'!K6 -> 5 | L6: ='13'!L6+'15'!L6 -> 11 | M6: ='13'!M6+'15'!M6 -> 13
B7: 9.1 | C7: inclusiv reumatismul articular acut в том числе ревматический артрит острый | D7: I 00-I 02 | E7: ='13'!E7+'15'!E7 -> 0 | F7: ='13'!F7+'15'!F7 -> 0 | G7: ='13'!G7+'15'!G7 -> 0 | H7: ='13'!H7+'15'!H7 -> 0 | I7: ='13'!I7+'15'!I7 -> 0 | J7: ='13'!J7+'15'!J7 -> 0 | K7: ='13'!K7+'15'!K7 -> 0 | L7: ='13'!L7+'15'!L7 -> 0 | M7: ='13'!M7+'15'!M7 -> 0
B8: 10.0 | C8: Bolile aparatului respirator Болезни органов дыхания | D8: J00-J99 | E8: ='13'!E8+'15'!E8 -> 138 | F8: ='13'!F8+'15'!F8 -> 1 | G8: ='13'!G8+'15'!G8 -> 14 | H8: ='13'!H8+'15'!H8 -> 98 | I8: ='13'!I8+'15'!I8 -> 11 | J8: ='13'!J8+'15'!J8 -> 14 | K8: ='13'!K8+'15'!K8 -> 4 | L8: ='13'!L8+'15'!L8 -> 18 | M8: ='13'!M8+'15'!M8 -> 116
B9: 10.1 | C9: inclusiv astmul bronşic в том числе бронхиальная астма | D9: J45-J46 | E9: ='13'!E9+'15'!E9 -> 105 | F9: ='13'!F9+'15'!F9 -> 0 | G9: ='13'!G9+'15'!G9 -> 6 | H9: ='13'!H9+'15'!H9 -> 82 | I9: ='13'!I9+'15'!I9 -> 6 | J9: ='13'!J9+'15'!J9 -> 11 | K9: ='13'!K9+'15'!K9 -> 0 | L9: ='13'!L9+'15'!L9 -> 6 | M9: ='13'!M9+'15'!M9 -> 99
B10: 11.0 | C10: Bolile aparatului digestiv Болезни органов пищеварения | D10: K 00-K 93; B 18-B19 | E10: ='13'!E10+'15'!E10 -> 101 | F10: ='13'!F10+'15'!F10 -> 6 | G10: ='13'!G10+'15'!G10 -> 32 | H10: ='13'!H10+'15'!H10 -> 55 | I10: ='13'!I10+'15'!I10 -> 2 | J10: ='13'!J10+'15'!J10 -> 6 | K10: ='13'!K10+'15'!K10 -> 13 | L10: ='13'!L10+'15'!L10 -> 54 | M10: ='13'!M10+'15'!M10 -> 34
A11: 11 | B11: 11.1 | C11: inclusiv: в том числе: ciroză hepatică цирроз печени | D11: K 70.0; K 70.3; K 74,3-K74,6 | E11: ='13'!E11+'15'!E11 -> 1 | F11: ='13'!F11+'15'!F11 -> 0 | G11: ='13'!G11+'15'!G11 -> 0 | H11: ='13'!H11+'15'!H11 -> 1 | I11: ='13'!I11+'15'!I11 -> 0 | J11: ='13'!J11+'15'!J11 -> 0 | K11: ='13'!K11+'15'!K11 -> 1 | L11: ='13'!L11+'15'!L11 -> 0 | M11: ='13'!M11+'15'!M11 -> 0
B12: 11.2 | C12: hepatită cronică хронический гепатит | D12: B 18-B19 K 70.1; K 70.9-K 71.9; K 73.0-K 73.9 | E12: ='13'!E12+'15'!E12 -> 4 | F12: ='13'!F12+'15'!F12 -> 0 | G12: ='13'!G12+'15'!G12 -> 0 | H12: ='13'!H12+'15'!H12 -> 4 | I12: ='13'!I12+'15'!I12 -> 0 | J12: ='13'!J12+'15'!J12 -> 0 | K12: ='13'!K12+'15'!K12 -> 0 | L12: ='13'!L12+'15'!L12 -> 0 | M12: ='13'!M12+'15'!M12 -> 4
B13: 12.0 | C13: Bolile pielii şi ţesutului celular subcutanat Болезни кожи и подкожной клетчатки | D13: L00-L99 | E13: ='13'!E13+'15'!E13 -> 127 | F13: ='13'!F13+'15'!F13 -> 0 | G13: ='13'!G13+'15'!G13 -> 22 | H13: ='13'!H13+'15'!H13 -> 87 | I13: ='13'!I13+'15'!I13 -> 9 | J13: ='13'!J13+'15'!J13 -> 9 | K13: ='13'!K13+'15'!K13 -> 2 | L13: ='13'!L13+'15'!L13 -> 43 | M13: ='13'!M13+'15'!M13 -> 82
B14: 13.0 | C14: Bolile sistemului osteo-articular, ale muşchilor şi ţesutului conjunctiv Болезни костно-суставной системы, мышц и соединительной ткани | D14: M00-M99 | E14: ='13'!E14+'15'!E14 -> 385 | F14: ='13'!F14+'15'!F14 -> 4 | G14: ='13'!G14+'15'!G14 -> 35 | H14: ='13'!H14+'15'!H14 -> 263 | I14: ='13'!I14+'15'!I14 -> 45 | J14: ='13'!J14+'15'!J14 -> 38 | K14: ='13'!K14+'15'!K14 -> 21 | L14: ='13'!L14+'15'!L14 -> 163 | M14: ='13'!M14+'15'!M14 -> 201
B15: 14.0 | C15: Bolile aparatului genito-urinar Болезни мочеполовой системы | D15: N00-N99 | E15: ='13'!E15+'15'!E15 -> 177 | F15: ='13'!F15+'15'!F15 -> 14 | G15: ='13'!G15+'15'!G15 -> 38 | H15: ='13'!H15+'15'!H15 -> 106 | I15: ='13'!I15+'15'!I15 -> 6 | J15: ='13'!J15+'15'!J15 -> 13 | K15: ='13'!K15+'15'!K15 -> 7 | L15: ='13'!L15+'15'!L15 -> 58 | M15: ='13'!M15+'15'!M15 -> 112
B16: 15.0 | C16: Malformaţii congenitale, deformaţii şi anomalii cromosomiale Врожденные пороки развития, деформации и хромосомиальные аномалии | D16: Q00-Q99 | E16: ='13'!E16+'15'!E16 -> 1895 | F16: ='13'!F16+'15'!F16 -> 189 | G16: ='13'!G16+'15'!G16 -> 501 | H16: ='13'!H16+'15'!H16 -> 1034 | I16: ='13'!I16+'15'!I16 -> 66 | J16: ='13'!J16+'15'!J16 -> 105 | K16: ='13'!K16+'15'!K16 -> 369 | L16: ='13'!L16+'15'!L16 -> 658 | M16: ='13'!M16+'15'!M16 -> 868
B17: 15.1 | C17: inclusiv: в том числе: malformaţii congenitale ale aparatului circulator врожденные пороки развития системы кровообращения | D17: Q20- Q28 | E17: ='13'!E17+'15'!E17 -> 642 | F17: ='13'!F17+'15'!F17 -> 60 | G17: ='13'!G17+'15'!G17 -> 161 | H17: ='13'!H17+'15'!H17 -> 365 | I17: ='13'!I17+'15'!I17 -> 23 | J17: ='13'!J17+'15'!J17 -> 33 | K17: ='13'!K17+'15'!K17 -> 54 | L17: ='13'!L17+'15'!L17 -> 155 | M17: ='13'!M17+'15'!M17 -> 433
B18: 15.2 | C18: malformaţii congenitale şi deformaţii ale sistemului osteo-muscular врожденные пороки развития и деформации костно- мышечной системы | D18: Q65-Q79 | E18: ='13'!E18+'15'!E18 -> 394 | F18: ='13'!F18+'15'!F18 -> 40 | G18: ='13'!G18+'15'!G18 -> 91 | H18: ='13'!H18+'15'!H18 -> 222 | I18: ='13'!I18+'15'!I18 -> 17 | J18: ='13'!J18+'15'!J18 -> 24 | K18: ='13'!K18+'15'!K18 -> 40 | L18: ='13'!L18+'15'!L18 -> 129 | M18: ='13'!M18+'15'!M18 -> 225
B19: 16.0 | C19: Leziuni traumatice, otrăviri şi alte consecinţe ale cauzelor externe Травмы, отравления и другие последствия воздействия внешних причин | D19: S 00-T 98 | E19: ='13'!E19+'15'!E19 -> 94 | F19: ='13'!F19+'15'!F19 -> 1 | G19: ='13'!G19+'15'!G19 -> 10 | H19: ='13'!H19+'15'!H19 -> 63 | I19: ='13'!I19+'15'!I19 -> 8 | J19: ='13'!J19+'15'!J19 -> 12 | K19: ='13'!K19+'15'!K19 -> 10 | L19: ='13'!L19+'15'!L19 -> 44 | M19: ='13'!M19+'15'!M19 -> 40
B20: 17.0 | C20: Total Всего | E20: ='13'!E20+'15'!E20 -> 6559 | F20: ='13'!F20+'15'!F20 -> 299 | G20: ='13'!G20+'15'!G20 -> 1292 | H20: ='13'!H20+'15'!H20 -> 4094 | I20: ='13'!I20+'15'!I20 -> 358 | J20: ='13'!J20+'15'!J20 -> 516 | K20: ='13'!K20+'15'!K20 -> 1522 | L20: ='13'!L20+'15'!L20 -> 2859 | M20: ='13'!M20+'15'!M20 -> 2178
B21: 17.1 | C21: inclusiv de sex feminin в том числе женщин | E21: ='13'!E21+'15'!E21 -> 2493 | F21: ='13'!F21+'15'!F21 -> 117 | G21: ='13'!G21+'15'!G21 -> 492 | H21: ='13'!H21+'15'!H21 -> 1526 | I21: ='13'!I21+'15'!I21 -> 358 | J21: X | K21: ='13'!K21+'15'!K21 -> 537 | L21: ='13'!L21+'15'!L21 -> 1109 | M21: ='13'!M21+'15'!M21 -> 847
F22: ='3'!F9+'3'!F12+'3'!F14+'3'!F15+'3'!F18+'3'!F22+'3'!F25+'3'!F26+'4'!F5+'4'!F7+'4'!F9+'4'!F12+'4'!F13+'4'!F14+'4'!F15+'4'!F18 -> 94 | G22: ='3'!G9+'3'!G12+'3'!G14+'3'!G15+'3'!G18+'3'!G22+'3'!G25+'3'!G26+'4'!G5+'4'!G7+'4'!G9+'4'!G12+'4'!G13+'4'!G14+'4'!G15+'4'!G18 -> 151 | H22: ='3'!H9+'3'!H12+'3'!H14+'3'!H15+'3'!H18+'3'!H22+'3'!H25+'3'!H26+'4'!H5+'4'!H7+'4'!H9+'4'!H12+'4'!H13+'4'!H14+'4'!H15+'4'!H18 -> 261 | I22: ='3'!I9+'3'!I12+'3'!I14+'3'!I15+'3'!I18+'3'!I22+'3'!I25+'3'!I26+'4'!I5+'4'!I7+'4'!I9+'4'!I12+'4'!I13+'4'!I14+'4'!I15+'4'!I18 -> 36 | J22: ='3'!J9+'3'!J12+'3'!J14+'3'!J15+'3'!J18+'3'!J22+'3'!J25+'3'!J26+'4'!J5+'4'!J7+'4'!J9+'4'!J12+'4'!J13+'4'!J14+'4'!J15+'4'!J18 -> 35 | K22: ='3'!K9+'3'!K12+'3'!K14+'3'!K15+'3'!K18+'3'!K22+'3'!K25+'3'!K26+'4'!K5+'4'!K7+'4'!K9+'4'!K12+'4'!K13+'4'!K14+'4'!K15+'4'!K18 -> 187 | L22: ='3'!L9+'3'!L12+'3'!L14+'3'!L15+'3'!L18+'3'!L22+'3'!L25+'3'!L26+'4'!L5+'4'!L7+'4'!L9+'4'!L12+'4'!L13+'4'!L14+'4'!L15+'4'!L18 -> 226 | M22: ='3'!M9+'3'!M12+'3'!M14+'3'!M15+'3'!M18+'3'!M22+'3'!M25+'3'!M26+'4'!M5+'4'!M7+'4'!M9+'4'!M12+'4'!M13+'4'!M14+'4'!M15+'4'!M18 -> 172
B23: 18. | C23: Din numărul total de persoane cu dizabilităţi: | G23: stabilită dizabilitate pentru perioada de pînă la 17 ani 11luni 29 zile | L23: 1763
C24: Из числа лиц с ограниченными возможностями: | G24: установлено ограничение возможностей на период до 17 лет 11 месяцев 29 дней

Sheet 12
L1: Anexa la f. nr.2 №27а CDDCM
L2: Вкладной лист к ф. №27а (КУОВТ)
C3: V. REPARTIZAREA PERSOANELOR REEXPERTIZATE CU DIZABILITĂŢI DUPĂ FORMELE DE BOALĂ, VÎRSTĂ, GEN, GRADUL DE DIZABILITATE
C4: РАСПРЕДЕЛЕНИЕ ПОВТОРНО ПРИЗНАННЫХ ЛИЦ С ОГРАНИЧЕННЫМИ ВОЗМОЖНОСТЯМИ ПО ФОРМАМ БОЛЕЗНЕЙ, ВОЗРАСТУ, ПОЛУ И СТЕПЕНИ ОГРАНИЧЕНИЯ ВОЗМОЖНОСТЕЙ
C5: b) locuitori urbani городские жители
B6: Nr rînd № строки | C6: Diagnosticul CDDCM Диагноз КУОВТ | D6: Cifru conform CIM revizia X Шифр по МКБ X пересмотра | E6: Total persoane cu dizabilităţi Всего лиц с ограни-ченными возмож-ностями | F6: Inclusiv în vîrstă В том числе в возрасте | K6: Din numărul total de persoane cu dizabilităţi s-a determinat grad de dizabilitate Из общего числа лиц с ограниченными возможностями определены степень ограничения возможностeй
F7: 0-2 ani 11 luni 29 zile | G7: 3-6 ani 11 luni 29 zile | H7: 7-15 ani 11 luni 29 zile | I7: 16-17ani 11 luni 29 zile | K7: Grad sever тяжелая степень | L7: Grad accentuat выраженная степень | M7: Grad mediu cредняя степень
I8: fete | J8: băieți
B9: A | C9: B | D9: C | E9: 1 | F9: 2 | G9: 3 | H9: 4 | I9: 5 | J9: 6 | K9: 7 | L9: 8 | M9: 9
B10: 1.0 | C10: Bolile infecţioase şi parazitare Инфекционные и паразитарные болезни | D10: А00-А99 B00-B99 | E10: 9 | F10: 0 | G10: 3 | H10: 5 | I10: 0 | J10: 1 | K10: 5 | L10: 0 | M10: 4
B11: 1.1 | C11: inclusiv: в том числе: tuberculoza туберкулез | D11: А15-A19 | E11: 0 | F11: 0 | G11: 0 | H11: 0 | I11: 0 | J11: 0 | K11: 0 | L11: 0 | M11: 0
B12: 1.2 | C12: SIDA СПИД | D12: B20-B24 | E12: 5 | F12: 0 | G12: 3 | H12: 2 | I12: 0 | J12: 0 | K12: 5 | L12: 0 | M12: 0
B13: 2.0 | C13: Tumori Новообразования | D13: C 00- D 48 | E13: 104 | F13: 1 | G13: 22 | H13: 67 | I13: 5 | J13: 9 | K13: 69 | L13: 27 | M13: 8
B14: 2.1 | C14: inclusiv tumori maligne в том числе злокачественные новообразования | D14: С00-С97 | E14: 90 | F14: 1 | G14: 19 | H14: 58 | I14: 4 | J14: 8 | K14: 65 | L14: 22 | M14: 3
B15: 3.0 | C15: Bolile sîngelui, ale organelor hematopoietice şi unele tulburări ale mecanismului imunitar Болезни крови, кроветворных органов и отдельные нарушения с вовлечением иммунного механизмa | D15: D50-D89 | E15: 31 | F15: 0 | G15: 5 | H15: 23 | I15: 0 | J15: 3 | K15: 21 | L15: 10 | M15: 0
A16: 12 | B16: 4.0 | C16: Bolile endocrine,de nutriţie şi metabolism Болезни эндокринной системы, расстройства питания и нарушения обмена веществ | D16: E00-E90 | E16: 219 | F16: 2 | G16: 25 | H16: 168 | I16: 9 | J16: 15 | K16: 44 | L16: 172 | M16: 3
B17: 4.1 | C17: inclusiv: в том числе: diabetul zaharat сахарный диабет | D17: E10-E14 | E17: 176 | F17: 1 | G17: 16 | H17: 138 | I17: 7 | J17: 14 | K17: 25 | L17: 151 | M17: 0
B18: 4.2 | C18: afecţiunile glandei tiroide болезни щитовидной жедезы | D18: E00-E07 | E18: 12 | F18: 0 | G18: 2 | H18: 10 | I18: 0 | J18: 0 | K18: 3 | L18: 7 | M18: 2
B19: 5.0 | C19: Tulburări mentale şi de comportament Психические расстройства и расстройства поведения | D19: F00-F99 | E19: 457 | F19: 1 | G19: 92 | H19: 326 | I19: 14 | J19: 24 | K19: 202 | L19: 193 | M19: 62
B20: 5.1 | C20: inclusiv: в том числе: schizofrenia шизофрения | D20: F 20 | E20: 1 | F20: 0 | G20: 0 | H20: 1 | I20: 0 | J20: 0 | K20: 0 | L20: 1 | M20: 0
B21: 5.2 | C21: epilepsia cu tulburări mentale şi de comportament эпилепсия с психическими и поведенческими расстройствами | D21: F02.8; F06.2, 8; F07.0 | E21: 24 | F21: 0 | G21: 0 | H21: 13 | I21: 5 | J21: 6 | K21: 2 | L21: 15 | M21: 7
B22: 5.3 | C22: retard mental умственная отсталость | D22: F70-F79 | E22: 256 | F22: 1 | G22: 33 | H22: 199 | I22: 8 | J22: 15 | K22: 48 | L22: 164 | M22: 44
B23: 5.4 | C23: tulburări de spectru autist расстройство аутистического спектра | D23: F84-F84.9 | E23: 148 | F23: 0 | G23: 53 | H23: 95 | I23: 0 | J23: 0 | K23: 148 | L23: 0 | M23: 0
B24: 6.0 | C24: Bolile sistemului nervos Болезни нервной системы | D24: G00-G99 | E24: 299 | F24: 9 | G24: 103 | H24: 151 | I24: 16 | J24: 20 | K24: 88 | L24: 133 | M24: 78
B25: 6.1 | C25: inclusiv: paralizia cerebrală infantilă в том числе: детский церебральный паралич | D25: G80 | E25: 102 | F25: 5 | G25: 46 | H25: 41 | I25: 4 | J25: 6 | K25: 56 | L25: 36 | M25: 10
B26: 7.0 | C26: Bolile ochiului şi anexelor sale Болезни глаза и его придатков | D26: H00-H59 | E26: 108 | F26: 5 | G26: 16 | H26: 69 | I26: 9 | J26: 9 | K26: 21 | L26: 41 | M26: 46
B27: 8.0 | C27: Bolile urechii şi apofizei mastoide Болезни уха и сосцевидного отростка | D27: H60-H95 | E27: 80 | F27: 2 | G27: 27 | H27: 41 | I27: 3 | J27: 7 | K27: 0 | L27: 67 | M27: 13
B28: 8.1 | C28: inclusiv surditatea в том числе глухота | D28: H90-H91 | E28: 79 | F28: 2 | G28: 27 | H28: 40 | I28: 3 | J28: 7 | K28: 0 | L28: 66 | M28: 13

Sheet 13
B2: Nr rînd № строки | C2: Diagnosticul CDDCM Диагноз КУОВТ | D2: Cifru conform CIM revizia X Шифр по МКБ X пересмотра | E2: Total persoane cu dizabilităţi Всего лиц с ограни-ченными возмож-ностями | F2: Inclusiv în vîrstă В том числе в возрасте | K2: Din numărul total de persoane cu dizabilităţi s-a determinat grad de dizabilitate Из общего числа лиц с ограниченными возможностями определены степень ограничения возможностeй
F3: 0-2 ani 11 luni 29 zile | G3: 3-6 ani 11 luni 29 zile | H3: 7-15 ani 11 luni 29 zile | I3: 16-17ani 11 luni 29 zile | K3: Grad sever тяжелая степень | L3: Grad accentuat выраженная степень | M3: Grad mediu cредняя степень
I4: fete | J4: băieți
B5: A | C5: B | D5: C | E5: 1 | F5: 2 | G5: 3 | H5: 4 | I5: 5 | J5: 6 | K5: 7 | L5: 8 | M5: 9
B6: 9.0 | C6: Bolile aparatului circulator Болезни системы кровообращения | D6: I00-I99 | E6: 9 | F6: 0 | G6: 2 | H6: 6 | I6: 0 | J6: 1 | K6: 3 | L6: 3 | M6: 3
B7: 9.1 | C7: inclusiv reumatismul articular acut в том числе ревматический артрит острый | D7: I 00-I 02 | E7: 0 | F7: 0 | G7: 0 | H7: 0 | I7: 0 | J7: 0 | K7: 0 | L7: 0 | M7: 0
B8: 10.0 | C8: Bolile aparatului respirator Болезни органов дыхания | D8: J00-J99 | E8: 61 | F8: 1 | G8: 6 | H8: 39 | I8: 7 | J8: 8 | K8: 1 | L8: 8 | M8: 52
B9: 10.1 | C9: inclusiv astmul bronşic в том числе бронхиальная астма | D9: J45-J46 | E9: 49 | F9: 0 | G9: 4 | H9: 35 | I9: 4 | J9: 6 | K9: 0 | L9: 3 | M9: 46
B10: 11.0 | C10: Bolile aparatului digestiv Болезни органов пищеварения | D10: K 00-K 93; B 18-B19 | E10: 46 | F10: 1 | G10: 17 | H10: 26 | I10: 0 | J10: 2 | K10: 5 | L10: 26 | M10: 15
B11: 11.1 | C11: inclusiv: в том числе: ciroză hepatică цирроз печени | D11: K 70.0; K 70.3; K 74,3-K74,6 | E11: 0 | F11: 0 | G11: 0 | H11: 0 | I11: 0 | J11: 0 | K11: 0 | L11: 0 | M11: 0
B12: 11.2 | C12: hepatită cronică хронический гепатит | D12: B 18-B19 K 70.1; K 70.9-K 71.9; K 73.0-K 73.9 | E12: 1 | F12: 0 | G12: 0 | H12: 1 | I12: 0 | J12: 0 | K12: 0 | L12: 0 | M12: 1
B13: 12.0 | C13: Bolile pielii şi ţesutului celular subcutanat Болезни кожи и подкожной клетчатки | D13: L00-L99 | E13: 28 | F13: 0 | G13: 5 | H13: 19 | I13: 1 | J13: 3 | K13: 2 | L13: 9 | M13: 17
A14: 13 | B14: 13.0 | C14: Bolile sistemului osteo-articular, ale muşchilor şi ţesutului conjunctiv Болезни костно-суставной системы, мышц и соединительной ткани | D14: M00-M99 | E14: 128 | F14: 2 | G14: 8 | H14: 95 | I14: 13 | J14: 10 | K14: 6 | L14: 54 | M14: 68
B15: 14.0 | C15: Bolile aparatului genito-urinar Болезни мочеполовой системы | D15: N00-N99 | E15: 66 | F15: 6 | G15: 16 | H15: 38 | I15: 1 | J15: 5 | K15: 5 | L15: 23 | M15: 38
B16: 15.0 | C16: Malformaţii congenitale, deformaţii şi anomalii cromosomiale Врожденные пороки развития, деформации и хромосомиальные аномалии | D16: Q00-Q99 | E16: 781 | F16: 73 | G16: 223 | H16: 423 | I16: 21 | J16: 41 | K16: 171 | L16: 278 | M16: 332
B17: 15.1 | C17: inclusiv: в том числе: malformaţii congenitale ale aparatului circulator врожденные пороки развития системы кровообращения | D17: Q20- Q28 | E17: 247 | F17: 24 | G17: 70 | H17: 141 | I17: 7 | J17: 5 | K17: 23 | L17: 68 | M17: 156
B18: 15.2 | C18: malformaţii congenitale şi deformaţii ale sistemului osteo-muscular врожденные пороки развития и деформации костно- мышечной системы | D18: Q65-Q79 | E18: 141 | F18: 13 | G18: 32 | H18: 79 | I18: 4 | J18: 13 | K18: 9 | L18: 54 | M18: 78
B19: 16.0 | C19: Leziuni traumatice, otrăviri şi alte consecinţe ale cauzelor externe Травмы, отравления и другие последствия воздействия внешних причин | D19: S 00-T 98 | E19: 29 | F19: 1 | G19: 3 | H19: 20 | I19: 3 | J19: 2 | K19: 4 | L19: 13 | M19: 12
B20: 17.0 | C20: Total Всего | E20: 2455 | F20: ='12'!F10+'12'!F12+'12'!F13+'12'!F15+'12'!F16+'12'!F19+'12'!F24+'12'!F26+'12'!F27+'13'!F6+'13'!F8+'13'!F10+'13'!F13+'13'!F14+'13'!F15+'13'!F16+'13'!F19 -> 104 | G20: 573 | H20: 1516 | I20: ='12'!I10+'12'!I12+'12'!I13+'12'!I15+'12'!I16+'12'!I19+'12'!I24+'12'!I26+'12'!I27+'13'!I6+'13'!I8+'13'!I10+'13'!I13+'13'!I14+'13'!I15+'13'!I16+'13'!I19 -> 102 | J20: ='12'!J10+'12'!J12+'12'!J13+'12'!J15+'12'!J16+'12'!J19+'12'!J24+'12'!J26+'12'!J27+'13'!J6+'13'!J8+'13'!J10+'13'!J13+'13'!J14+'13'!J15+'13'!J16+'13'!J19 -> 160 | K20: 647 | L20: ='12'!L10+'12'!L12+'12'!L13+'12'!L15+'12'!L16+'12'!L19+'12'!L24+'12'!L26+'12'!L27+'13'!L6+'13'!L8+'13'!L10+'13'!L13+'13'!L14+'13'!L15+'13'!L16+'13'!L19 -> 1057 | M20: ='12'!M10+'12'!M12+'12'!M13+'12'!M15+'12'!M16+'12'!M19+'12'!M24+'12'!M26+'12'!M27+'13'!M6+'13'!M8+'13'!M10+'13'!M13+'13'!M14+'13'!M15+'13'!M16+'13'!M19 -> 751
B21: 17.1 | C21: inclusiv de sex feminin в том числе женщин | E21: 918 | F21: 37 | G21: 223 | H21: 556 | I21: 102 | J21: 0 | K21: 230 | L21: 419 | M21: 269
F22: ='5'!F9+'5'!F12+'5'!F14+'5'!F15+'5'!F18+'5'!F22+'5'!F25+'5'!F26+'6'!F5+'6'!F7+'6'!F9+'6'!F12+'6'!F13+'6'!F14+'6'!F15+'6'!F18 -> 36 | G22: ='5'!G9+'5'!G12+'5'!G14+'5'!G15+'5'!G18+'5'!G22+'5'!G25+'5'!G26+'6'!G5+'6'!G7+'6'!G9+'6'!G12+'6'!G13+'6'!G14+'6'!G15+'6'!G18 -> 66 | H22: ='5'!H9+'5'!H12+'5'!H14+'5'!H15+'5'!H18+'5'!H22+'5'!H25+'5'!H26+'6'!H5+'6'!H7+'6'!H9+'6'!H12+'6'!H13+'6'!H14+'6'!H15+'6'!H18 -> 75 | I22: ='5'!I9+'5'!I12+'5'!I14+'5'!I15+'5'!I18+'5'!I22+'5'!I25+'5'!I26+'6'!I5+'6'!I7+'6'!I9+'6'!I12+'6'!I13+'6'!I14+'6'!I15+'6'!I18 -> 15 | J22: ='5'!J9+'5'!J12+'5'!J14+'5'!J15+'5'!J18+'5'!J22+'5'!J25+'5'!J26+'6'!J5+'6'!J7+'6'!J9+'6'!J12+'6'!J13+'6'!J14+'6'!J15+'6'!J18 -> 18 | K22: ='5'!K9+'5'!K12+'5'!K14+'5'!K15+'5'!K18+'5'!K22+'5'!K25+'5'!K26+'6'!K5+'6'!K7+'6'!K9+'6'!K12+'6'!K13+'6'!K14+'6'!K15+'6'!K18 -> 74 | L22: ='5'!L9+'5'!L12+'5'!L14+'5'!L15+'5'!L18+'5'!L22+'5'!L25+'5'!L26+'6'!L5+'6'!L7+'6'!L9+'6'!L12+'6'!L13+'6'!L14+'6'!L15+'6'!L18 -> 84 | M22: ='5'!M9+'5'!M12+'5'!M14+'5'!M15+'5'!M18+'5'!M22+'5'!M25+'5'!M26+'6'!M5+'6'!M7+'6'!M9+'6'!M12+'6'!M13+'6'!M14+'6'!M15+'6'!M18 -> 60
B23: 18. | C23: Din numărul total de persoane cu dizabilităţi: | G23: stabilită dizabilitate pentru perioada de pînă la 17 ani 11luni 29 zile | L23: 679
C24: Из числа лиц с ограниченными возможностями: | G24: установлено ограничение возможностей на период до 17 лет 11 месяцев 29 дней

Sheet 14
L1: Anexa la f. nr.2 №27а CDDCM
L2: Вкладной лист к ф. №27а (КУОВТ)
C3: VI. REPARTIZAREA PERSOANELOR REEXPERTIZATE CU DIZABILITĂŢI DUPĂ FORMELE DE BOALĂ, VÎRSTĂ, GEN, GRADUL DE DIZABILITATE
C4: РАСПРЕДЕЛЕНИЕ ПОВТОРНО ПРИЗНАННЫХ ЛИЦ С ОГРАНИЧЕННЫМИ ВОЗМОЖНОСТЯМИ ПО ФОРМАМ БОЛЕЗНЕЙ, ВОЗРАСТУ, ПОЛУ И СТЕПЕНИ ОГРАНИЧЕНИЯ ВОЗМОЖНОСТЕЙ
C5: c) locuitori rurali сельские жители
B6: Nr rînd № строки | C6: Diagnosticul CDDCM Диагноз КУОВТ | D6: Cifru conform CIM revizia X Шифр по МКБ X пересмотра | E6: Total persoane cu dizabilităţi Всего лиц с ограни-ченными возмож-ностями | F6: Inclusiv în vîrstă В том числе в возрасте | K6: Din numărul total de persoane cu dizabilităţi s-a determinat grad de dizabilitate Из общего числа лиц с ограниченными возможностями определены степень ограничения возможностeй
F7: 0-2 ani 11 luni 29 zile | G7: 3-6 ani 11 luni 29 zile | H7: 7-15 ani 11 luni 29 zile | I7: 16-17ani 11 luni 29 zile | K7: Grad sever тяжелая степень | L7: Grad accentuat выраженная степень | M7: Grad mediu cредняя степень
I8: fete | J8: băieți
B9: A | C9: B | D9: C | E9: 1 | F9: 2 | G9: 3 | H9: 4 | I9: 5 | J9: 6 | K9: 7 | L9: 8 | M9: 9
B10: 1.0 | C10: Bolile infecţioase şi parazitare Инфекционные и паразитарные болезни | D10: А00-А99 B00-B99 | E10: 36 | F10: 2 | G10: 6 | H10: 23 | I10: 1 | J10: 4 | K10: 12 | L10: 11 | M10: 13
B11: 1.1 | C11: inclusiv: в том числе: tuberculoza туберкулез | D11: А15-A19 | E11: 2 | F11: 0 | G11: 0 | H11: 2 | I11: 0 | J11: 0 | K11: 1 | L11: 1 | M11: 0
B12: 1.2 | C12: SIDA СПИД | D12: B20-B24 | E12: 10 | F12: 2 | G12: 3 | H12: 3 | I12: 1 | J12: 1 | K12: 10 | L12: 0 | M12: 0
B13: 2.0 | C13: Tumori Новообразования | D13: C 00- D 48 | E13: 136 | F13: 2 | G13: 24 | H13: 89 | I13: 8 | J13: 13 | K13: 98 | L13: 23 | M13: 15
B14: 2.1 | C14: inclusiv tumori maligne в том числе злокачественные новообразования | D14: С00-С97 | E14: 113 | F14: 1 | G14: 22 | H14: 74 | I14: 8 | J14: 8 | K14: 90 | L14: 17 | M14: 6
B15: 3.0 | C15: Bolile sîngelui, ale organelor hematopoietice şi unele tulburări ale mecanismului imunitar Болезни крови, кроветворных органов и отдельные нарушения с вовлечением иммунного механизмa | D15: D50-D89 | E15: 41 | F15: 2 | G15: 6 | H15: 26 | I15: 1 | J15: 6 | K15: 27 | L15: 10 | M15: 4
B16: 4.0 | C16: Bolile endocrine,de nutriţie şi metabolism Болезни эндокринной системы, расстройства питания и нарушения обмена веществ | D16: E00-E90 | E16: 189 | F16: 8 | G16: 10 | H16: 129 | I16: 21 | J16: 21 | K16: 55 | L16: 126 | M16: 8
B17: 4.1 | C17: inclusiv: в том числе: diabetul zaharat сахарный диабет | D17: E10-E14 | E17: 124 | F17: 2 | G17: 5 | H17: 86 | I17: 15 | J17: 16 | K17: 27 | L17: 96 | M17: 1
A18: 14 | B18: 4.2 | C18: afecţiunile glandei tiroide болезни щитовидной жедезы | D18: E00-E07 | E18: 20 | F18: 2 | G18: 0 | H18: 11 | I18: 4 | J18: 3 | K18: 7 | L18: 8 | M18: 5
B19: 5.0 | C19: Tulburări mentale şi de comportament Психические расстройства и расстройства поведения | D19: F00-F99 | E19: 986 | F19: 3 | G19: 85 | H19: 726 | I19: 71 | J19: 101 | K19: 217 | L19: 567 | M19: 202
B20: 5.1 | C20: inclusiv: в том числе: schizofrenia шизофрения | D20: F 20 | E20: 4 | F20: 0 | G20: 0 | H20: 3 | I20: 1 | J20: 0 | K20: 2 | L20: 2 | M20: 0
B21: 5.2 | C21: epilepsia cu tulburări mentale şi de comportament эпилепсия с психическими и поведенческими расстройствами | D21: F02.8; F06.2, 8; F07.0 | E21: 52 | F21: 0 | G21: 2 | H21: 34 | I21: 5 | J21: 11 | K21: 3 | L21: 28 | M21: 21
B22: 5.3 | C22: retard mental умственная отсталость | D22: F70-F79 | E22: 789 | F22: 2 | G22: 48 | H22: 602 | I22: 56 | J22: 81 | K22: 127 | L22: 504 | M22: 158
B23: 5.4 | C23: tulburări de spectru autist расстройство аутистического спектра | D23: F84-F84.9 | E23: 81 | F23: 0 | G23: 30 | H23: 50 | I23: 0 | J23: 1 | K23: 81 | L23: 0 | M23: 0
B24: 6.0 | C24: Bolile sistemului nervos Болезни нервной системы | D24: G00-G99 | E24: 627 | F24: 35 | G24: 160 | H24: 352 | I24: 30 | J24: 50 | K24: 207 | L24: 277 | M24: 143
B25: 6.1 | C25: inclusiv: paralizia cerebrală infantilă в том числе: детский церебральный паралич | D25: G80 | E25: 224 | F25: 16 | G25: 81 | H25: 99 | I25: 8 | J25: 20 | K25: 123 | L25: 74 | M25: 27
B26: 7.0 | C26: Bolile ochiului şi anexelor sale Болезни глаза и его придатков | D26: H00-H59 | E26: 162 | F26: 4 | G26: 21 | H26: 111 | I26: 10 | J26: 16 | K26: 24 | L26: 57 | M26: 81
B27: 8.0 | C27: Bolile urechii şi apofizei mastoide Болезни уха и сосцевидного отростка | D27: H60-H95 | E27: 129 | F27: 7 | G27: 33 | H27: 64 | I27: 11 | J27: 14 | K27: 1 | L27: 96 | M27: 32
B28: 8.1 | C28: inclusiv surditatea в том числе глухота | D28: H90-H91 | E28: 129 | F28: 7 | G28: 33 | H28: 64 | I28: 11 | J28: 14 | K28: 1 | L28: 96 | M28: 32

Sheet 15
B2: Nr rînd № строки | C2: Diagnosticul CDDCM Диагноз КУОВТ | D2: Cifru conform CIM revizia X Шифр по МКБ X пересмотра | E2: Total persoane cu dizabilităţi Всего лиц с ограни-ченными возмож-ностями | F2: Inclusiv în vîrstă В том числе в возрасте | K2: Din numărul total de persoane cu dizabilităţi s-a determinat grad de dizabilitate Из общего числа лиц с ограниченными возможностями определены степень ограничения возможностeй
F3: 0-2 ani 11 luni 29 zile | G3: 3-6 ani 11 luni 29 zile | H3: 7-15 ani 11 luni 29 zile | I3: 16-17ani 11 luni 29 zile | K3: Grad sever тяжелая степень | L3: Grad accentuat выраженная степень | M3: Grad mediu cредняя степень
I4: fete | J4: băieți
B5: A | C5: B | D5: C | E5: 1 | F5: 2 | G5: 3 | H5: 4 | I5: 5 | J5: 6 | K5: 7 | L5: 8 | M5: 9
B6: 9.0 | C6: Bolile aparatului circulator Болезни системы кровообращения | D6: I00-I99 | E6: 20 | F6: 1 | G6: 0 | H6: 12 | I6: 2 | J6: 5 | K6: 2 | L6: 8 | M6: 10
B7: 9.1 | C7: inclusiv reumatismul articular acut в том числе ревматический артрит острый | D7: I 00-I 02 | E7: 0 | F7: 0 | G7: 0 | H7: 0 | I7: 0 | J7: 0 | K7: 0 | L7: 0 | M7: 0
B8: 10.0 | C8: Bolile aparatului respirator Болезни органов дыхания | D8: J00-J99 | E8: 77 | F8: 0 | G8: 8 | H8: 59 | I8: 4 | J8: 6 | K8: 3 | L8: 10 | M8: 64
B9: 10.1 | C9: inclusiv astmul bronşic в том числе бронхиальная астма | D9: J45-J46 | E9: 56 | F9: 0 | G9: 2 | H9: 47 | I9: 2 | J9: 5 | K9: 0 | L9: 3 | M9: 53
B10: 11.0 | C10: Bolile aparatului digestiv Болезни органов пищеварения | D10: K 00-K 93; B 18-B19 | E10: 55 | F10: 5 | G10: 15 | H10: 29 | I10: 2 | J10: 4 | K10: 8 | L10: 28 | M10: 19
B11: 11.1 | C11: inclusiv: в том числе: ciroză hepatică цирроз печени | D11: K 70.0; K 70.3; K 74,3-K74,6 | E11: 1 | F11: 0 | G11: 0 | H11: 1 | I11: 0 | J11: 0 | K11: 1 | L11: 0 | M11: 0
B12: 11.2 | C12: hepatită cronică хронический гепатит | D12: B 18-B19 K 70.1; K 70.9-K 71.9; K 73.0-K 73.9 | E12: 3 | F12: 0 | G12: 0 | H12: 3 | I12: 0 | J12: 0 | K12: 0 | L12: 0 | M12: 3
A13: 15 | B13: 12.0 | C13: Bolile pielii şi ţesutului celular subcutanat Болезни кожи и подкожной клетчатки | D13: L00-L99 | E13: 99 | F13: 0 | G13: 17 | H13: 68 | I13: 8 | J13: 6 | K13: 0 | L13: 34 | M13: 65
B14: 13.0 | C14: Bolile sistemului osteo-articular, ale muşchilor şi ţesutului conjunctiv Болезни костно-суставной системы, мышц и соединительной ткани | D14: M00-M99 | E14: 257 | F14: 2 | G14: 27 | H14: 168 | I14: 32 | J14: 28 | K14: 15 | L14: 109 | M14: 133
B15: 14.0 | C15: Bolile aparatului genito-urinar Болезни мочеполовой системы | D15: N00-N99 | E15: 111 | F15: 8 | G15: 22 | H15: 68 | I15: 5 | J15: 8 | K15: 2 | L15: 35 | M15: 74
B16: 15.0 | C16: Malformaţii congenitale, deformaţii şi anomalii cromosomiale Врожденные пороки развития, деформации и хромосомиальные аномалии | D16: Q00-Q99 | E16: 1114 | F16: 116 | G16: 278 | H16: 611 | I16: 45 | J16: 64 | K16: 198 | L16: 380 | M16: 536
B17: 15.1 | C17: inclusiv: в том числе: malformaţii congenitale ale aparatului circulator врожденные пороки развития системы кровообращения | D17: Q20- Q28 | E17: 395 | F17: 36 | G17: 91 | H17: 224 | I17: 16 | J17: 28 | K17: 31 | L17: 87 | M17: 277
B18: 15.2 | C18: malformaţii congenitale şi deformaţii ale sistemului osteo-muscular врожденные пороки развития и деформации костно- мышечной системы | D18: Q65-Q79 | E18: 253 | F18: 27 | G18: 59 | H18: 143 | I18: 13 | J18: 11 | K18: 31 | L18: 75 | M18: 147
B19: 16.0 | C19: Leziuni traumatice, otrăviri şi alte consecinţe ale cauzelor externe Травмы, отравления и другие последствия воздействия внешних причин | D19: S 00-T 98 | E19: 65 | F19: 0 | G19: 7 | H19: 43 | I19: 5 | J19: 10 | K19: 6 | L19: 31 | M19: 28
B20: 17.0 | C20: Total Всего | E20: 4104 | F20: 195 | G20: 719 | H20: 2578 | I20: 256 | J20: 356 | K20: 875 | L20: ='14'!L10+'14'!L12+'14'!L13+'14'!L15+'14'!L16+'14'!L19+'14'!L24+'14'!L26+'14'!L27+'15'!L6+'15'!L8+'15'!L10+'15'!L13+'15'!L14+'15'!L15+'15'!L16+'15'!L19 -> 1802 | M20: ='14'!M10+'14'!M12+'14'!M13+'14'!M15+'14'!M16+'14'!M19+'14'!M24+'14'!M26+'14'!M27+'15'!M6+'15'!M8+'15'!M10+'15'!M13+'15'!M14+'15'!M15+'15'!M16+'15'!M19 -> 1427
B21: 17.1 | C21: inclusiv de sex feminin в том числе женщин | E21: 1575 | F21: 80 | G21: 269 | H21: 970 | I21: 256 | J21: 0 | K21: 307 | L21: 690 | M21: 578
F22: ='7'!F9+'7'!F12+'7'!F14+'7'!F15+'7'!F18+'7'!F22+'7'!F25+'7'!F26+'8'!F5+'8'!F7+'8'!F9+'8'!F12+'8'!F13+'8'!F14+'8'!F15+'8'!F18 -> 62 | G22: ='7'!G9+'7'!G12+'7'!G14+'7'!G15+'7'!G18+'7'!G22+'7'!G25+'7'!G26+'8'!G5+'8'!G7+'8'!G9+'8'!G12+'8'!G13+'8'!G14+'8'!G15+'8'!G18 -> 91 | H22: ='7'!H9+'7'!H12+'7'!H14+'7'!H15+'7'!H18+'7'!H22+'7'!H25+'7'!H26+'8'!H5+'8'!H7+'8'!H9+'8'!H12+'8'!H13+'8'!H14+'8'!H15+'8'!H18 -> 194 | I22: ='7'!I9+'7'!I12+'7'!I14+'7'!I15+'7'!I18+'7'!I22+'7'!I25+'7'!I26+'8'!I5+'8'!I7+'8'!I9+'8'!I12+'8'!I13+'8'!I14+'8'!I15+'8'!I18 -> 31 | J22: ='7'!J9+'7'!J12+'7'!J14+'7'!J15+'7'!J18+'7'!J22+'7'!J25+'7'!J26+'8'!J5+'8'!J7+'8'!J9+'8'!J12+'8'!J13+'8'!J14+'8'!J15+'8'!J18 -> 29 | K22: ='7'!K9+'7'!K12+'7'!K14+'7'!K15+'7'!K18+'7'!K22+'7'!K25+'7'!K26+'8'!K5+'8'!K7+'8'!K9+'8'!K12+'8'!K13+'8'!K14+'8'!K15+'8'!K18 -> 127 | L22: ='7'!L9+'7'!L12+'7'!L14+'7'!L15+'7'!L18+'7'!L22+'7'!L25+'7'!L26+'8'!L5+'8'!L7+'8'!L9+'8'!L12+'8'!L13+'8'!L14+'8'!L15+'8'!L18 -> 158 | M22: ='7'!M9+'7'!M12+'7'!M14+'7'!M15+'7'!M18+'7'!M22+'7'!M25+'7'!M26+'8'!M5+'8'!M7+'8'!M9+'8'!M12+'8'!M13+'8'!M14+'8'!M15+'8'!M18 -> 130
B23: 18. | C23: Din numărul total de persoane cu dizabilităţi: | G23: stabilită dizabilitate pentru perioada de pînă la 17 ani 11luni 29 zile | L23: 1084
C24: Из числа лиц с ограниченными возможностями: | G24: установлено ограничение возможностей на период до 17 лет 11 месяцев 29 дней

Sheet indicatori
A1: Calcularea indicatorilor Forma 27a
A2: «PRIVIND DETERMINAREA DIZABILITĂŢII LA COPII»
A3: Cod | B3: Denumire indicator | C3: Valoare absoluta | D3: Indicator
A4: f27a_i1 | B4: REŢEAUA ŞI CADRELE CDDCM (CT, CS) Total CDDCM | C4: ='2'!H7 -> 1
A5: f27a_i2 | B5: Din numărul total - CDDCM teritoriale | C5: ='2'!H8 -> 168
A6: f27a_i3 | B6: Din numărul total - CDDCM specializate | C6: ='2'!H9 -> 37
A7: f27a_i4 | B7: Total cadre în CDDCM | C7: ='2'!H10 -> 31
A8: f27a_i5 | B8: Număr medici experţi | C8: ='2'!Q7 -> 10
A9: f27a_i6 | B9: Din ei, aflaţi la lucrul de bază în CDDCM | C9: ='2'!Q8 -> 3
A10: f27a_i7 | B10: Număr asistenţi sociali | C10: ='2'!Q9 -> 0
A11: f27a_i8 | B11: Număr psihopedagogi | C11: ='2'!Q10 -> 0
A12: f27a_i9 | B12: ACTIVITATEA CDDCM Număr şedinţe | C12: ='2'!D16 -> 0
A13: f27a_i10 | B13: inclusiv în deplasare | C13: ='2'!G16 -> 0
A14: f27a_i11 | B14: inclusiv vizite la domicilui | C14: ='2'!L16 -> 0
A15: f27a_i12 | B15: REZULTATELE EXPERTIZĂRII PRIMARE A DIZABILITĂȚII TOTAL Total adresări la CDDCM | C15: ='2'!F27 -> 1313
A16: f27a_i13 | B16: din ei: recunoscute persoane cu dizabilităţi - total | C16: ='2'!F28 -> 1243
A17: f27a_i14 | B17: inclusiv: grad sever | C17: ='2'!F29 -> 478
A18: f27a_i15 | B18: grad accentuat | C18: ='2'!F30 -> 486
A19: f27a_i16 | B19: grad mediu | C19: ='2'!F31 -> 279
A20: f27a_i17 | B20: s-a prelungit cancediul medical | C20: ='2'!F32 -> 0
A21: f27a_i18 | B21: nu s-au încadrat în grad de dizabilitate | C21: ='2'!F33 -> 70
A22: f27a_i19 | B22: total concluzii pentru tipuri de asistenţă socială | C22: ='2'!F34 -> 298
A23: f27a_i20 | B23: necesită asistenţă personală | C23: ='2'!F35 -> 15
A24: f27a_i21 | B24: Localităţi urbane - TOTAL Total adresări la CDDCM | C24: ='2'!G27 -> 492
A25: f27a_i22 | B25: din ei: recunoscute persoane cu dizabilităţi - total | C25: ='2'!G28 -> 475
A26: f27a_i23 | B26: inclusiv: grad sever | C26: ='2'!G29 -> 212
A27: f27a_i24 | B27: grad accentuat | C27: ='2'!G30 -> 179
A28: f27a_i25 | B28: grad mediu | C28: ='2'!G31 -> 84
A29: f27a_i26 | B29: s-a prelungit cancediul medical | C29: ='2'!G32 -> 0
A30: f27a_i27 | B30: nu s-au încadrat în grad de dizabilitate | C30: ='2'!G33 -> 17
A31: f27a_i28 | B31: total concluzii pentru tipuri de asistenţă socială | C31: ='2'!G34 -> 144
A32: f27a_i29 | B32: necesită asistenţă personală | C32: ='2'!G35 -> 7
A33: f27a_i30 | B33: Localităţi urbane - 0-2 ani 11 luni 29 zile Total adresări la CDDCM | C33: ='2'!H27 -> 125
A34: f27a_i31 | B34: din ei: recunoscute persoane cu dizabilităţi - total | C34: ='2'!H28 -> 122
A35: f27a_i32 | B35: inclusiv: grad sever | C35: ='2'!H29 -> 70
A36: f27a_i33 | B36: grad accentuat | C36: ='2'!H30 -> 40
A37: f27a_i34 | B37: grad mediu | C37: ='2'!H31 -> 12
A38: f27a_i35 | B38: s-a prelungit cancediul medical | C38: ='2'!H32 -> 0
A39: f27a_i36 | B39: nu s-au încadrat în grad de dizabilitate | C39: ='2'!H33 -> 3
A40: f27a_i37 | B40: total concluzii pentru tipuri de asistenţă socială | C40: ='2'!H34 -> 41
A41: f27a_i38 | B41: necesită asistenţă personală | C41: ='2'!H35 -> 5
A42: f27a_i39 | B42: Localităţi urbane - 3-6 ani 11 luni 29 zile Total adresări la CDDCM | C42: ='2'!I27 -> 170
A43: f27a_i40 | B43: din ei: recunoscute persoane cu dizabilităţi - total | C43: ='2'!I28 -> 166
A44: f27a_i41 | B44: inclusiv: grad sever | C44: ='2'!I29 -> 92
A45: f27a_i42 | B45: grad accentuat | C45: ='2'!I30 -> 51
A46: f27a_i43 | B46: grad mediu | C46: ='2'!I31 -> 23
A47: f27a_i44 | B47: s-a prelungit cancediul medical | C47: ='2'!I32 -> 0
A48: f27a_i45 | B48: nu s-au încadrat în grad de dizabilitate | C48: ='2'!I33 -> 4
A49: f27a_i46 | B49: total concluzii pentru tipuri de asistenţă socială | C49: ='2'!I34 -> 72
A50: f27a_i47 | B50: necesită asistenţă personală | C50: ='2'!I35 -> 2
A51: f27a_i48 | B51: Localităţi urbane - 7-15 ani 11 luni 29 zile Total adresări la CDDCM | C51: ='2'!J27 -> 168
A52: f27a_i49 | B52: din ei: recunoscute persoane cu dizabilităţi - total | C52: ='2'!J28 -> 159
A53: f27a_i50 | B53: inclusiv: grad sever | C53: ='2'!J29 -> 45
A54: f27a_i51 | B54: grad accentuat | C54: ='2'!J30 -> 74
A55: f27a_i52 | B55: grad mediu | C55: ='2'!J31 -> 40
A56: f27a_i53 | B56: s-a prelungit cancediul medical | C56: ='2'!J32 -> 0
A57: f27a_i54 | B57: nu s-au încadrat în grad de dizabilitate | C57: ='2'!J33 -> 9
A58: f27a_i55 | B58: total concluzii pentru tipuri de asistenţă socială | C58: ='2'!J34 -> 29
A59: f27a_i56 | B59: necesită asistenţă personală | C59: ='2'!J35 -> 0
A60: f27a_i57 | B60: Localităţi urbane - 16-17 ani 11 luni 29 zile fete Total adresări la CDDCM | C60: ='2'!K27 -> 11
A61: f27a_i58 | B61: din ei: recunoscute persoane cu dizabilităţi - total | C61: ='2'!K28 -> 10
A62: f27a_i59 | B62: inclusiv: grad sever | C62: ='2'!K29 -> 2
A63: f27a_i60 | B63: grad accentuat | C63: ='2'!K30 -> 3
A64: f27a_i61 | B64: grad mediu | C64: ='2'!K31 -> 5
A65: f27a_i62 | B65: s-a prelungit cancediul medical | C65: ='2'!K32 -> 0
A66: f27a_i63 | B66: nu s-au încadrat în grad de dizabilitate | C66: ='2'!K33 -> 1
A67: f27a_i64 | B67: total concluzii pentru tipuri de asistenţă socială | C67: ='2'!K34 -> 0
A68: f27a_i65 | B68: necesită asistenţă personală | C68: ='2'!K35 -> 0
A69: f27a_i66 | B69: Localităţi urbane - 16-17 ani 11 luni 29 zile băieți Total adresări la CDDCM | C69: ='2'!L27 -> 18
A70: f27a_i67 | B70: din ei: recunoscute persoane cu dizabilităţi - total | C70: ='2'!L28 -> 18
A71: f27a_i68 | B71: inclusiv: grad sever | C71: ='2'!L29 -> 3
A72: f27a_i69 | B72: grad accentuat | C72: ='2'!L30 -> 11
A73: f27a_i70 | B73: grad mediu | C73: ='2'!L31 -> 4
A74: f27a_i71 | B74: s-a prelungit cancediul medical | C74: ='2'!L32 -> 0
A75: f27a_i72 | B75: nu s-au încadrat în grad de dizabilitate | C75: ='2'!L33 -> 0
A76: f27a_i73 | B76: total concluzii pentru tipuri de asistenţă socială | C76: ='2'!L34 -> 2
A77: f27a_i74 | B77: necesită asistenţă personală | C77: ='2'!L35 -> 0
A78: f27a_i75 | B78: Localităţi rurale - TOTAL Total adresări la CDDCM | C78: ='2'!M27 -> 821
A79: f27a_i76 | B79: din ei: recunoscute persoane cu dizabilităţi - total | C79: ='2'!M28 -> 768
A80: f27a_i77 | B80: inclusiv: grad sever | C80: ='2'!M29 -> 266
A81: f27a_i78 | B81: grad accentuat | C81: ='2'!M30 -> 307
A82: f27a_i79 | B82: grad mediu | C82: ='2'!M31 -> 195
A83: f27a_i80 | B83: s-a prelungit cancediul medical | C83: ='2'!M32 -> 0
A84: f27a_i81 | B84: nu s-au încadrat în grad de dizabilitate | C84: ='2'!M33 -> 53
A85: f27a_i82 | B85: total concluzii pentru tipuri de asistenţă socială | C85: ='2'!M34 -> 154
A86: f27a_i83 | B86: necesită asistenţă personală | C86: ='2'!M35 -> 8
A87: f27a_i84 | B87: Localităţi rurale - 0-2 ani 11 luni 29 zile Total adresări la CDDCM | C87: ='2'!N27 -> 223
A88: f27a_i85 | B88: din ei: recunoscute persoane cu dizabilităţi - total | C88: ='2'!N28 -> 211
A89: f27a_i86 | B89: inclusiv: grad sever | C89: ='2'!N29 -> 111
A90: f27a_i87 | B90: grad accentuat | C90: ='2'!N30 -> 67
A91: f27a_i88 | B91: grad mediu | C91: ='2'!N31 -> 33
A92: f27a_i89 | B92: s-a prelungit cancediul medical | C92: ='2'!N32 -> 0
A93: f27a_i90 | B93: nu s-au încadrat în grad de dizabilitate | C93: ='2'!N33 -> 12
A94: f27a_i91 | B94: total concluzii pentru tipuri de asistenţă socială | C94: ='2'!N34 -> 67
A95: f27a_i92 | B95: necesită asistenţă personală | C95: ='2'!N35 -> 5
A96: f27a_i93 | B96: Localităţi rurale - 3-6 ani 11 luni 29 zile Total adresări la CDDCM | C96: ='2'!O27 -> 195
A97: f27a_i94 | B97: din ei: recunoscute persoane cu dizabilităţi - total | C97: ='2'!O28 -> 180
A98: f27a_i95 | B98: inclusiv: grad sever | C98: ='2'!O29 -> 71
A99: f27a_i96 | B99: grad accentuat | C99: ='2'!O30 -> 74
A100: f27a_i97 | B100: grad mediu | C100: ='2'!O31 -> 35
...
