Workbook
Name Raion: '1'!$H$33
Name Raion: '1'!$H$33
Name Rubrici: [1]populatia!$D$6:$DA$6
Name Tabel_Populatia: [1]populatia!$D$6:$DA$1000

Sheet 1
A1: RAPORT STATISTIC DE RAMURĂ ОТРАСЛЕВОЙ СТАТИСТИЧЕСКИЙ ОТЧЁТ
K3: In conformitate cu Legea Republicii Moldova Nr. 412-XV din 9.12.2004 «Cu privire la statistica oficială» organele statisticii oficiale: -au dreptul să obţină date statistice de la toate persoanele fizice si juridice, indiferent de forma de proprietate; -asigură comfidențialitatea datelor individuale obținute și utilizarea lor numai în scopuri statistice. Refuzul, prezentarea cu întîrziere a datelor statistice, prezentarea datelor eronate sau în volum incomplet constituie contravenție administrativă şi se sancţionează conform legislaţiei în vigoare. В соответствии с Законом Республики Молдова N 412-XV oт 9.12.2004 «Об официальной статистике» органы официальной статистики: -имеют право получать статистические данные от всех физических и юридических лиц независимо от формы собственности; -гарантируют конфиденциальность полученных итдивидуальных данных и их использование только в статистических целях. Отказ, представление статистических данных с опозданием, представление ошибочных данных или не в полном объеме, является административным правонарушением и влекут за собой применение санкций в соответствии с действующим законодательством. Aprobat de MSMPSF al Republicii Moldova prin ordinul Nr. 1250 din 04.11.2019 Утвержден приказом МЗТСЗ Республики Молдова № 1250 от 04.11.2019 Prezintă: -Consiliul Naţional pentru Determinarea Dizabilităţii şi Capacităţii de Muncă -MSMPS al Republicii Moldova (către Agenția Națională pentru Sănătate Publică) în termenele fixate de ultimul; -MSMPS al Republicii Moldova (Agenția Națională pentru Sănătate Publică) centralizator anual la 3 martie - Biroului Naţional de Statistică. Представляют: - Национальный Консилиум Установления Ограничения Возможностей и Трудоспособности- МЗТСЗ РМ (Национальному Агенству Общественного Здоровья в установленные последним сроки; -МЗТСЗ Республики Молдова (Национальное Агенство Общественного Здоровья) сводные данные за год 3 марта Национальному Бюро Статистики.
A4: Denumirea: Наименование:
A5: CNDDCM
A9: Adresa: | B9: Адрес:
F10: RAPORT STATISTIC Nr 27
A11: Raionul (municipiul) | C11: mun. Chișinău | F11: (trimestrial cumulativ, anual)
A12: Район (муниципий)
F14: PRIVIND DETERMINAREA DIZABILITĂŢII ŞI CAPACITĂŢII DE MUNCĂ LA ADULŢI
A17: Strada | B17: Alecsandri | D17: , nr | E17: 1
A18: Улица | F18: СТАТИСТИЧЕСКИЙ ОТЧЁТ №27 (годовой)
F19: (квартальный накопительный, годовой)
A20: Cod CUIÎO
A21: Код
F22: ОБ УСТАНОВЛЕНИИ ОГРАНИЧЕНИЯ ВОЗМОЖНОСТЕЙ И ТРУДОСПОСОБНОСТИ У ВЗРОСЛЫХ
A23: Cod INDO
A24: Код
C25: Cod CAEM, ediţia 2005
A26: Activitatea principală
A27: Основной вид деятельности | G27: pe 20 | H27: 20
G28: за
F32: CODUL MUNICIPIULUI / RAIONULUI
A33: Conducătorul L.Ş. Руководитель М.П. | H33: 41
A34: Руководитель | D34: М.П.
A36: Numele şi coordonatele executantului
A37: Фамилия и координаты исполнителя
A39: Dl (dna) | B39: Stela Pînzaru
A40: Tel: | B40: 22820677
F41: Ziua | G41: Luna | I41: Anul
A42: e-mail | F42: 18 | G42: 2 | I42: 2021

Sheet 2
B2: I. REŢEAUA ŞI CADRELE CDDCM (CT, CS)
B3: СЕТЬ И КАДРЫ КУОВТ (ТК, СК)
A5: Nr. rînd № стр. | B5: Denumirea Наименование | H5: Număr CDDCM Число КУОВТ
A6: A | B6: B | H6: 1
A7: 1 | B7: Total CDDCM Всего КУОВТ | H7: 1
A8: 2 | B8: Total cadre în CDDCM Всего кадры в КУОВТ | H8: 134
A9: 3 | B9: Număr medici experţi Число врачей экспертов | H9: 37
A10: 4 | B10: Din ei, aflaţi la lucrul de bază în CDDCM Из них работают в КУОВТ на основной работе | H10: 31
A11: 5 | B11: Număr asistenţi sociali Число соц. pаботников | H11: 10
A12: 6 | B12: Număr psihopedagogi Число психоредагогов | H12: 3
B15: II. ACTIVITATEA CDDCM
B16: ДЕЯТЕЛЬНОСТЬ КУОВТ
A18: 1. Număr şedinţe
A19: Число заседаний
B21: III. REZULTATELE EXPERTIZĂRII PRIMARE A DIZABILITĂȚII ȘI CAPACITĂȚII DE MUNCĂ (adulți)
B22: РЕЗУЛЬТАТЫ ПЕРВИЧНOГO ОСВИДЕТЕЛЬСТВОВАНИЯ ОГРАНИЧЕНИЯ ВОЗМОЖНОСТЕЙ И ТРУДОСПОСОБНОСТЬ (взрослые)
A24: Nr. rînd № стр. | B24: Denumirea Наименование | F24: Total Всего | G24: Din ei locuiesc: Из них проживающих:
G25: în localităţi urbane в городской местности | J25: în localităţi rurale в сельской местности
G26: total всего | H26: inclusiv în vîrstă aptă de muncă в.т.ч. в трудоспо-собном возрасте | I26: inclusiv în vîrstă pensio-nară в том числе в пенси-онном возрасте | J26: total всего | K26: inclusiv în vîrstă aptă de muncă в.т.ч. в трудоспо-собном возрасте | L26: inclusiv în vîrstă pensio-nară в том числе в пенси-онном возрасте
A27: A | B27: B | F27: 1 | G27: 2 | H27: 3 | I27: 4 | J27: 5 | K27: 6 | L27: 7
A28: 1 | B28: Total adresări la CDDCM Всего обращений на КУОВТ | F28: 10142 | G28: 3540 | H28: 3242 | I28: 298 | J28: 6602 | K28: 6234 | L28: 368
A29: 2 | B29: din ei: из них: recunoscute persoane cu dizabilităţi - total признано лиц с ограниченными возможностями -всего | F29: 9174 | G29: 3259 | H29: 2967 | I29: 292 | J29: 5915 | K29: 5548 | L29: 367
A30: 2.1 | B30: inclusiv: в том числе: grad sever (capacitatea de мuncă 0-20%) тяжелая степень (трудоспособность 0-20%) | F30: 1632 | G30: 607 | H30: 432 | I30: 175 | J30: 1025 | K30: 783 | L30: 242
A31: 2.2 | B31: grad accentuat (capacitatea de мuncă 25-40%) выраженная степень (трудоспособность 25-40%) | F31: 3869 | G31: 1444 | H31: 1364 | I31: 80 | J31: 2425 | K31: 2338 | L31: 87
A32: 2.3 | B32: grad mediu (capacitatea de мuncă 45-60%) средняя степень (трудоспособность 45-60%) | F32: 3673 | G32: 1208 | H32: 1171 | I32: 37 | J32: 2465 | K32: 2427 | L32: 38
A33: 3 | B33: s-a prelungit concediul medical* продлен медицинский отпуск
A34: 4 | B34: nu s-au încadrat în grad de dizabilitate не определена группа инвалидности | F34: 968 | G34: 281 | H34: 275 | I34: 6 | J34: 687 | K34: 686 | L34: 1
A35: 5 | B35: total concluzii pentru tipuri de asistenţă socială всего заключений на видах социальной помощи | F35: 955 | G35: 357 | H35: 223 | I35: 134 | J35: 598 | K35: 394 | L35: 204
A36: 6 | B36: necesită asistenţă personală нуждающиеся в персональной поддержке | F36: 20 | G36: 11 | H36: 9 | I36: 2 | J36: 9 | K36: 8 | L36: 1
A37: 7 | B37: persoane cu dizabilităţi în urma accidentelor de muncă лица с ограниченными возможностями вследствие трудового увечья | F37: 8 | G37: 3 | H37: 3 | J37: 5 | K37: 5
A38: 8 | B38: persoane cu dizabilităţi în urma bolilor profesionale лица с ограниченными возможностями вследствие профессионального заболевания | F38: 1 | G38: 1 | H38: 1
A39: 9 | B39: persoane cu dizabilităţi în urma avariei de la СA Cernobîl лица с ограниченными возможностями вследствие аварии Чернобыльской АЭС | F39: 8 | G39: 8 | H39: 7 | I39: 1
A40: 10 | B40: persoane cu dizabilităţi din numărul militarilor лица с ограниченными возможностями из числа военнослужащих | F40: 14 | G40: 8 | H40: 8 | J40: 6 | K40: 5 | L40: 1
A41: 11 | B41: persoane cu dizabilităţi din copilărie лица с ограниченными возможностями с детства | F41: 166 | G41: 61 | H41: 54 | I41: 7 | J41: 105 | K41: 104 | L41: 1
F42: ='4'!E19 -> 9174 | G42: ='6'!E19 -> 3259 | H42: ='6'!M19+'6'!N19+'6'!O19 -> 2967 | I42: ='6'!P19+'6'!Q19+'6'!R19 -> 292 | J42: ='8'!E19 -> 5915 | K42: ='8'!M19+'8'!N19+'8'!O19 -> 5548 | L42: ='8'!P19+'8'!Q19+'8'!R19 -> 367
A43: * Rîndul 3 se abrogă de la 01.01.2020 | F43: ='4'!M19+'4'!P19 -> 1632 | G43: ='6'!M19+'6'!P19 -> 607 | H43: ='6'!M19 -> 432 | I43: ='6'!P19 -> 175 | J43: ='8'!M19+'8'!P19 -> 1025 | K43: ='8'!M19 -> 783 | L43: ='8'!P19 -> 242
F44: ='4'!N19+'4'!Q19 -> 3869 | G44: ='6'!N19+'6'!Q19 -> 1444 | H44: ='6'!N19 -> 1364 | I44: ='6'!Q19 -> 80 | J44: ='8'!N19+'8'!Q19 -> 2425 | K44: ='8'!N19 -> 2338 | L44: ='8'!Q19 -> 87
F45: ='4'!O19+'4'!R19 -> 3673 | G45: ='6'!O19+'6'!R19 -> 1208 | H45: ='6'!O19 -> 1171 | I45: ='6'!R19 -> 37 | J45: ='8'!O19+'8'!R19 -> 2465 | K45: ='8'!O19 -> 2427 | L45: ='8'!R19 -> 38

Sheet 3
P1: Anexa la f. nr.27 (CDDCM)
P2: Вкладной лист к ф. №27 (КУОВТ)
C3: IV. REPARTIZAREA PERSOANELOR CU DIZABILITĂŢI CAZ NOU DUPĂ FORMELE DE BOALĂ, VÎRSTĂ, GEN, GRADUL DE DIZABILITATE ŞI CAPACITATE DE MUNCĂ
C4: РАСПРЕДЕЛЕНИЕ ПЕРВИЧНО ПРИЗНАННЫХ ЛИЦ С ОГРАНИЧЕННЫМИ ВОЗМОЖНОСТЯМИ ПО ФОРМАМ БОЛЕЗНЕЙ, ВОЗРАСТУ, ПОЛУ И СТЕПЕНИ ОГРАНИЧЕНИЯ ВОЗМОЖНОСТЕЙ
C5: a) total populaţie всего население
B6: Nr rînd № строки | C6: Diagnosticul CDDCM Диагноз КУОВТ | D6: Cifru conform CIM revizia X Шифр по МКБ X пересмотра | E6: Total persoane cu dizabilităţi Всего лиц с ограни-ченными возмож-ностями | F6: Inclusiv în vîrstă В том числе в возрасте | M6: Din numărul total de persoane cu dizabilităţi s-a determinat grad de dizabilitate şi capacitate de muncă Из общего числа лиц с ограниченными возможностями определены степень ограничения возможностeй и трудоспособность
F7: 18- 29 ani | G7: 30-39 ani | H7: 40-49 ani | I7: femei женщины | K7: bărbaţi мужчины | M7: În vîrstă aptă de muncă В трудоспособном возрасте | P7: Vîrstă pensionară Пенсионный возраст
I8: 50-58 ani 5 luni | J8: 58 ani 6 luni şi mai mult | K8: 50-62 ani | L8: 63 şi mai mult | M8: Grad sever тяжелая степень (0-20%) | N8: Grad accentuat выраженная степень (25-40%) | O8: Grad mediu cредняя степень (45-60%) | P8: Grad sever тяжелая степень (0-20%) | Q8: Grad accentuat выраженная степень (25-40%) | R8: Grad mediu cредняя степень (45-60%)
B9: A | C9: B | D9: C | E9: 1 | F9: 2 | G9: 3 | H9: 4 | I9: 5 | J9: 6 | K9: 7 | L9: 8 | M9: 9 | N9: 10 | O9: 11 | P9: 12 | Q9: 13 | R9: 14
B10: 1 | C10: Tuberculoză Туберкулез | D10: А15-А19 B20.0 | E10: ='5'!E10+'7'!E10 -> 394 | F10: ='5'!F10+'7'!F10 -> 38 | G10: ='5'!G10+'7'!G10 -> 116 | H10: ='5'!H10+'7'!H10 -> 118 | I10: 10 | J10: ='5'!J10+'7'!J10 -> 3 | K10: ='5'!K10+'7'!K10 -> 106 | L10: ='5'!L10+'7'!L10 -> 3 | M10: ='5'!M10+'7'!M10 -> 14 | N10: ='5'!N10+'7'!N10 -> 355 | O10: ='5'!O10+'7'!O10 -> 21 | P10: ='5'!P10+'7'!P10 -> 1 | Q10: ='5'!Q10+'7'!Q10 -> 3 | R10: ='5'!R10+'7'!R10 -> 0
B11: 1.1 | C11: inclusiv: в том числе: tuberculoza aparatului respirator туберкулез органов дыхания | D11: А15-A16 | E11: ='5'!E11+'7'!E11 -> 371 | F11: ='5'!F11+'7'!F11 -> 36 | G11: ='5'!G11+'7'!G11 -> 108 | H11: ='5'!H11+'7'!H11 -> 112 | I11: ='5'!I11+'7'!I11 -> 9 | J11: ='5'!J11+'7'!J11 -> 3 | K11: ='5'!K11+'7'!K11 -> 100 | L11: ='5'!L11+'7'!L11 -> 3 | ... R11: ='5'!R11+'7'!R11 -> 0
B12: 1.2 | C12: tuberculoza asociată cu SIDA туберкулез ассоциированный со СПИДом | D12: B20.0 | E12: ='5'!E12+'7'!E12 -> 19 | F12: ='5'!F12+'7'!F12 -> 2 | G12: ='5'!G12+'7'!G12 -> 7 | H12: ='5'!H12+'7'!H12 -> 5 | I12: ='5'!I12+'7'!I12 -> 0 | J12: ='5'!J12+'7'!J12 -> 0 | K12: ='5'!K12+'7'!K12 -> 5 | L12: ='5'!L12+'7'!L12 -> 0 | ... R12: ='5'!R12+'7'!R12 -> 0
B13: 2 | C13: SIDA СПИД | D13: B20-B24 | E13: ='5'!E13+'7'!E13 -> 44 | F13: ='5'!F13+'7'!F13 -> 6 | G13: ='5'!G13+'7'!G13 -> 21 | H13: ='5'!H13+'7'!H13 -> 13 | I13: ='5'!I13+'7'!I13 -> 1 | J13: ='5'!J13+'7'!J13 -> 0 | K13: ='5'!K13+'7'!K13 -> 3 | L13: ='5'!L13+'7'!L13 -> 0 | ... R13: ='5'!R13+'7'!R13 -> 0
B14: 3 | C14: Tumori Новообразования | D14: C 00- D 48 | E14: ='5'!E14+'7'!E14 -> 1869 | F14: ='5'!F14+'7'!F14 -> 71 | G14: ='5'!G14+'7'!G14 -> 177 | H14: ='5'!H14+'7'!H14 -> 490 | I14: ='5'!I14+'7'!I14 -> 404 | J14: ='5'!J14+'7'!J14 -> 92 | K14: ='5'!K14+'7'!K14 -> 573 | L14: ='5'!L14+'7'!L14 -> 62 | ... R14: ='5'!R14+'7'!R14 -> 15
B15: 3.1 | C15: inclusiv tumori maligne в том числе злокачественные новообразования | D15: C00-C97 | E15: ='5'!E15+'7'!E15 -> 1741 | F15: ='5'!F15+'7'!F15 -> 58 | G15: ='5'!G15+'7'!G15 -> 164 | H15: ='5'!H15+'7'!H15 -> 450 | I15: ='5'!I15+'7'!I15 -> 374 | J15: ='5'!J15+'7'!J15 -> 89 | K15: ='5'!K15+'7'!K15 -> 548 | L15: ='5'!L15+'7'!L15 -> 58 | ... R15: ='5'!R15+'7'!R15 -> 14
A16: 3 | B16: 4 | C16: Bolile endocrine,de nutriţie şi metabolism Болезни эндокринной системы, расстройства питания и нарушения обмена веществ | D16: E00-E90 | E16: ='5'!E16+'7'!E16 -> 593 | F16: ='5'!F16+'7'!F16 -> 39 | G16: ='5'!G16+'7'!G16 -> 41 | H16: ='5'!H16+'7'!H16 -> 115 | I16: ='5'!I16+'7'!I16 -> 159 | J16: ='5'!J16+'7'!J16 -> 33 | K16: ='5'!K16+'7'!K16 -> 189 | L16: ='5'!L16+'7'!L16 -> 17 | ... R16: ='5'!R16+'7'!R16 -> 12
B17: 4.1 | C17: inclusiv: в том числе: diabetul zaharat сахарный диабет | D17: E10-E14 | E17: ='5'!E17+'7'!E17 -> 511 | F17: ='5'!F17+'7'!F17 -> 30 | G17: ='5'!G17+'7'!G17 -> 35 | H17: ='5'!H17+'7'!H17 -> 95 | I17: ='5'!I17+'7'!I17 -> 119 | J17: ='5'!J17+'7'!J17 -> 32 | K17: ='5'!K17+'7'!K17 -> 183 | L17: ='5'!L17+'7'!L17 -> 17 | ... R17: ='5'!R17+'7'!R17 -> 11
B18: 4.2 | C18: afecţiunile glandei tiroide болезни щитовидной жедезы | D18: E00-E07 | E18: ='5'!E18+'7'!E18 -> 54 | F18: ='5'!F18+'7'!F18 -> 4 | G18: ='5'!G18+'7'!G18 -> 4 | H18: ='5'!H18+'7'!H18 -> 15 | I18: ='5'!I18+'7'!I18 -> 25 | J18: ='5'!J18+'7'!J18 -> 1 | K18: ='5'!K18+'7'!K18 -> 5 | L18: ='5'!L18+'7'!L18 -> 0 | ... R18: ='5'!R18+'7'!R18 -> 0
B19: 5 | C19: Tulburări mentale şi de comportament Психические расстройства и расстройства поведения | D19: F00-F99 | E19: ='5'!E19+'7'!E19 -> 533 | F19: ='5'!F19+'7'!F19 -> 110 | G19: ='5'!G19+'7'!G19 -> 137 | H19: ='5'!H19+'7'!H19 -> 117 | I19: ='5'!I19+'7'!I19 -> 56 | J19: ='5'!J19+'7'!J19 -> 24 | K19: ='5'!K19+'7'!K19 -> 74 | L19: ='5'!L19+'7'!L19 -> 15 | ... R19: ='5'!R19+'7'!R19 -> 1
B20: 5.1 | C20: inclusiv schizofrenia в том числе шизофрения | D20: F 20-F29 | E20: ='5'!E20+'7'!E20 -> 198 | F20: ='5'!F20+'7'!F20 -> 52 | G20: ='5'!G20+'7'!G20 -> 58 | H20: ='5'!H20+'7'!H20 -> 47 | I20: ='5'!I20+'7'!I20 -> 21 | J20: ='5'!J20+'7'!J20 -> 2 | K20: ='5'!K20+'7'!K20 -> 17 | L20: ='5'!L20+'7'!L20 -> 1 | ... R20: ='5'!R20+'7'!R20 -> 0
B21: 5.2 | C21: inclusiv: в том числе: tulburări de spectru autist расстройство аутистического спектра | D21: F84-F84.9
B22: 6 | C22: Bolile sistemului nervos Болезни нервной системы | D22: G00-G99 | E22: ='5'!E22+'7'!E22 -> 695 | F22: ='5'!F22+'7'!F22 -> 48 | G22: ='5'!G22+'7'!G22 -> 77 | H22: ='5'!H22+'7'!H22 -> 161 | I22: ='5'!I22+'7'!I22 -> 84 | J22: ='5'!J22+'7'!J22 -> 48 | K22: ='5'!K22+'7'!K22 -> 250 | L22: ='5'!L22+'7'!L22 -> 27 | ... R22: ='5'!R22+'7'!R22 -> 6
B23: 6.1 | C23: inclusiv: epilepsia şi sindroame epileptice в том числе:эрилерсия и эпилеп. Синдромы | D23: G40-G41 | E23: ='5'!E23+'7'!E23 -> 71 | F23: ='5'!F23+'7'!F23 -> 15 | G23: ='5'!G23+'7'!G23 -> 20 | H23: ='5'!H23+'7'!H23 -> 10 | I23: ='5'!I23+'7'!I23 -> 5 | J23: ='5'!J23+'7'!J23 -> 1 | K23: ='5'!K23+'7'!K23 -> 20 | L23: ='5'!L23+'7'!L23 -> 0 | ... R23: ='5'!R23+'7'!R23 -> 1
B24: 7 | C24: Bolile ochiului şi anexelor sale Болезни глаза и его придатков | D24: H00-H59 | E24: ='5'!E24+'7'!E24 -> 368 | F24: ='5'!F24+'7'!F24 -> 17 | G24: ='5'!G24+'7'!G24 -> 35 | H24: ='5'!H24+'7'!H24 -> 67 | I24: ='5'!I24+'7'!I24 -> 34 | J24: ='5'!J24+'7'!J24 -> 70 | K24: ='5'!K24+'7'!K24 -> 94 | L24: ='5'!L24+'7'!L24 -> 51 | ... R24: ='5'!R24+'7'!R24 -> 2
B25: 8 | C25: Bolile aparatului circulator Болезни системы кровообращения | D25: I00-I99 | E25: ='5'!E25+'7'!E25 -> 1625 | F25: ='5'!F25+'7'!F25 -> 8 | G25: ='5'!G25+'7'!G25 -> 52 | H25: ='5'!H25+'7'!H25 -> 217 | I25: ='5'!I25+'7'!I25 -> 202 | J25: ='5'!J25+'7'!J25 -> 131 | K25: ='5'!K25+'7'!K25 -> 891 | L25: ='5'!L25+'7'!L25 -> 124 | ... R25: ='5'!R25+'7'!R25 -> 18
B26: 8.1 | C26: inclusiv: в том числе: cardiopatia reumatismală cronică хронические ревматические болезни сердца | D26: I05-I09 | E26: ='5'!E26+'7'!E26 -> 45 | F26: ='5'!F26+'7'!F26 -> 3 | G26: ='5'!G26+'7'!G26 -> 4 | H26: ='5'!H26+'7'!H26 -> 15 | I26: ='5'!I26+'7'!I26 -> 9 | J26: ='5'!J26+'7'!J26 -> 2 | K26: ='5'!K26+'7'!K26 -> 11 | L26: ='5'!L26+'7'!L26 -> 1 | ... R26: ='5'!R26+'7'!R26 -> 2
B27: 8.2 | C27: boală hipertensivă гипертоническая болезнь | D27: I 10-I 15 | E27: ='5'!E27+'7'!E27 -> 109 | F27: ='5'!F27+'7'!F27 -> 0 | G27: ='5'!G27+'7'!G27 -> 1 | H27: ='5'!H27+'7'!H27 -> 15 | I27: ='5'!I27+'7'!I27 -> 28 | J27: ='5'!J27+'7'!J27 -> 1 | K27: ='5'!K27+'7'!K27 -> 64 | L27: ='5'!L27+'7'!L27 -> 0 | ... R27: ='5'!R27+'7'!R27 -> 2
B28: 8.3 | C28: boală ischemică a inimi ишемическая болезнь сердца | D28: I20_I25 | E28: ='5'!E28+'7'!E28 -> 485 | F28: ='5'!F28+'7'!F28 -> 1 | G28: ='5'!G28+'7'!G28 -> 10 | H28: ='5'!H28+'7'!H28 -> 54 | I28: ='5'!I28+'7'!I28 -> 51 | J28: ='5'!J28+'7'!J28 -> 16 | K28: ='5'!K28+'7'!K28 -> 338 | L28: ='5'!L28+'7'!L28 -> 15 | ... R28: ='5'!R28+'7'!R28 -> 5
B29: 8.4 | C29: bolile cerebro - vasculare цереброваскулярные болезни | D29: I60-I69 | E29: ='5'!E29+'7'!E29 -> 664 | F29: ='5'!F29+'7'!F29 -> 2 | G29: ='5'!G29+'7'!G29 -> 18 | H29: ='5'!H29+'7'!H29 -> 78 | I29: ='5'!I29+'7'!I29 -> 77 | J29: ='5'!J29+'7'!J29 -> 100 | K29: ='5'!K29+'7'!K29 -> 322 | L29: ='5'!L29+'7'!L29 -> 67 | ... R29: ='5'!R29+'7'!R29 -> 5

Sheet 4
B2: Nr rînd № строки | C2: Diagnosticul CDDCM Диагноз КУОВТ | D2: Cifru conform CIM revizia X Шифр по МКБ X пересмотра | E2: Total persoane cu dizabilităţi Всего лиц с ограни-ченными возмож-ностями | F2: Inclusiv în vîrstă В том числе в возрасте | M2: Din numărul total de persoane cu dizabilităţi s-a determinat grad de dizabilitate şi capacitate de muncă Из общего числа лиц с ограниченными возможностями определены степень ограничения возможностeй и трудоспособность
F3: 18- 29 ani | G3: 30-39 ani | H3: 40-49 ani | I3: femei женщины | K3: bărbaţi мужчины | M3: În vîrstă aptă de muncă В трудоспособном возрасте | P3: Vîrstă pensionară Пенсионный возраст
I4: 50-58 ani 5 luni | J4: 58 ani 6 luni şi mai mult | K4: 50-62 ani | L4: 63 şi mai mult | M4: Grad sever тяжелая степень (0-20%) | N4: Grad accentuat выраженная степень (25-40%) | O4: Grad mediu cредняя степень (45-60%) | P4: Grad sever тяжелая степень (0-20%) | Q4: Grad accentuat выраженная степень (25-40%) | R4: Grad mediu cредняя степень (45-60%)
B5: A | C5: B | D5: C | E5: 1 | F5: 2 | G5: 3 | H5: 4 | I5: 5 | J5: 6 | K5: 7 | L5: 8 | M5: 9 | N5: 10 | O5: 11 | P5: 12 | Q5: 13 | R5: 14
B6: 9 | C6: Bolile aparatului respirator Болезни органов дыхания | D6: J00-J99 | E6: ='6'!E6+'8'!E6 -> 127 | F6: ='6'!F6+'8'!F6 -> 8 | G6: ='6'!G6+'8'!G6 -> 11 | H6: ='6'!H6+'8'!H6 -> 39 | I6: ='6'!I6+'8'!I6 -> 18 | J6: ='6'!J6+'8'!J6 -> 1 | K6: ='6'!K6+'8'!K6 -> 50 | L6: ='6'!L6+'8'!L6 -> 0 | ... R6: ='6'!R6+'8'!R6 -> 0
B7: 10 | C7: Bolile aparatului digestiv Болезни органов пищеварения | D7: K 00-K 93; B 18-B19 | E7: ='6'!E7+'8'!E7 -> 472 | F7: ='6'!F7+'8'!F7 -> 9 | G7: ='6'!G7+'8'!G7 -> 54 | H7: ='6'!H7+'8'!H7 -> 147 | I7: ='6'!I7+'8'!I7 -> 89 | J7: ='6'!J7+'8'!J7 -> 5 | K7: ='6'!K7+'8'!K7 -> 167 | L7: ='6'!L7+'8'!L7 -> 1 | ... R7: ='6'!R7+'8'!R7 -> 1
B8: 10.1 | C8: inclusiv: в том числе: ciroză hepatică цирроз печени | D8: K 70.0; K 70.3; K 74,3-K74,6 | E8: ='6'!E8+'8'!E8 -> 300 | F8: ='6'!F8+'8'!F8 -> 4 | G8: ='6'!G8+'8'!G8 -> 34 | H8: ='6'!H8+'8'!H8 -> 91 | I8: ='6'!I8+'8'!I8 -> 59 | J8: ='6'!J8+'8'!J8 -> 4 | K8: ='6'!K8+'8'!K8 -> 107 | L8: ='6'!L8+'8'!L8 -> 1 | ... R8: ='6'!R8+'8'!R8 -> 1
B9: 10.2 | C9: hepatită cronică хронический гепатит | D9: B 18-B19 K 70.1; K 70.9-K 71.9; K 73.0-K 73.9 | E9: ='6'!E9+'8'!E9 -> 28 | F9: ='6'!F9+'8'!F9 -> 0 | G9: ='6'!G9+'8'!G9 -> 5 | H9: ='6'!H9+'8'!H9 -> 7 | I9: ='6'!I9+'8'!I9 -> 9 | J9: ='6'!J9+'8'!J9 -> 0 | K9: ='6'!K9+'8'!K9 -> 7 | L9: ='6'!L9+'8'!L9 -> 0 | ... R9: ='6'!R9+'8'!R9 -> 0
B10: 11 | C10: Bolile sistemului osteo-articular, ale muşchilor şi ţesutului conjunctiv Болезни костно-суставной системы, мышц и соединительной ткани | D10: M00-M99 | E10: ='6'!E10+'8'!E10 -> 1458 | F10: ='6'!F10+'8'!F10 -> 53 | G10: ='6'!G10+'8'!G10 -> 148 | H10: ='6'!H10+'8'!H10 -> 325 | I10: ='6'!I10+'8'!I10 -> 404 | J10: ='6'!J10+'8'!J10 -> 42 | K10: ='6'!K10+'8'!K10 -> 461 | L10: ='6'!L10+'8'!L10 -> 25 | ... R10: ='6'!R10+'8'!R10 -> 12
B11: 11.1 | C11: inclusiv: в том числе: artroze aртрозы | D11: M15-M19 | E11: ='6'!E11+'8'!E11 -> 658 | F11: ='6'!F11+'8'!F11 -> 15 | G11: ='6'!G11+'8'!G11 -> 20 | H11: ='6'!H11+'8'!H11 -> 106 | I11: ='6'!I11+'8'!I11 -> 228 | J11: ='6'!J11+'8'!J11 -> 29 | K11: ='6'!K11+'8'!K11 -> 243 | L11: ='6'!L11+'8'!L11 -> 17 | ... R11: ='6'!R11+'8'!R11 -> 9
A12: 4 | B12: 11.2 | C12: boli degenerative ale coloanei vertebrale дегенеративные заболе-вания розвоночника | D12: M40-M54 | E12: ='6'!E12+'8'!E12 -> 466 | F12: ='6'!F12+'8'!F12 -> 15 | G12: ='6'!G12+'8'!G12 -> 73 | H12: ='6'!H12+'8'!H12 -> 135 | I12: ='6'!I12+'8'!I12 -> 106 | J12: ='6'!J12+'8'!J12 -> 5 | K12: ='6'!K12+'8'!K12 -> 129 | L12: ='6'!L12+'8'!L12 -> 3 | ... R12: ='6'!R12+'8'!R12 -> 2
B13: 12 | C13: Bolile aparatului genito-urinar Болезни мочеполовой системы | D13: N00-N99 | E13: ='6'!E13+'8'!E13 -> 116 | F13: ='6'!F13+'8'!F13 -> 14 | G13: ='6'!G13+'8'!G13 -> 17 | H13: ='6'!H13+'8'!H13 -> 28 | I13: ='6'!I13+'8'!I13 -> 11 | J13: ='6'!J13+'8'!J13 -> 4 | K13: ='6'!K13+'8'!K13 -> 37 | L13: ='6'!L13+'8'!L13 -> 5 | ... R13: ='6'!R13+'8'!R13 -> 0
B14: 13 | C14: Malformaţii congenitale, deformaţii şi anomalii cromosomiale Врожденные пороки развития, деформации и хромосомиальные аномалии | D14: Q00-Q99 | E14: ='6'!E14+'8'!E14 -> 80 | F14: ='6'!F14+'8'!F14 -> 21 | G14: ='6'!G14+'8'!G14 -> 17 | H14: ='6'!H14+'8'!H14 -> 17 | I14: ='6'!I14+'8'!I14 -> 5 | J14: ='6'!J14+'8'!J14 -> 2 | K14: ='6'!K14+'8'!K14 -> 15 | L14: ='6'!L14+'8'!L14 -> 3 | ... R14: ='6'!R14+'8'!R14 -> 2
B15: 14 | C15: Leziuni traumatice Травматические повреждения | D15: S 00-T 98 | E15: ='6'!E15+'8'!E15 -> 625 | F15: ='6'!F15+'8'!F15 -> 81 | G15: ='6'!G15+'8'!G15 -> 95 | H15: ='6'!H15+'8'!H15 -> 143 | I15: ='6'!I15+'8'!I15 -> 64 | J15: ='6'!J15+'8'!J15 -> 24 | K15: ='6'!K15+'8'!K15 -> 204 | L15: ='6'!L15+'8'!L15 -> 14 | ... R15: ='6'!R15+'8'!R15 -> 4
B16: 15 | C16: Accidente de muncă Несчастные случаи на производстве | E16: ='6'!E16+'8'!E16 -> 6 | F16: ='6'!F16+'8'!F16 -> 0 | G16: ='6'!G16+'8'!G16 -> 2 | H16: ='6'!H16+'8'!H16 -> 2 | I16: ='6'!I16+'8'!I16 -> 1 | J16: ='6'!J16+'8'!J16 -> 0 | K16: ='6'!K16+'8'!K16 -> 1 | L16: ='6'!L16+'8'!L16 -> 0 | ... R16: ='6'!R16+'8'!R16 -> 0
B17: 16 | C17: Boli profesionale şi intoxicări Профессиональные болезни и отравления | E17: ='6'!E17+'8'!E17 -> 1 | F17: ='6'!F17+'8'!F17 -> 0 | G17: ='6'!G17+'8'!G17 -> 0 | H17: ='6'!H17+'8'!H17 -> 1 | I17: ='6'!I17+'8'!I17 -> 0 | J17: ='6'!J17+'8'!J17 -> 0 | K17: ='6'!K17+'8'!K17 -> 0 | L17: ='6'!L17+'8'!L17 -> 0 | ... R17: ='6'!R17+'8'!R17 -> 0
B18: 17 | C18: Alte boli Прочие болезни | E18: ='6'!E18+'8'!E18 -> 175 | F18: ='6'!F18+'8'!F18 -> 18 | G18: ='6'!G18+'8'!G18 -> 22 | H18: ='6'!H18+'8'!H18 -> 54 | I18: ='6'!I18+'8'!I18 -> 32 | J18: ='6'!J18+'8'!J18 -> 7 | K18: ='6'!K18+'8'!K18 -> 41 | L18: ='6'!L18+'8'!L18 -> 1 | ... R18: ='6'!R18+'8'!R18 -> 2
B19: 18 | C19: Total Всего | E19: ='6'!E19+'8'!E19 -> 9174 | F19: ='6'!F19+'8'!F19 -> 541 | G19: ='6'!G19+'8'!G19 -> 1020 | H19: ='6'!H19+'8'!H19 -> 2051 | I19: ='6'!I19+'8'!I19 -> 1573 | J19: ='6'!J19+'8'!J19 -> 486 | K19: ='6'!K19+'8'!K19 -> 3155 | L19: ='6'!L19+'8'!L19 -> 348 | ... R19: ='6'!R19+'8'!R19 -> 75
B20: 19 | C20: inclusiv femei в том числе женщин | E20: ='6'!E20+'8'!E20 -> 3661 | F20: ='6'!F20+'8'!F20 -> 211 | G20: ='6'!G20+'8'!G20 -> 432 | H20: ='6'!H20+'8'!H20 -> 959 | I20: ='6'!I20+'8'!I20 -> 1573 | J20: ='6'!J20+'8'!J20 -> 486 | K20: X | L20: X | M20: ='6'!M20+'8'!M20 -> 381 | N20: ='6'!N20+'8'!N20 -> 1347 | O20: ='6'!O20+'8'!O20 -> 1589 | P20: ='6'!P20+'8'!P20 -> 233 | Q20: ='6'!Q20+'8'!Q20 -> 79 | R20: ='6'!R20+'8'!R20 -> 32
B22: 20. | C22: Din numărul total de persoane cu dizabilităţi caz nou: | H22: stabilită dizabilitate fără termen | L22: ='6'!L22+'8'!L22 -> 513
C23: Из общего числа лиц с ограниченными возможностями впервые признанны: | H23: установлено ограничение возможностей бессрочно

Sheet 5
P1: Anexa la f. nr.27 (CDDCM)
P2: Вкладной лист к ф. №27 (КУОВТ)
C3: V. REPARTIZAREA PERSOANELOR CU DIZABILITĂŢI CAZ NOU DUPĂ FORMELE DE BOALĂ, VÎRSTĂ, GEN, GRADUL DE DIZABILITATE ŞI CAPACITATE DE MUNCĂ
C4: РАСПРЕДЕЛЕНИЕ ПЕРВИЧНО ПРИЗНАННЫХ ЛИЦ С ОГРАНИЧЕННЫМИ ВОЗМОЖНОСТЯМИ ПО ФОРМАМ БОЛЕЗНЕЙ, ВОЗРАСТУ, ПОЛУ И СТЕПЕНИ ОГРАНИЧЕНИЯ ВОЗМОЖНОСТЕЙ
C5: b) locuitori urbani городские жители
B6: Nr rînd № строки | C6: Diagnosticul CDDCM Диагноз КУОВТ | D6: Cifru conform CIM revizia X Шифр по МКБ X пересмотра | E6: Total persoane cu dizabilităţi Всего лиц с ограни-ченными возмож-ностями | F6: Inclusiv în vîrstă В том числе в возрасте | M6: Din numărul total de persoane cu dizabilităţi s-a determinat grad de dizabilitate şi capacitate de muncă Из общего числа лиц с ограниченными возможностями определены степень ограничения возможностeй и трудоспособность
F7: 18- 29 ani | G7: 30-39 ani | H7: 40-49 ani | I7: femei женщины | K7: bărbaţi мужчины | M7: În vîrstă aptă de muncă В трудоспособном возрасте | P7: Vîrstă pensionară Пенсионный возраст
I8: 50-58 ani 5 luni | J8: 58 ani 6 luni şi mai mult | K8: 50-62 ani | L8: 63 şi mai mult | M8: Grad sever тяжелая степень (0-20%) | N8: Grad accentuat выраженная степень (25-40%) | O8: Grad mediu cредняя степень (45-60%) | P8: Grad sever тяжелая степень (0-20%) | Q8: Grad accentuat выраженная степень (25-40%) | R8: Grad mediu cредняя степень (45-60%)
B9: A | C9: B | D9: C | E9: 1 | F9: 2 | G9: 3 | H9: 4 | I9: 5 | J9: 6 | K9: 7 | L9: 8 | M9: 9 | N9: 10 | O9: 11 | P9: 12 | Q9: 13 | R9: 14
B10: 1 | C10: Tuberculoză Туберкулез | D10: А15-А19 B20.0 | E10: 108 | F10: 16 | G10: 31 | H10: 33 | I10: 3 | J10: 0 | K10: 24 | L10: 1 | M10: 4 | N10: 100 | O10: 3 | P10: 1 | Q10: 0 | R10: 0
B11: 1.1 | C11: inclusiv: в том числе: tuberculoza aparatului respirator туберкулез органов дыхания | D11: А15-A16 | E11: 97 | F11: 16 | G11: 26 | H11: 29 | I11: 3 | J11: 0 | K11: 22 | L11: 1 | M11: 2 | N11: 92 | O11: 2 | P11: 1 | Q11: 0 | R11: 0
B12: 1.2 | C12: tuberculoza asociată cu SIDA туберкулез ассоциированный со СПИДом | D12: B20.0 | E12: 9 | F12: 0 | G12: 4 | H12: 3 | I12: 0 | J12: 0 | K12: 2 | L12: 0 | M12: 2 | N12: 6 | O12: 1 | P12: 0 | Q12: 0 | R12: 0
B13: 2 | C13: SIDA СПИД | D13: B20.1-B24 | E13: 21 | F13: 2 | G13: 9 | H13: 8 | I13: 0 | J13: 0 | K13: 2 | L13: 0 | M13: 5 | N13: 13 | O13: 3 | P13: 0 | Q13: 0 | R13: 0
B14: 3 | C14: Tumori Новообразования | D14: C 00- D 48 | E14: 778 | F14: 28 | G14: 77 | H14: 196 | I14: 180 | J14: 50 | K14: 209 | L14: 38 | M14: 198 | N14: 365 | O14: 150 | P14: 29 | Q14: 28 | R14: 8
B15: 3.1 | C15: inclusiv tumori maligne в том числе злокачественные новообразования | D15: C00-C97 | E15: 719 | F15: 21 | G15: 70 | H15: 179 | I15: 165 | J15: 49 | K15: 200 | L15: 35 | M15: 196 | N15: 343 | O15: 118 | P15: 28 | Q15: 27 | R15: 7
A16: 5 | B16: 4 | C16: Bolile endocrine,de nutriţie şi metabolism Болезни эндокринной системы, расстройства питания и нарушения обмена веществ | D16: E00-E90 | E16: 223 | F16: 12 | G16: 14 | H16: 44 | I16: 55 | J16: 19 | K16: 69 | L16: 10 | M16: 12 | N16: 38 | O16: 150 | P16: 15 | Q16: 3 | R16: 5
B17: 4.1 | C17: inclusiv: в том числе: diabetul zaharat сахарный диабет | D17: E10-E14 | E17: 195 | F17: 11 | G17: 14 | H17: 34 | I17: 39 | J17: 19 | K17: 68 | L17: 10 | M17: 12 | N17: 32 | O17: 128 | P17: 15 | Q17: 3 | R17: 5
B18: 4.2 | C18: afecţiunile glandei tiroide болезни щитовидной жедезы | D18: E00-E07 | E18: 21 | F18: 1 | G18: 0 | H18: 8 | I18: 11 | J18: 0 | K18: 1 | L18: 0 | M18: 0 | N18: 4 | O18: 17 | P18: 0 | Q18: 0 | R18: 0
B19: 5 | C19: Tulburări mentale şi de comportament Психические расстройства и расстройства поведения | D19: F00-F99 | E19: 173 | F19: 36 | G19: 37 | H19: 37 | I19: 15 | J19: 16 | K19: 22 | L19: 10 | M19: 16 | N19: 97 | O19: 37 | P19: 22 | Q19: 0 | R19: 1
B20: 5.1 | C20: inclusiv schizofrenia в том числе шизофрения | D20: F 20-F29 | E20: 80 | F20: 23 | G20: 26 | H20: 19 | I20: 6 | J20: 0 | K20: 6 | L20: 0 | M20: 1 | N20: 69 | O20: 10 | P20: 0 | Q20: 0 | R20: 0
B21: 5.2 | C21: inclusiv: в том числе: tulburări de spectru autist расстройство аутистического спектра | D21: F84-F84.9 | E21: 0 | F21: 0 | G21: 0 | H21: 0 | I21: 0 | J21: 0 | K21: 0 | L21: 0 | M21: 0 | N21: 0 | O21: 0 | P21: 0 | Q21: 0 | R21: 0
B22: 6 | C22: Bolile sistemului nervos Болезни нервной системы | D22: G00-G99 | E22: 243 | F22: 16 | G22: 28 | H22: 52 | I22: 30 | J22: 23 | K22: 82 | L22: 12 | M22: 35 | N22: 68 | O22: 114 | P22: 21 | Q22: 2 | R22: 3
B23: 6.1 | C23: inclusiv: epilepsia şi sindroame epileptice в том числе:эрилерсия и эпилеп. Синдромы | D23: G40-G41 | E23: 24 | F23: 6 | G23: 4 | H23: 4 | I23: 1 | J23: 1 | K23: 8 | L23: 0 | M23: 1 | N23: 6 | O23: 16 | P23: 0 | Q23: 0 | R23: 1
B24: 7 | C24: Bolile ochiului şi anexelor sale Болезни глаза и его придатков | D24: H00-H59 | E24: 111 | F24: 2 | G24: 11 | H24: 17 | I24: 14 | J24: 21 | K24: 28 | L24: 18 | M24: 16 | N24: 26 | O24: 43 | P24: 21 | Q24: 3 | R24: 2
B25: 8 | C25: Bolile aparatului circulator Болезни системы кровообращения | D25: I00-I99 | E25: 628 | F25: 4 | G25: 17 | H25: 78 | I25: 68 | J25: 50 | K25: 357 | L25: 54 | M25: 72 | N25: 296 | O25: 175 | P25: 48 | Q25: 27 | R25: 10
B26: 8.1 | C26: inclusiv: в том числе: cardiopatia reumatismală cronică хронические ревматические болезни сердца | D26: I05-I09 | E26: 23 | F26: 3 | G26: 3 | H26: 7 | I26: 5 | J26: 0 | K26: 4 | L26: 1 | M26: 1 | N26: 12 | O26: 8 | P26: 0 | Q26: 1 | R26: 1
B27: 8.2 | C27: boală hipertensivă гипертоническая болезнь | D27: I 10-I 15 | E27: 32 | F27: 0 | G27: 0 | H27: 2 | I27: 8 | J27: 1 | K27: 21 | L27: 0 | M27: 0 | N27: 7 | O27: 22 | P27: 0 | Q27: 1 | R27: 2
B28: 8.3 | C28: boală ischemică a inimi ишемическая болезнь сердца | D28: I20_I25 | E28: 209 | F28: 1 | G28: 4 | H28: 22 | I28: 16 | J28: 6 | K28: 151 | L28: 9 | M28: 6 | N28: 130 | O28: 64 | P28: 1 | Q28: 6 | R28: 2
B29: 8.4 | C29: bolile cerebro - vasculare цереброваскулярные болезни | D29: I60-I69 | E29: 259 | F29: 0 | G29: 7 | H29: 28 | I29: 29 | J29: 35 | K29: 128 | L29: 32 | M29: 56 | N29: 93 | O29: 55 | P29: 40 | Q29: 13 | R29: 2

Sheet 6
B2: Nr rînd № строки | C2: Diagnosticul CDDCM Диагноз КУОВТ | D2: Cifru conform CIM revizia X Шифр по МКБ X пересмотра | E2: Total persoane cu dizabilităţi Всего лиц с ограни-ченными возмож-ностями | F2: Inclusiv în vîrstă В том числе в возрасте | M2: Din numărul total de persoane cu dizabilităţi s-a determinat grad de dizabilitate şi capacitate de muncă Из общего числа лиц с ограниченными возможностями определены степень ограничения возможностeй и трудоспособность
F3: 18- 29 ani | G3: 30-39 ani | H3: 40-49 ani | I3: femei женщины | K3: bărbaţi мужчины | M3: În vîrstă aptă de muncă В трудоспособном возрасте | P3: Vîrstă pensionară Пенсионный возраст
I4: 50-58 ani 5 luni | J4: 58 ani 6 luni şi mai mult | K4: 50-62 ani | L4: 63 şi mai mult | M4: Grad sever тяжелая степень (0-20%) | N4: Grad accentuat выраженная степень (25-40%) | O4: Grad mediu cредняя степень (45-60%) | P4: Grad sever тяжелая степень (0-20%) | Q4: Grad accentuat выраженная степень (25-40%) | R4: Grad mediu cредняя степень (45-60%)
B5: A | C5: B | D5: C | E5: 1 | F5: 2 | G5: 3 | H5: 4 | I5: 5 | J5: 6 | K5: 7 | L5: 8 | M5: 9 | N5: 10 | O5: 11 | P5: 12 | Q5: 13 | R5: 14
B6: 9 | C6: Bolile aparatului respirator Болезни органов дыхания | D6: J00-J99 | E6: 39 | F6: 1 | G6: 4 | H6: 10 | I6: 8 | J6: 1 | K6: 15 | L6: 0 | M6: 0 | N6: 10 | O6: 29 | P6: 0 | Q6: 0 | R6: 0
B7: 10 | C7: Bolile aparatului digestiv Болезни органов пищеварения | D7: K 00-K 93; B 18-B19 | E7: 148 | F7: 1 | G7: 14 | H7: 50 | I7: 31 | J7: 1 | K7: 50 | L7: 1 | M7: 28 | N7: 67 | O7: 51 | P7: 0 | Q7: 2 | R7: 0
B8: 10.1 | C8: inclusiv: в том числе: ciroză hepatică цирроз печени | D8: K 70.0; K 70.3; K 74,3-K74,6 | E8: 101 | F8: 1 | G8: 9 | H8: 29 | I8: 21 | J8: 1 | K8: 39 | L8: 1 | M8: 22 | N8: 48 | O8: 29 | P8: 0 | Q8: 2 | R8: 0
B9: 10.2 | C9: hepatită cronică хронический гепатит | D9: B 18-B19 K 70.1; K 70.9-K 71.9; K 73.0-K 73.9 | E9: 9 | F9: 0 | G9: 1 | H9: 4 | I9: 2 | J9: 0 | K9: 2 | L9: 0 | M9: 0 | N9: 4 | O9: 5 | P9: 0 | Q9: 0 | R9: 0
B10: 11 | C10: Bolile sistemului osteo-articular, ale muşchilor şi ţesutului conjunctiv Болезни костно-суставной системы, мышц и соединительной ткани | D10: M00-M99 | E10: 447 | F10: 17 | G10: 55 | H10: 99 | I10: 110 | J10: 15 | K10: 142 | L10: 9 | M10: 4 | N10: 161 | O10: 261 | P10: 6 | Q10: 10 | R10: 5
B11: 11.1 | C11: inclusiv: в том числе: artroze aртрозы | D11: M15-M19 | E11: 189 | F11: 7 | G11: 9 | H11: 27 | I11: 62 | J11: 11 | K11: 68 | L11: 5 | M11: 1 | N11: 98 | O11: 78 | P11: 3 | Q11: 5 | R11: 4
A12: 6 | B12: 11.2 | C12: boli degenerative ale coloanei vertebrale дегенеративные заболе-вания розвоночника | D12: M40-M54 | E12: 147 | F12: 2 | G12: 27 | H12: 39 | I12: 31 | J12: 2 | K12: 44 | L12: 2 | M12: 2 | N12: 30 | O12: 110 | P12: 2 | Q12: 2 | R12: 1
B13: 12 | C13: Bolile aparatului genito-urinar Болезни мочеполовой системы | D13: N00-N99 | E13: 47 | F13: 4 | G13: 6 | H13: 8 | I13: 2 | J13: 3 | K13: 21 | L13: 3 | M13: 16 | N13: 13 | O13: 14 | P13: 3 | Q13: 1 | R13: 0
B14: 13 | C14: Malformaţii congenitale, deformaţii şi anomalii cromosomiale Врожденные пороки развития, деформации и хромосомиальные аномалии | D14: Q00-Q99 | E14: 27 | F14: 7 | G14: 7 | H14: 6 | I14: 2 | J14: 1 | K14: 4 | L14: 0 | M14: 2 | N14: 9 | O14: 15 | P14: 0 | Q14: 0 | R14: 1
B15: 14 | C15: Leziuni traumatice Травматические повреждения | D15: S 00-T 98 | E15: 218 | F15: 21 | G15: 34 | H15: 44 | I15: 21 | J15: 11 | K15: 80 | L15: 7 | M15: 21 | N15: 87 | O15: 96 | P15: 8 | Q15: 4 | R15: 2
B16: 15 | C16: Accidente de muncă Несчастные случаи на производстве | E16: 3 | F16: 0 | G16: 1 | H16: 1 | I16: 0 | J16: 0 | K16: 1 | L16: 0 | M16: 0 | N16: 2 | O16: 1 | P16: 0 | Q16: 0 | R16: 0
B17: 16 | C17: Boli profesionale şi intoxicări Профессиональные болезни и отравления | E17: 1 | F17: 0 | G17: 0 | H17: 1 | I17: 0 | J17: 0 | K17: 0 | L17: 0 | M17: 0 | N17: 1 | O17: 0 | P17: 0 | Q17: 0 | R17: 0
B18: 17 | C18: Alte boli Прочие болезни | E18: 48 | F18: 8 | G18: 7 | H18: 15 | I18: 7 | J18: 1 | K18: 10 | L18: 0 | M18: 3 | N18: 14 | O18: 30 | P18: 1 | Q18: 0 | R18: 0
B19: 18 | C19: Total Всего | E19: =SUM('5'!E10+'5'!E13+'5'!E14+'5'!E16+'5'!E19+'5'!E22+'5'!E24+'5'!E25+'6'!E6+'6'!E7+'6'!E10+'6'!E13+'6'!E14+'6'!E15+'6'!E18) -> 3259 | F19: =SUM('5'!F10+'5'!F13+'5'!F14+'5'!F16+'5'!F19+'5'!F22+'5'!F24+'5'!F25+'6'!F6+'6'!F7+'6'!F10+'6'!F13+'6'!F14+'6'!F15+'6'!F18) -> 175 | G19: =SUM('5'!G10+'5'!G13+'5'!G14+'5'!G16+'5'!G19+'5'!G22+'5'!G24+'5'!G25+'6'!G6+'6'!G7+'6'!G10+'6'!G13+'6'!G14+'6'!G15+'6'!G18) -> 351 | H19: =SUM('5'!H10+'5'!H13+'5'!H14+'5'!H16+'5'!H19+'5'!H22+'5'!H24+'5'!H25+'6'!H6+'6'!H7+'6'!H10+'6'!H13+'6'!H14+'6'!H15+'6'!H18) -> 697 | I19: =SUM('5'!I10+'5'!I13+'5'!I14+'5'!I16+'5'!I19+'5'!I22+'5'!I24+'5'!I25+'6'!I6+'6'!I7+'6'!I10+'6'!I13+'6'!I14+'6'!I15+'6'!I18) -> 546 | J19: =SUM('5'!J10+'5'!J13+'5'!J14+'5'!J16+'5'!J19+'5'!J22+'5'!J24+'5'!J25+'6'!J6+'6'!J7+'6'!J10+'6'!J13+'6'!J14+'6'!J15+'6'!J18) -> 212 | K19: =SUM('5'!K10+'5'!K13+'5'!K14+'5'!K16+'5'!K19+'5'!K22+'5'!K24+'5'!K25+'6'!K6+'6'!K7+'6'!K10+'6'!K13+'6'!K14+'6'!K15+'6'!K18) -> 1115 | L19: =SUM('5'!L10+'5'!L13+'5'!L14+'5'!L16+'5'!L19+'5'!L22+'5'!L24+'5'!L25+'6'!L6+'6'!L7+'6'!L10+'6'!L13+'6'!L14+'6'!L15+'6'!L18) -> 163 | ... R19: =SUM('5'!R10+'5'!R13+'5'!R14+'5'!R16+'5'!R19+'5'!R22+'5'!R24+'5'!R25+'6'!R6+'6'!R7+'6'!R10+'6'!R13+'6'!R14+'6'!R15+'6'!R18) -> 37
B20: 19 | C20: inclusiv femei в том числе женщин | E20: 1347 | F20: 74 | G20: 169 | H20: 346 | I20: 546 | J20: 212 | K20: 0 | L20: 0 | M20: 154 | N20: 506 | O20: 535 | P20: 96 | Q20: 39 | R20: 17
B22: 20. | C22: Din numărul total de persoane cu dizabilităţi caz nou: | H22: stabilită dizabilitate fără termen | L22: 188
C23: Из общего числа лиц с ограниченными возможностями впервые признанны: | H23: установлено ограничение возможностей бессрочно

Sheet 7
P1: Anexa la f. nr.27 (CDDCM)
P2: Вкладной лист к ф. №27 (КУОВТ)
C3: VI. REPARTIZAREA PERSOANELOR CU DIZABILITĂŢI CAZ NOU DUPĂ FORMELE DE BOALĂ, VÎRSTĂ, GEN, GRADUL DE DIZABILITATE ŞI CAPACITATE DE MUNCĂ
C4: РАСПРЕДЕЛЕНИЕ ПЕРВИЧНО ПРИЗНАННЫХ ЛИЦ С ОГРАНИЧЕННЫМИ ВОЗМОЖНОСТЯМИ ПО ФОРМАМ БОЛЕЗНЕЙ, ВОЗРАСТУ, ПОЛУ И СТЕПЕНИ ОГРАНИЧЕНИЯ ВОЗМОЖНОСТЕЙ
C5: c) locuitori rurali сельские жители
B6: Nr rînd № строки | C6: Diagnosticul CDDCM Диагноз КУОВТ | D6: Cifru conform CIM revizia X Шифр по МКБ X пересмотра | E6: Total persoane cu dizabilităţi Всего лиц с ограни-ченными возмож-ностями | F6: Inclusiv în vîrstă В том числе в возрасте | M6: Din numărul total de persoane cu dizabilităţi s-a determinat grad de dizabilitate şi capacitate de muncă Из общего числа лиц с ограниченными возможностями определены степень ограничения возможностeй и трудоспособность
F7: 18- 29 ani | G7: 30-39 ani | H7: 40-49 ani | I7: femei женщины | K7: bărbaţi мужчины | M7: În vîrstă aptă de muncă В трудоспособном возрасте | P7: Vîrstă pensionară Пенсионный возраст
I8: 50-58 ani 5 luni | J8: 58 ani 6 luni şi mai mult | K8: 50-62 ani | L8: 63 şi mai mult | M8: Grad sever тяжелая степень (0-20%) | N8: Grad accentuat выраженная степень (25-40%) | O8: Grad mediu cредняя степень (45-60%) | P8: Grad sever тяжелая степень (0-20%) | Q8: Grad accentuat выраженная степень (25-40%) | R8: Grad mediu cредняя степень (45-60%)
B9: A | C9: B | D9: C | E9: 1 | F9: 2 | G9: 3 | H9: 4 | I9: 5 | J9: 6 | K9: 7 | L9: 8 | M9: 9 | N9: 10 | O9: 11 | P9: 12 | Q9: 13 | R9: 14
B10: 1 | C10: Tuberculoză Туберкулез | D10: А15-А19 B20.0 | E10: 286 | F10: 22 | G10: 85 | H10: 85 | I10: 7 | J10: 3 | K10: 82 | L10: 2 | M10: 10 | N10: 255 | O10: 18 | P10: 0 | Q10: 3 | R10: 0
B11: 1.1 | C11: inclusiv: в том числе: tuberculoza aparatului respirator туберкулез органов дыхания | D11: А15-A16 | E11: 274 | F11: 20 | G11: 82 | H11: 83 | I11: 6 | J11: 3 | K11: 78 | L11: 2 | M11: 8 | N11: 247 | O11: 16 | P11: 0 | Q11: 3 | R11: 0
B12: 1.2 | C12: tuberculoza asociată cu SIDA туберкулез ассоциированный со СПИДом | D12: B20.0 | E12: 10 | F12: 2 | G12: 3 | H12: 2 | I12: 0 | J12: 0 | K12: 3 | L12: 0 | M12: 1 | N12: 7 | O12: 2 | P12: 0 | Q12: 0 | R12: 0
B13: 2 | C13: SIDA СПИД | D13: B20.1-B24 | E13: 23 | F13: 4 | G13: 12 | H13: 5 | I13: 1 | J13: 0 | K13: 1 | L13: 0 | M13: 4 | N13: 14 | O13: 5 | P13: 0 | Q13: 0 | R13: 0
B14: 3 | C14: Tumori Новообразования | D14: C 00- D 48 | E14: 1091 | F14: 43 | G14: 100 | H14: 294 | I14: 224 | J14: 42 | K14: 364 | L14: 24 | M14: 335 | N14: 519 | O14: 184 | P14: 23 | Q14: 23 | R14: 7
B15: 3.1 | C15: inclusiv tumori maligne в том числе злокачественные новообразования | D15: C00-C97 | E15: 1022 | F15: 37 | G15: 94 | H15: 271 | I15: 209 | J15: 40 | K15: 348 | L15: 23 | M15: 330 | N15: 494 | O15: 147 | P15: 22 | Q15: 22 | R15: 7
A16: 7 | B16: 4 | C16: Bolile endocrine,de nutriţie şi metabolism Болезни эндокринной системы, расстройства питания и нарушения обмена веществ | D16: E00-E90 | E16: 370 | F16: 27 | G16: 27 | H16: 71 | I16: 104 | J16: 14 | K16: 120 | L16: 7 | M16: 12 | N16: 72 | O16: 264 | P16: 9 | Q16: 6 | R16: 7
B17: 4.1 | C17: inclusiv: в том числе: diabetul zaharat сахарный диабет | D17: E10-E14 | E17: 316 | F17: 19 | G17: 21 | H17: 61 | I17: 80 | J17: 13 | K17: 115 | L17: 7 | M17: 12 | N17: 63 | O17: 220 | P17: 9 | Q17: 6 | R17: 6
B18: 4.2 | C18: afecţiunile glandei tiroide болезни щитовидной жедезы | D18: E00-E07 | E18: 33 | F18: 3 | G18: 4 | H18: 7 | I18: 14 | J18: 1 | K18: 4 | L18: 0 | M18: 0 | N18: 5 | O18: 28 | P18: 0 | Q18: 0 | R18: 0
B19: 5 | C19: Tulburări mentale şi de comportament Психические расстройства и расстройства поведения | D19: F00-F99 | E19: 360 | F19: 74 | G19: 100 | H19: 80 | I19: 41 | J19: 8 | K19: 52 | L19: 5 | M19: 30 | N19: 180 | O19: 142 | P19: 7 | Q19: 1 | R19: 0
B20: 5.1 | C20: inclusiv schizofrenia в том числе шизофрения | D20: F 20-F29 | E20: 118 | F20: 29 | G20: 32 | H20: 28 | I20: 15 | J20: 2 | K20: 11 | L20: 1 | M20: 5 | N20: 93 | O20: 20 | P20: 0 | Q20: 0 | R20: 0
B21: 5.2 | C21: inclusiv: в том числе: tulburări de spectru autist расстройство аутистического спектра | D21: F84-F84.9 | E21: 0 | F21: 0 | G21: 0 | H21: 0 | I21: 0 | J21: 0 | K21: 0 | L21: 0 | M21: 0 | N21: 0 | O21: 0 | P21: 0 | Q21: 0 | R21: 0
B22: 6 | C22: Bolile sistemului nervos Болезни нервной системы | D22: G00-G99 | E22: 452 | F22: 32 | G22: 49 | H22: 109 | I22: 54 | J22: 25 | K22: 168 | L22: 15 | M22: 67 | N22: 142 | O22: 210 | P22: 26 | Q22: 4 | R22: 3
B23: 6.1 | C23: inclusiv: epilepsia şi sindroame epileptice в том числе:эрилерсия и эпилеп. Синдромы | D23: G40-G41 | E23: 47 | F23: 9 | G23: 16 | H23: 6 | I23: 4 | J23: 0 | K23: 12 | L23: 0 | M23: 1 | N23: 19 | O23: 27 | P23: 0 | Q23: 0 | R23: 0
B24: 7 | C24: Bolile ochiului şi anexelor sale Болезни глаза и его придатков | D24: H00-H59 | E24: 257 | F24: 15 | G24: 24 | H24: 50 | I24: 20 | J24: 49 | K24: 66 | L24: 33 | M24: 50 | N24: 56 | O24: 87 | P24: 58 | Q24: 6 | R24: 0
B25: 8 | C25: Bolile aparatului circulator Болезни системы кровообращения | D25: I00-I99 | E25: 997 | F25: 4 | G25: 35 | H25: 139 | I25: 134 | J25: 81 | K25: 534 | L25: 70 | M25: 139 | N25: 419 | O25: 323 | P25: 88 | Q25: 20 | R25: 8
B26: 8.1 | C26: inclusiv: в том числе: cardiopatia reumatismală cronică хронические ревматические болезни сердца | D26: I05-I09 | E26: 22 | F26: 0 | G26: 1 | H26: 8 | I26: 4 | J26: 2 | K26: 7 | L26: 0 | M26: 0 | N26: 12 | O26: 8 | P26: 0 | Q26: 1 | R26: 1
B27: 8.2 | C27: boală hipertensivă гипертоническая болезнь | D27: I 10-I 15 | E27: 77 | F27: 0 | G27: 1 | H27: 13 | I27: 20 | J27: 0 | K27: 43 | L27: 0 | M27: 0 | N27: 24 | O27: 52 | P27: 0 | Q27: 1 | R27: 0
B28: 8.3 | C28: boală ischemică a inimi ишемическая болезнь сердца | D28: I20_I25 | E28: 276 | F28: 0 | G28: 6 | H28: 32 | I28: 35 | J28: 10 | K28: 187 | L28: 6 | M28: 4 | N28: 156 | O28: 104 | P28: 2 | Q28: 7 | R28: 3
B29: 8.4 | C29: bolile cerebro - vasculare цереброваскулярные болезни | D29: I60-I69 | E29: 405 | F29: 2 | G29: 11 | H29: 50 | I29: 48 | J29: 65 | K29: 194 | L29: 35 | M29: 104 | N29: 122 | O29: 103 | P29: 66 | Q29: 7 | R29: 3

Sheet 8
B2: Nr rînd № строки | C2: Diagnosticul CDDCM Диагноз КУОВТ | D2: Cifru conform CIM revizia X Шифр по МКБ X пересмотра | E2: Total persoane cu dizabilităţi Всего лиц с ограни-ченными возмож-ностями | F2: Inclusiv în vîrstă В том числе в возрасте | M2: Din numărul total de persoane cu dizabilităţi s-a determinat grad de dizabilitate şi capacitate de muncă Из общего числа лиц с ограниченными возможностями определены степень ограничения возможностeй и трудоспособность
F3: 18- 29 ani | G3: 30-39 ani | H3: 40-49 ani | I3: femei женщины | K3: bărbaţi мужчины | M3: În vîrstă aptă de muncă В трудоспособном возрасте | P3: Vîrstă pensionară Пенсионный возраст
I4: 50-58 ani 5 luni | J4: 58 ani 6 luni şi mai mult | K4: 50-62 ani | L4: 63 şi mai mult | M4: Grad sever тяжелая степень (0-20%) | N4: Grad accentuat выраженная степень (25-40%) | O4: Grad mediu cредняя степень (45-60%) | P4: Grad sever тяжелая степень (0-20%) | Q4: Grad accentuat выраженная степень (25-40%) | R4: Grad mediu cредняя степень (45-60%)
B5: A | C5: B | D5: C | E5: 1 | F5: 2 | G5: 3 | H5: 4 | I5: 5 | J5: 6 | K5: 7 | L5: 8 | M5: 9 | N5: 10 | O5: 11 | P5: 12 | Q5: 13 | R5: 14
B6: 9 | C6: Bolile aparatului respirator Болезни органов дыхания | D6: J00-J99 | E6: 88 | F6: 7 | G6: 7 | H6: 29 | I6: 10 | J6: 0 | K6: 35 | L6: 0 | M6: 1 | N6: 33 | O6: 54 | P6: 0 | Q6: 0 | R6: 0
B7: 10 | C7: Bolile aparatului digestiv Болезни органов пищеварения | D7: K 00-K 93; B 18-B19 | E7: 324 | F7: 8 | G7: 40 | H7: 97 | I7: 58 | J7: 4 | K7: 117 | L7: 0 | M7: 44 | N7: 154 | O7: 122 | P7: 1 | Q7: 2 | R7: 1
B8: 10.1 | C8: inclusiv: в том числе: ciroză hepatică цирроз печени | D8: K 70.0; K 70.3; K 74,3-K74,6 | E8: 199 | F8: 3 | G8: 25 | H8: 62 | I8: 38 | J8: 3 | K8: 68 | L8: 0 | M8: 30 | N8: 101 | O8: 64 | P8: 1 | Q8: 2 | R8: 1
B9: 10.2 | C9: hepatită cronică хронический гепатит | D9: B 18-B19 K 70.1; K 70.9-K 71.9; K 73.0-K 73.9 | E9: 19 | F9: 0 | G9: 4 | H9: 3 | I9: 7 | J9: 0 | K9: 5 | L9: 0 | M9: 0 | N9: 4 | O9: 15 | P9: 0 | Q9: 0 | R9: 0
B10: 11 | C10: Bolile sistemului osteo-articular, ale muşchilor şi ţesutului conjunctiv Болезни костно-суставной системы, мышц и соединительной ткани | D10: M00-M99 | E10: 1011 | F10: 36 | G10: 93 | H10: 226 | I10: 294 | J10: 27 | K10: 319 | L10: 16 | M10: 9 | N10: 293 | O10: 672 | P10: 13 | Q10: 17 | R10: 7
B11: 11.1 | C11: inclusiv: в том числе: artroze aртрозы | D11: M15-M19 | E11: 469 | F11: 8 | G11: 11 | H11: 79 | I11: 166 | J11: 18 | K11: 175 | L11: 12 | M11: 0 | N11: 174 | O11: 265 | P11: 9 | Q11: 16 | R11: 5
A12: 8 | B12: 11.2 | C12: boli degenerative ale coloanei vertebrale дегенеративные заболе-вания розвоночника | D12: M40-M54 | E12: 319 | F12: 13 | G12: 46 | H12: 96 | I12: 75 | J12: 3 | K12: 85 | L12: 1 | M12: 3 | N12: 61 | O12: 254 | P12: 0 | Q12: 0 | R12: 1
B13: 12 | C13: Bolile aparatului genito-urinar Болезни мочеполовой системы | D13: N00-N99 | E13: 69 | F13: 10 | G13: 11 | H13: 20 | I13: 9 | J13: 1 | K13: 16 | L13: 2 | M13: 25 | N13: 17 | O13: 26 | P13: 1 | Q13: 0 | R13: 0
B14: 13 | C14: Malformaţii congenitale, deformaţii şi anomalii cromosomiale Врожденные пороки развития, деформации и хромосомиальные аномалии | D14: Q00-Q99 | E14: 53 | F14: 14 | G14: 10 | H14: 11 | I14: 3 | J14: 1 | K14: 11 | L14: 3 | M14: 7 | N14: 10 | O14: 31 | P14: 3 | Q14: 1 | R14: 1
B15: 14 | C15: Leziuni traumatice Травматические повреждения | D15: S 00-T 98 | E15: 407 | F15: 60 | G15: 61 | H15: 99 | I15: 43 | J15: 13 | K15: 124 | L15: 7 | M15: 47 | N15: 145 | O15: 201 | P15: 10 | Q15: 2 | R15: 2
B16: 15 | C16: Accidente de muncă Несчастные случаи на производстве | E16: 3 | F16: 0 | G16: 1 | H16: 1 | I16: 1 | J16: 0 | K16: 0 | L16: 0 | M16: 0 | N16: 1 | O16: 2 | P16: 0 | Q16: 0 | R16: 0
B17: 16 | C17: Boli profesionale şi intoxicări Профессиональные болезни и отравления | E17: 0 | F17: 0 | G17: 0 | H17: 0 | I17: 0 | J17: 0 | K17: 0 | L17: 0 | M17: 0 | N17: 0 | O17: 0 | P17: 0 | Q17: 0 | R17: 0
B18: 17 | C18: Alte boli Прочие болезни | E18: 127 | F18: 10 | G18: 15 | H18: 39 | I18: 25 | J18: 6 | K18: 31 | L18: 1 | M18: 3 | N18: 29 | O18: 88 | P18: 3 | Q18: 2 | R18: 2
B19: 18 | C19: Total Всего | E19: =SUM('7'!E10+'7'!E13+'7'!E14+'7'!E16+'7'!E19+'7'!E22+'7'!E24+'7'!E25+'8'!E6+'8'!E7+'8'!E10+'8'!E13+'8'!E14+'8'!E15+'8'!E18) -> 5915 | F19: =SUM('7'!F10+'7'!F13+'7'!F14+'7'!F16+'7'!F19+'7'!F22+'7'!F24+'7'!F25+'8'!F6+'8'!F7+'8'!F10+'8'!F13+'8'!F14+'8'!F15+'8'!F18) -> 366 | G19: =SUM('7'!G10+'7'!G13+'7'!G14+'7'!G16+'7'!G19+'7'!G22+'7'!G24+'7'!G25+'8'!G6+'8'!G7+'8'!G10+'8'!G13+'8'!G14+'8'!G15+'8'!G18) -> 669 | H19: =SUM('7'!H10+'7'!H13+'7'!H14+'7'!H16+'7'!H19+'7'!H22+'7'!H24+'7'!H25+'8'!H6+'8'!H7+'8'!H10+'8'!H13+'8'!H14+'8'!H15+'8'!H18) -> 1354 | I19: =SUM('7'!I10+'7'!I13+'7'!I14+'7'!I16+'7'!I19+'7'!I22+'7'!I24+'7'!I25+'8'!I6+'8'!I7+'8'!I10+'8'!I13+'8'!I14+'8'!I15+'8'!I18) -> 1027 | J19: =SUM('7'!J10+'7'!J13+'7'!J14+'7'!J16+'7'!J19+'7'!J22+'7'!J24+'7'!J25+'8'!J6+'8'!J7+'8'!J10+'8'!J13+'8'!J14+'8'!J15+'8'!J18) -> 274 | K19: =SUM('7'!K10+'7'!K13+'7'!K14+'7'!K16+'7'!K19+'7'!K22+'7'!K24+'7'!K25+'8'!K6+'8'!K7+'8'!K10+'8'!K13+'8'!K14+'8'!K15+'8'!K18) -> 2040 | L19: =SUM('7'!L10+'7'!L13+'7'!L14+'7'!L16+'7'!L19+'7'!L22+'7'!L24+'7'!L25+'8'!L6+'8'!L7+'8'!L10+'8'!L13+'8'!L14+'8'!L15+'8'!L18) -> 185 | ... R19: =SUM('7'!R10+'7'!R13+'7'!R14+'7'!R16+'7'!R19+'7'!R22+'7'!R24+'7'!R25+'8'!R6+'8'!R7+'8'!R10+'8'!R13+'8'!R14+'8'!R15+'8'!R18) -> 38
B20: 19 | C20: inclusiv femei в том числе женщин | E20: 2314 | F20: 137 | G20: 263 | H20: 613 | I20: 1027 | J20: 274 | K20: 0 | L20: 0 | M20: 227 | N20: 841 | O20: 1054 | P20: 137 | Q20: 40 | R20: 15
B22: 20. | C22: Din numărul total de persoane cu dizabilităţi caz nou: | H22: stabilită dizabilitate fără termen | L22: 325
C23: Из общего числа лиц с ограниченными возможностями впервые признанны: | H23: установлено ограничение возможностей бессрочно

Sheet 9
A1: VII. REZULTATELE REEXPERTIZĂRII PERSOANELOR CU DIZABILITĂȚI
A2: РЕЗУЛЬТАТЫ ПЕРЕОСВИДЕТЕЛЬСТВОВАНИЯ ЛИЦ С ОГРАНИЧЕННЫМИ ВОЗМОЖНОСТЯМИ
B3: a) Total reexpertizaţi locuitori urbani | D3: 14860 | E3: persoane
B4: Переосвидетельствованно городских жителей | E4: человек
B5: inclusiv: в том числе:
B6: persoane cu dizabilități din copilărie | D6: 1079 | E6: persoane
B7: лица с ограниченными возможностями с детства | E7: человек
B9: Rezultatele reexpertizării persoanelor cu dizabilități/ locuitori urbani
B10: Результаты переосвидетельствования лиц с ограниченными возможностями
A11: Nr. rînd № стр. | B11: Grad de dizabilitate pînă la reexpertizare степень ограничения возможностей до переосвидетельствования | C11: Număr reexpertizaţi Число переосвидетель-свованных | D11: Din nou încadraţi în grad de dizabilitate Снова признаны лица с ограниченными возможностями | E11: din ei: из них:
E12: Grad sever тяжелая степень (0-20%) | F12: Grad accentuat выраженная степень (25-40%) | G12: Grad mediu cредняя степень (45-60%)
A13: A | B13: B | C13: 1 | D13: 2 | E13: 3 | F13: 4 | G13: 5
A14: 1 | B14: Total Всего | C14: 14860 | D14: 14389 | E14: 1495 | F14: 6546 | G14: 6348
A15: 2 | B15: inclusiv: в том числе: În vîrstă aptă de muncă В трудоспособном возрасте | C15: 14000 | D15: 13539 | E15: 1199 | F15: 6171 | G15: 6169
A16: 3 | B16: grad sever тяжелая степень (0-20%) | C16: 1015 | D16: 1015 | E16: 827 | F16: 172 | G16: 16
A17: 4 | B17: grad accentuat выраженная степень (25-40%) | C17: 7058 | D17: 7007 | E17: 314 | F17: 5344 | G17: 1349
A18: 5 | B18: grad mediu cредняя степень (45-60%) | C18: 5927 | D18: 5517 | E18: 58 | F18: 655 | G18: 4804
A19: 6 | B19: Vîrstă pensionară: Пенсионный возраст | C19: 860 | D19: 850 | E19: 296 | F19: 375 | G19: 179
A20: 7 | B20: grad sever тяжелая степень | C20: 209 | D20: 209 | E20: 189 | F20: 18 | G20: 2
A21: 8 | B21: gradul accentuat выраженная степень | C21: 483 | D21: 480 | E21: 102 | F21: 324 | G21: 54
A22: 9 | B22: grad mediu cредняя степень | C22: 168 | D22: 161 | E22: 5 | F22: 33 | G22: 123
A24: 10. | B24: Dizabilitatea a fost stabilită fără termen 1 | C24: 2922 | D24: persoane 11. | E24: Persoane neîncadrate în grad de dizabilitate | G24: 471
B25: Ограниченные возможности установлены бессрочно человек | E25: Не установлены ограничения возможностей
B26: inclusiv: в том числе:
B27: femei în vîrstă de 57 ani şi mai mult 2 | C27: 360
B28: женщин в возрасте 57 лет и старше
B29: bărbaţi 62 ani şi mai mult 3 | C29: 640
B30: мужчин 62 лет и старше
B32: b) Total reexpertizaţi locuitori rurali | D32: 27641 | E32: persoane
B33: Переосвидетельствованно сельских жителей | E33: человек
B34: inclusiv: в том числе:
B35: persoane cu dizabilități din copilărie | D35: 2119 | E35: persoane
B36: лица с ограниченными возможностями с детства | E36: человек
B38: Rezultatele reexpertizării persoanelor cu dizabilități/ locuitori rurali
B39: Результаты переосвидетельствования лиц с ограниченными возможностями
A40: Nr. rînd № стр. | B40: Grad de dizabilitate pînă la reexpertizare степень ограничения возможностей до переосвидетельствования | C40: Număr reexpertizaţi Число переосвидетель-свованных | D40: Din nou încadraţi în grad de dizabilitate Снова признаны лица с ограниченными возможностями | E40: din ei: из них:
E41: Grad sever тяжелая степень (0-20%) | F41: Grad accentuat выраженная степень (25-40%) | G41: Grad mediu cредняя степень (45-60%)
A42: A | B42: B | C42: 1 | D42: 2 | E42: 3 | F42: 4 | G42: 5
A43: 1 | B43: Total Всего | C43: 27641 | D43: 26474 | E43: 2533 | F43: 11249 | G43: 12692
A44: 2 | B44: inclusiv: в том числе: În vîrstă aptă de muncă В трудоспособном возрасте | C44: 26334 | D44: 25182 | E44: 2138 | F44: 10638 | G44: 12406
...

Sheet 10
P1: Anexa la f. nr.27 (CDDCM)
P2: Вкладной лист к ф. №27 (КУОВТ)
C3: IV. REPARTIZAREA PERSOANELOR REEXPERTIZATE CU DIZABILITĂŢI DUPĂ FORMELE DE BOALĂ, VÎRSTĂ, GEN, GRADUL DE DIZABILITATE ŞI CAPACITATE DE MUNCĂ
C4: РАСПРЕДЕЛЕНИЕ ПОВТОРНО ПРИЗНАННЫХ ЛИЦ С ОГРАНИЧЕННЫМИ ВОЗМОЖНОСТЯМИ ПО ФОРМАМ БОЛЕЗНЕЙ,ВОЗРАСТУ, ПОЛУ И СТЕПЕНИ ОГРАНИЧЕНИЯ ВОЗМОЖНОСТЕЙ
C5: a) total populaţie всего население
B6: Nr rînd № строки | C6: Diagnosticul CDDCM Диагноз КУОВТ | D6: Cifru conform CIM revizia X Шифр по МКБ X пересмотра | E6: Total persoane cu dizabilităţi Всего лиц с ограни-ченными возмож-ностями | F6: Inclusiv în vîrstă В том числе в возрасте | M6: Din numărul total de persoane cu dizabilităţi s-a determinat grad de dizabilitate şi capacitate de muncă Из общего числа лиц с ограниченными возможностями определены степень ограничения возможностeй и трудоспособность
F7: 18- 29 ani | G7: 30-39 ani | H7: 40-49 ani | I7: femei женщины | K7: bărbaţi мужчины | M7: În vîrstă aptă de muncă В трудоспособном возрасте | P7: Vîrstă pensionară Пенсионный возраст
I8: 50-58 ani 5 luni | J8: 58 ani 6 luni şi mai mult | K8: 50-62 ani | L8: 63 şi mai mult | M8: Grad sever тяжелая степень (0-20%) | N8: Grad accentuat выраженная степень (25-40%) | O8: Grad mediu cредняя степень (45-60%) | P8: Grad sever тяжелая степень (0-20%) | Q8: Grad accentuat выраженная степень (25-40%) | R8: Grad mediu cредняя степень (45-60%)
B9: A | C9: B | D9: C | E9: 1 | F9: 2 | G9: 3 | H9: 4 | I9: 5 | J9: 6 | K9: 7 | L9: 8 | M9: 9 | N9: 10 | O9: 11 | P9: 12 | Q9: 13 | R9: 14
B10: 1 | C10: Tuberculoză Туберкулез | D10: А15-А19 B20.0 | E10: ='12'!E10+'14'!E10 -> 535 | F10: ='12'!F10+'14'!F10 -> 18 | G10: ='12'!G10+'14'!G10 -> 88 | H10: ='12'!H10+'14'!H10 -> 183 | I10: ='12'!I10+'14'!I10 -> 22 | J10: ='12'!J10+'14'!J10 -> 3 | K10: ='12'!K10+'14'!K10 -> 214 | L10: ='12'!L10+'14'!L10 -> 7 | ... R10: ='12'!R10+'14'!R10 -> 2
B11: 1.1 | C11: inclusiv: в том числе: tuberculoza aparatului respirator туберкулез органов дыхания | D11: А15-A16 | E11: ='12'!E11+'14'!E11 -> 439 | F11: ='12'!F11+'14'!F11 -> 11 | G11: ='12'!G11+'14'!G11 -> 69 | H11: ='12'!H11+'14'!H11 -> 143 | I11: ='12'!I11+'14'!I11 -> 17 | J11: ='12'!J11+'14'!J11 -> 2 | K11: ='12'!K11+'14'!K11 -> 191 | L11: ='12'!L11+'14'!L11 -> 6 | ... R11: ='12'!R11+'14'!R11 -> 1
B12: 1.2 | C12: tuberculoza asociată cu SIDA туберкулез ассоциированный со СПИДом | D12: B20.0 | E12: ='12'!E12+'14'!E12 -> 73 | F12: ='12'!F12+'14'!F12 -> 5 | G12: ='12'!G12+'14'!G12 -> 18 | H12: ='12'!H12+'14'!H12 -> 32 | I12: ='12'!I12+'14'!I12 -> 2 | J12: ='12'!J12+'14'!J12 -> 1 | K12: ='12'!K12+'14'!K12 -> 15 | L12: ='12'!L12+'14'!L12 -> 0 | ... R12: ='12'!R12+'14'!R12 -> 0
B13: 2 | C13: SIDA СПИД | D13: B20-B24 | E13: ='12'!E13+'14'!E13 -> 163 | F13: ='12'!F13+'14'!F13 -> 6 | G13: ='12'!G13+'14'!G13 -> 52 | H13: ='12'!H13+'14'!H13 -> 70 | I13: ='12'!I13+'14'!I13 -> 10 | J13: ='12'!J13+'14'!J13 -> 1 | K13: ='12'!K13+'14'!K13 -> 24 | L13: ='12'!L13+'14'!L13 -> 0 | ... R13: ='12'!R13+'14'!R13 -> 1
B14: 3 | C14: Tumori Новообразования | D14: C 00- D 48 | E14: ='12'!E14+'14'!E14 -> 5564 | F14: ='12'!F14+'14'!F14 -> 231 | G14: ='12'!G14+'14'!G14 -> 557 | H14: ='12'!H14+'14'!H14 -> 1378 | I14: ='12'!I14+'14'!I14 -> 1607 | J14: ='12'!J14+'14'!J14 -> 308 | K14: ='12'!K14+'14'!K14 -> 1333 | L14: ='12'!L14+'14'!L14 -> 150 | ... R14: ='12'!R14+'14'!R14 -> 66
B15: 3.1 | C15: inclusiv tumori maligne в том числе злокачественные новообразования | D15: C00-C97 | E15: ='12'!E15+'14'!E15 -> 5111 | F15: ='12'!F15+'14'!F15 -> 186 | G15: ='12'!G15+'14'!G15 -> 492 | H15: ='12'!H15+'14'!H15 -> 1262 | I15: ='12'!I15+'14'!I15 -> 1493 | J15: ='12'!J15+'14'!J15 -> 293 | K15: ='12'!K15+'14'!K15 -> 1242 | L15: ='12'!L15+'14'!L15 -> 143 | ... R15: ='12'!R15+'14'!R15 -> 63
A16: 10 | B16: 4 | C16: Bolile endocrine,de nutriţie şi metabolism Болезни эндокринной системы, расстройства питания и нарушения обмена веществ | D16: E00-E90 | E16: ='12'!E16+'14'!E16 -> 3808 | F16: ='12'!F16+'14'!F16 -> 302 | G16: ='12'!G16+'14'!G16 -> 323 | H16: ='12'!H16+'14'!H16 -> 692 | I16: ='12'!I16+'14'!I16 -> 995 | J16: ='12'!J16+'14'!J16 -> 190 | K16: ='12'!K16+'14'!K16 -> 1191 | L16: ='12'!L16+'14'!L16 -> 115 | ... R16: ='12'!R16+'14'!R16 -> 45
B17: 4.1 | C17: inclusiv: в том числе: diabetul zaharat сахарный диабет | D17: E10-E14 | E17: ='12'!E17+'14'!E17 -> 3050 | F17: ='12'!F17+'14'!F17 -> 252 | G17: ='12'!G17+'14'!G17 -> 232 | H17: ='12'!H17+'14'!H17 -> 475 | I17: ='12'!I17+'14'!I17 -> 702 | J17: ='12'!J17+'14'!J17 -> 161 | K17: ='12'!K17+'14'!K17 -> 1117 | L17: ='12'!L17+'14'!L17 -> 111 | ... R17: ='12'!R17+'14'!R17 -> 39
B18: 4.2 | C18: afecţiunile glandei tiroide болезни щитовидной жедезы | D18: E00-E07 | E18: ='12'!E18+'14'!E18 -> 547 | F18: ='12'!F18+'14'!F18 -> 26 | G18: ='12'!G18+'14'!G18 -> 63 | H18: ='12'!H18+'14'!H18 -> 159 | I18: ='12'!I18+'14'!I18 -> 224 | J18: ='12'!J18+'14'!J18 -> 21 | K18: ='12'!K18+'14'!K18 -> 51 | L18: ='12'!L18+'14'!L18 -> 3 | ... R18: ='12'!R18+'14'!R18 -> 5
B19: 5 | C19: Tulburări mentale şi de comportament Психические расстройства и расстройства поведения | D19: F00-F99 | E19: ='12'!E19+'14'!E19 -> 3229 | F19: ='12'!F19+'14'!F19 -> 861 | G19: ='12'!G19+'14'!G19 -> 715 | H19: ='12'!H19+'14'!H19 -> 664 | I19: ='12'!I19+'14'!I19 -> 393 | J19: ='12'!J19+'14'!J19 -> 82 | K19: ='12'!K19+'14'!K19 -> 473 | L19: ='12'!L19+'14'!L19 -> 41 | ... R19: ='12'!R19+'14'!R19 -> 12
B20: 5.1 | C20: inclusiv schizofrenia в том числе шизофрения | D20: F 20-F29 | E20: ='12'!E20+'14'!E20 -> 1062 | F20: ='12'!F20+'14'!F20 -> 162 | G20: ='12'!G20+'14'!G20 -> 381 | H20: ='12'!H20+'14'!H20 -> 274 | I20: ='12'!I20+'14'!I20 -> 132 | J20: ='12'!J20+'14'!J20 -> 24 | K20: ='12'!K20+'14'!K20 -> 83 | L20: ='12'!L20+'14'!L20 -> 6 | ... R20: ='12'!R20+'14'!R20 -> 0
B21: 5.2 | C21: inclusiv: в том числе: tulburări de spectru autist расстройство аутистического спектра | D21: F84-F84.9 | E21: ='12'!E21+'14'!E21 -> 8 | F21: ='12'!F21+'14'!F21 -> 8 | G21: ='12'!G21+'14'!G21 -> 0 | H21: ='12'!H21+'14'!H21 -> 0 | I21: ='12'!I21+'14'!I21 -> 0 | J21: ='12'!J21+'14'!J21 -> 0 | K21: ='12'!K21+'14'!K21 -> 0 | L21: ='12'!L21+'14'!L21 -> 0 | ... R21: ='12'!R21+'14'!R21 -> 0
B22: 6 | C22: Bolile sistemului nervos Болезни нервной системы | D22: G00-G99 | E22: ='12'!E22+'14'!E22 -> 3815 | F22: ='12'!F22+'14'!F22 -> 574 | G22: ='12'!G22+'14'!G22 -> 425 | H22: ='12'!H22+'14'!H22 -> 704 | I22: ='12'!I22+'14'!I22 -> 481 | J22: ='12'!J22+'14'!J22 -> 129 | K22: ='12'!K22+'14'!K22 -> 1326 | L22: ='12'!L22+'14'!L22 -> 176 | ... R22: ='12'!R22+'14'!R22 -> 40
B23: 6.1 | C23: inclusiv: epilepsia şi sindroame epileptice в том числе:эрилерсия и эпилеп. Синдромы | D23: G40-G41 | E23: ='12'!E23+'14'!E23 -> 637 | F23: ='12'!F23+'14'!F23 -> 173 | G23: ='12'!G23+'14'!G23 -> 129 | H23: ='12'!H23+'14'!H23 -> 139 | I23: ='12'!I23+'14'!I23 -> 58 | J23: ='12'!J23+'14'!J23 -> 4 | K23: ='12'!K23+'14'!K23 -> 127 | L23: ='12'!L23+'14'!L23 -> 7 | ... R23: ='12'!R23+'14'!R23 -> 2
B24: 7 | C24: Bolile ochiului şi anexelor sale Болезни глаза и его придатков | D24: H00-H59 | E24: ='12'!E24+'14'!E24 -> 1818 | F24: ='12'!F24+'14'!F24 -> 197 | G24: ='12'!G24+'14'!G24 -> 242 | H24: ='12'!H24+'14'!H24 -> 323 | I24: ='12'!I24+'14'!I24 -> 243 | J24: ='12'!J24+'14'!J24 -> 136 | K24: ='12'!K24+'14'!K24 -> 555 | L24: ='12'!L24+'14'!L24 -> 122 | ... R24: ='12'!R24+'14'!R24 -> 17
B25: 8 | C25: Bolile aparatului circulator Болезни системы кровообращения | D25: I 00-I 99 | E25: ='12'!E25+'14'!E25 -> 8038 | F25: ='12'!F25+'14'!F25 -> 61 | G25: ='12'!G25+'14'!G25 -> 150 | H25: ='12'!H25+'14'!H25 -> 834 | I25: ='12'!I25+'14'!I25 -> 1217 | J25: ='12'!J25+'14'!J25 -> 325 | K25: ='12'!K25+'14'!K25 -> 4837 | L25: ='12'!L25+'14'!L25 -> 614 | ... R25: ='12'!R25+'14'!R25 -> 146
B26: 8.1 | C26: inclusiv: в том числе: cardiopatia reumatismală cronică хронические ревматические болезни сердца | D26: I 05-I 09 | E26: ='12'!E26+'14'!E26 -> 385 | F26: ='12'!F26+'14'!F26 -> 19 | G26: ='12'!G26+'14'!G26 -> 17 | H26: ='12'!H26+'14'!H26 -> 70 | I26: ='12'!I26+'14'!I26 -> 103 | J26: ='12'!J26+'14'!J26 -> 28 | K26: ='12'!K26+'14'!K26 -> 141 | L26: ='12'!L26+'14'!L26 -> 7 | ... R26: ='12'!R26+'14'!R26 -> 8
B27: 8.2 | C27: boală hipertensivă гипертоническая болезнь | D27: I 10-I 15 | E27: ='12'!E27+'14'!E27 -> 967 | F27: ='12'!F27+'14'!F27 -> 3 | G27: ='12'!G27+'14'!G27 -> 11 | H27: ='12'!H27+'14'!H27 -> 102 | I27: ='12'!I27+'14'!I27 -> 282 | J27: ='12'!J27+'14'!J27 -> 35 | K27: ='12'!K27+'14'!K27 -> 502 | L27: ='12'!L27+'14'!L27 -> 32 | ... R27: ='12'!R27+'14'!R27 -> 26
B28: 8.3 | C28: boală ischemică a inimi ишемическая болезнь сердца | D28: I 20-I 25 | E28: ='12'!E28+'14'!E28 -> 2788 | F28: ='12'!F28+'14'!F28 -> 2 | G28: ='12'!G28+'14'!G28 -> 29 | H28: ='12'!H28+'14'!H28 -> 213 | I28: ='12'!I28+'14'!I28 -> 275 | J28: ='12'!J28+'14'!J28 -> 59 | K28: ='12'!K28+'14'!K28 -> 2024 | L28: ='12'!L28+'14'!L28 -> 186 | ... R28: ='12'!R28+'14'!R28 -> 59
