Workbook

Sheet Лист1
A1: RAPORT STATISTIC DE RAMURĂ ОТРАСЛЕВОЙ СТАТИСТИЧЕСКИЙ ОТЧЁТ
K3: In conformitate cu Legea Republicii Moldova Nr. 412-XV din 9.12.2004 «Cu privire la statistica oficială» organele statisticii oficiale: -au dreptul să obţină date statistice de la toate persoanele fizice si juridice, indiferent de forma de proprietate; -asigură comfidențialitatea datelor individuale obținute și utilizarea lor numai în scopuri statistice. Refuzul, prezentarea cu întîrziere a datelor statistice, prezentarea datelor eronate sau în volum incomplet constituie contravenție administrativă şi se sancţionează conform legislaţiei în vigoare. В соответствии с Законом Республики Молдова N 412-XV oт 9.12.2004 «Об официальной статистике» органы официальной статистики: -имеют право получать статистические данные от всех физических и юридических лиц независимо от формы собственности; -гарантируют конфиденциальность полученных итдивидуальных данных и их использование только в статистических целях. Отказ, представление статистических данных с опозданием, представление ошибочных данных или не в полном объеме, является административным правонарушением и влекут за собой применение санкций в соответствии с действующим законодательством. Aprobat de MSMPSF al Republicii Moldova prin ordinul Nr. 989 din 2020 Утвержден приказом МЗТСЗ Республики Молдова № 989 от 2020 Prezintă: -Consiliul Naţional pentru Determinarea Dizabilităţii şi Capacităţii de Muncă -MSMPS al Republicii Moldova (către Agenția Națională pentru Sănătate Publică) în termenele fixate de ultimul; -MSMPS al Republicii Moldova (Agenția Națională pentru Sănătate Publică) centralizator anual la 3 martie - Biroului Naţional de Statistică. Представляют: - Национальный Консилиум Установления Ограничения Возможностей и Трудоспособности- МЗТСЗ РМ (Национальному Агенству Общественного Здоровья в установленные последним сроки; -МЗТСЗ Республики Молдова (Национальное Агенство Общественного Здоровья) сводные данные за год 3 марта Национальному Бюро Статистики.
A4: Denumirea: Наименование:
A5: CNDDCM
A9: Adresa: | B9: Адрес:
F10: RAPORT STATISTIC Nr 27, ANEXA-1
A11: Raionul (municipiul) | C11: Chișinău | F11: (semestrial, anual)
A12: Район (муниципий)
F13: PRIVIND DETERMINAREA DIZABILITĂŢII ŞI CAPACITĂŢII DE MUNCĂ LA ADULŢI DUPĂ TIPURI DE AFECTĂRI ALE FUCȚIILOR ȘI UNITĂȚI ADMINISTRATIV-TERITORIALE
A17: Strada | B17: Alecsandri | D17: , nr | E17: 1
A18: Улица | F18: СТАТИСТИЧЕСКИЙ ОТЧЁТ №27, ВКЛАДЫШ-1 (годовой)
F19: (полугодовой, годовой)
A20: Cod CUIÎO
A21: Код | F21: ОБ УСТАНОВЛЕНИИ ОГРАНИЧЕНИЯ ВОЗМОЖНОСТЕЙ И ТРУДОСПОСОБНОСТИ У ВЗРОСЛЫХ ПО ТИПУ НАРУШЕНИЯ ФУНКЦИИ И АДМИНИСТРАТИВНО-ТЕРРИТОРИАЛЬНЫМ ЕДИНИЦАМ
A23: Cod INDO | C23: 1007601001134
A24: Код
C25: Cod CAEM, ediţia 2005
A26: Activitatea principală
A27: Основной вид деятельности | G27: pe 20 | H27: 21
G28: за
F32: CODUL MUNICIPIULUI / RAIONULUI
A33: Conducătorul L.Ş. Руководитель М.П.
A34: Руководитель | D34: М.П.
A36: Numele şi coordonatele executantului
A37: Фамилия и координаты исполнителя
A39: Dl (dna) | B39: Stela Pînzaru
A40: Tel: | B40: 22820677
F41: Ziua | G41: Luna | I41: Anul
A42: e-mail | B42: cnddcm@cnddcm.gov.md | F42: 8 | G42: 2 | I42: 22

Sheet 2
B1: I. REPARTIZAREA PERSOANELOR CU DIZABILITĂŢI CAZ NOU ȘI A PERSOANELOR CU DIZABILITĂŢI REEXPERTIZATE, DUPĂ CATEGORIE DE VÎRSTĂ, GEN, GRADUL DE DIZABILITATE ŞI CAPACITATE DE MUNCĂ, DUPĂ TIPURI DE AFECTĂRI ALE FUCȚIILOR ȘI UNITĂȚI ADMINISTRATIV-TERITORIALE
B2: РАСПРЕДЕЛЕНИЕ ПЕРВИЧНО И ВТОРИЧНО ПРИЗНАННЫХ ЛИЦ С ОГРАНИЧЕННЫМИ ВОЗМОЖНОСТЯМИ ПО ВОЗРАСТНЫМ КАТЕГОРИЯМ, ПОЛУ, ТИПУ НАРУШЕНИЯ ФУНКЦИИ И АДМИНИСТРАТИВНО-ТЕРРИТОРИАЛЬНЫМ ЕДИНИЦАМ
B3: a) total populaţie всего население
A4: Nr rînd № строки | B4: Unitatea administrativ-teritorială Административно-территориальная единица | C4: Total persoane cu dizabilităţi Всего лиц с ограниченными возможностями | E4: Din numărul total de persoane cu dizabilităţi s-a determinat grad de dizabilitate şi capacitate de muncă Из общего числа лиц с ограниченными возможностями определены степень ограничения возможностeй и трудоспособность | K4: Din numărul total de persoane cu dizabilităţi s-au determinat tipurile de afectări ale funcțiilor Из общего числа лиц с ограниченными возможностями определены нарушения функций
E5: În vîrstă aptă de muncă В трудоспособном возрасте | H5: Vîrstă pensionară Пенсионный возраст
C6: TOTAL ВСЕГО | D6: Inclusiv de sex feminin В том числе женского пола | E6: Grad sever тяжелая степень (0-20%) | F6: Grad accentuat выраженная степень (25-40%) | G6: Grad mediu cредняя степень (45-60%) | H6: Grad sever тяжелая степень (0-20%) | I6: Grad accentuat выраженная степень (25-40%) | J6: Grad mediu cредняя степень (45-60%) | K6: Afectări mintale Нарушение умственных функций | L6: Afectări senzoriale de auz Нарушение сенсорных функции слуха | M6: Afectări senzoriale de vedere Нарушение сенсорных функций зрения | N6: Afectări de vorbire Нарушения функций речи | O6: Afectări senzoriale Нарушения других сенсорных функций | P6: Afectări ale sistemelor cardiovascular, hematologic, imunitar și respirator Нарушение функции сердечно-сосудистой, крови, имунной и дыхательной систем | Q6: Afectări ale sistemelor digestiv, metabolic și endocrin Нарушение функции пищеварительной, эндокринной систем и метаболизма | R6: Afectări urogenitale și de reproducere Нарушения урогенитальной и репродуктивной функции | S6: Afectări neuromusculoscheletice și ale mișcărilor aferente Нарушение нейромышечной, скелетной и связанных с движением функций | T6: Afectări ale pielii și structurilor aferente pielii Нарушении функций кожи и связанных с ней структур
A7: A | B7: B | C7: C | D7: 1 | E7: 2 | F7: 3 | G7: 4 | H7: 5 | I7: 6 | J7: 7 | K7: 8 | L7: 9 | M7: 10 | N7: 11 | O7: 12 | P7: 13 | Q7: 14 | R7: 15 | S7: 16 | T7: 17
B8: ANENII NOI | C8: ='3'!C8+'4'!C8+'5'!C8+'6'!C8 -> 1369 | D8: ='3'!D8+'4'!D8+'5'!D8+'6'!D8 -> 639 | E8: ='3'!E8+'4'!E8+'5'!E8+'6'!E8 -> 87 | F8: ='3'!F8+'4'!F8+'5'!F8+'6'!F8 -> 573 | G8: ='3'!G8+'4'!G8+'5'!G8+'6'!G8 -> 656 | H8: ='3'!H8+'4'!H8+'5'!H8+'6'!H8 -> 37 | I8: ='3'!I8+'4'!I8+'5'!I8+'6'!I8 -> 9 | J8: ='3'!J8+'4'!J8+'5'!J8+'6'!J8 -> 7 | ... T8: ='3'!T8+'4'!T8+'5'!T8+'6'!T8 -> 39
B9: BASARABEASCA | C9: ='3'!C9+'4'!C9+'5'!C9+'6'!C9 -> 435 | D9: ='3'!D9+'4'!D9+'5'!D9+'6'!D9 -> 175 | E9: ='3'!E9+'4'!E9+'5'!E9+'6'!E9 -> 31 | F9: ='3'!F9+'4'!F9+'5'!F9+'6'!F9 -> 176 | G9: ='3'!G9+'4'!G9+'5'!G9+'6'!G9 -> 200 | H9: ='3'!H9+'4'!H9+'5'!H9+'6'!H9 -> 13 | I9: ='3'!I9+'4'!I9+'5'!I9+'6'!I9 -> 13 | J9: ='3'!J9+'4'!J9+'5'!J9+'6'!J9 -> 2 | ... T9: ='3'!T9+'4'!T9+'5'!T9+'6'!T9 -> 12
B10: BRICENI | C10: ='3'!C10+'4'!C10+'5'!C10+'6'!C10 -> 919 | D10: ='3'!D10+'4'!D10+'5'!D10+'6'!D10 -> 367 | E10: ='3'!E10+'4'!E10+'5'!E10+'6'!E10 -> 79 | F10: ='3'!F10+'4'!F10+'5'!F10+'6'!F10 -> 354 | G10: ='3'!G10+'4'!G10+'5'!G10+'6'!G10 -> 432 | H10: ='3'!H10+'4'!H10+'5'!H10+'6'!H10 -> 25 | I10: ='3'!I10+'4'!I10+'5'!I10+'6'!I10 -> 23 | J10: ='3'!J10+'4'!J10+'5'!J10+'6'!J10 -> 6 | ... T10: ='3'!T10+'4'!T10+'5'!T10+'6'!T10 -> 25
B11: BĂLŢI | C11: ='3'!C11+'4'!C11+'5'!C11+'6'!C11 -> 1481 | D11: ='3'!D11+'4'!D11+'5'!D11+'6'!D11 -> 650 | E11: ='3'!E11+'4'!E11+'5'!E11+'6'!E11 -> 130 | F11: ='3'!F11+'4'!F11+'5'!F11+'6'!F11 -> 727 | G11: ='3'!G11+'4'!G11+'5'!G11+'6'!G11 -> 573 | H11: ='3'!H11+'4'!H11+'5'!H11+'6'!H11 -> 16 | I11: ='3'!I11+'4'!I11+'5'!I11+'6'!I11 -> 25 | J11: ='3'!J11+'4'!J11+'5'!J11+'6'!J11 -> 10 | ... T11: ='3'!T11+'4'!T11+'5'!T11+'6'!T11 -> 62
B12: CAHUL | C12: ='3'!C12+'4'!C12+'5'!C12+'6'!C12 -> 1422 | D12: ='3'!D12+'4'!D12+'5'!D12+'6'!D12 -> 559 | E12: ='3'!E12+'4'!E12+'5'!E12+'6'!E12 -> 126 | F12: ='3'!F12+'4'!F12+'5'!F12+'6'!F12 -> 479 | G12: ='3'!G12+'4'!G12+'5'!G12+'6'!G12 -> 757 | H12: ='3'!H12+'4'!H12+'5'!H12+'6'!H12 -> 29 | I12: ='3'!I12+'4'!I12+'5'!I12+'6'!I12 -> 17 | J12: ='3'!J12+'4'!J12+'5'!J12+'6'!J12 -> 14 | ... T12: ='3'!T12+'4'!T12+'5'!T12+'6'!T12 -> 39
B13: CĂLĂRAŞI | C13: ='3'!C13+'4'!C13+'5'!C13+'6'!C13 -> 1241 | D13: ='3'!D13+'4'!D13+'5'!D13+'6'!D13 -> 482 | E13: ='3'!E13+'4'!E13+'5'!E13+'6'!E13 -> 93 | F13: ='3'!F13+'4'!F13+'5'!F13+'6'!F13 -> 497 | G13: ='3'!G13+'4'!G13+'5'!G13+'6'!G13 -> 621 | H13: ='3'!H13+'4'!H13+'5'!H13+'6'!H13 -> 13 | I13: ='3'!I13+'4'!I13+'5'!I13+'6'!I13 -> 14 | J13: ='3'!J13+'4'!J13+'5'!J13+'6'!J13 -> 3 | ... T13: ='3'!T13+'4'!T13+'5'!T13+'6'!T13 -> 22
B14: CANTEMIR | C14: ='3'!C14+'4'!C14+'5'!C14+'6'!C14 -> 782 | D14: ='3'!D14+'4'!D14+'5'!D14+'6'!D14 -> 299 | E14: ='3'!E14+'4'!E14+'5'!E14+'6'!E14 -> 61 | F14: ='3'!F14+'4'!F14+'5'!F14+'6'!F14 -> 334 | G14: ='3'!G14+'4'!G14+'5'!G14+'6'!G14 -> 360 | H14: ='3'!H14+'4'!H14+'5'!H14+'6'!H14 -> 10 | I14: ='3'!I14+'4'!I14+'5'!I14+'6'!I14 -> 10 | J14: ='3'!J14+'4'!J14+'5'!J14+'6'!J14 -> 7 | ... T14: ='3'!T14+'4'!T14+'5'!T14+'6'!T14 -> 23
B15: CĂUŞENI | C15: ='3'!C15+'4'!C15+'5'!C15+'6'!C15 -> 1081 | D15: ='3'!D15+'4'!D15+'5'!D15+'6'!D15 -> 444 | E15: ='3'!E15+'4'!E15+'5'!E15+'6'!E15 -> 65 | F15: ='3'!F15+'4'!F15+'5'!F15+'6'!F15 -> 463 | G15: ='3'!G15+'4'!G15+'5'!G15+'6'!G15 -> 528 | H15: ='3'!H15+'4'!H15+'5'!H15+'6'!H15 -> 10 | I15: ='3'!I15+'4'!I15+'5'!I15+'6'!I15 -> 11 | J15: ='3'!J15+'4'!J15+'5'!J15+'6'!J15 -> 4 | ... T15: ='3'!T15+'4'!T15+'5'!T15+'6'!T15 -> 34
B16: CEADÎR-LUNGA | C16: ='3'!C16+'4'!C16+'5'!C16+'6'!C16 -> 1202 | D16: ='3'!D16+'4'!D16+'5'!D16+'6'!D16 -> 483 | E16: ='3'!E16+'4'!E16+'5'!E16+'6'!E16 -> 94 | F16: ='3'!F16+'4'!F16+'5'!F16+'6'!F16 -> 321 | G16: ='3'!G16+'4'!G16+'5'!G16+'6'!G16 -> 758 | H16: ='3'!H16+'4'!H16+'5'!H16+'6'!H16 -> 10 | I16: ='3'!I16+'4'!I16+'5'!I16+'6'!I16 -> 8 | J16: ='3'!J16+'4'!J16+'5'!J16+'6'!J16 -> 11 | ... T16: ='3'!T16+'4'!T16+'5'!T16+'6'!T16 -> 31
B17: CHIȘINĂU | C17: ='3'!C17+'4'!C17+'5'!C17+'6'!C17 -> 6802 | D17: ='3'!D17+'4'!D17+'5'!D17+'6'!D17 -> 2956 | E17: ='3'!E17+'4'!E17+'5'!E17+'6'!E17 -> 756 | F17: ='3'!F17+'4'!F17+'5'!F17+'6'!F17 -> 2894 | G17: ='3'!G17+'4'!G17+'5'!G17+'6'!G17 -> 2761 | H17: ='3'!H17+'4'!H17+'5'!H17+'6'!H17 -> 238 | I17: ='3'!I17+'4'!I17+'5'!I17+'6'!I17 -> 111 | J17: ='3'!J17+'4'!J17+'5'!J17+'6'!J17 -> 42 | ... T17: ='3'!T17+'4'!T17+'5'!T17+'6'!T17 -> 456
B18: CIMIŞLIA | C18: ='3'!C18+'4'!C18+'5'!C18+'6'!C18 -> 612 | D18: ='3'!D18+'4'!D18+'5'!D18+'6'!D18 -> 226 | E18: ='3'!E18+'4'!E18+'5'!E18+'6'!E18 -> 72 | F18: ='3'!F18+'4'!F18+'5'!F18+'6'!F18 -> 273 | G18: ='3'!G18+'4'!G18+'5'!G18+'6'!G18 -> 230 | H18: ='3'!H18+'4'!H18+'5'!H18+'6'!H18 -> 20 | I18: ='3'!I18+'4'!I18+'5'!I18+'6'!I18 -> 13 | J18: ='3'!J18+'4'!J18+'5'!J18+'6'!J18 -> 4 | ... T18: ='3'!T18+'4'!T18+'5'!T18+'6'!T18 -> 16
B19: COMRAT | C19: ='3'!C19+'4'!C19+'5'!C19+'6'!C19 -> 1027 | D19: ='3'!D19+'4'!D19+'5'!D19+'6'!D19 -> 429 | E19: ='3'!E19+'4'!E19+'5'!E19+'6'!E19 -> 100 | F19: ='3'!F19+'4'!F19+'5'!F19+'6'!F19 -> 313 | G19: ='3'!G19+'4'!G19+'5'!G19+'6'!G19 -> 572 | H19: ='3'!H19+'4'!H19+'5'!H19+'6'!H19 -> 26 | I19: ='3'!I19+'4'!I19+'5'!I19+'6'!I19 -> 8 | J19: ='3'!J19+'4'!J19+'5'!J19+'6'!J19 -> 8 | ... M19: ='3'!M19+'4'!M19+'5'!M19+'6'!M19 -> 39 | N19: 2 | O19: ='3'!O19+'4'!O19+'5'!O19+'6'!O19 -> 0 | P19: ='3'!P19+'4'!P19+'5'!P19+'6'!P19 -> 172 | Q19: ='3'!Q19+'4'!Q19+'5'!Q19+'6'!Q19 -> 233 | R19: ='3'!R19+'4'!R19+'5'!R19+'6'!R19 -> 62 | S19: 399 | T19: ='3'!T19+'4'!T19+'5'!T19+'6'!T19 -> 36
B20: CRIULENI | C20: ='3'!C20+'4'!C20+'5'!C20+'6'!C20 -> 957 | D20: ='3'!D20+'4'!D20+'5'!D20+'6'!D20 -> 427 | E20: ='3'!E20+'4'!E20+'5'!E20+'6'!E20 -> 76 | F20: ='3'!F20+'4'!F20+'5'!F20+'6'!F20 -> 374 | G20: ='3'!G20+'4'!G20+'5'!G20+'6'!G20 -> 473 | H20: ='3'!H20+'4'!H20+'5'!H20+'6'!H20 -> 23 | I20: ='3'!I20+'4'!I20+'5'!I20+'6'!I20 -> 8 | J20: ='3'!J20+'4'!J20+'5'!J20+'6'!J20 -> 3 | ... T20: ='3'!T20+'4'!T20+'5'!T20+'6'!T20 -> 30
B21: DONDUŞENI | C21: ='3'!C21+'4'!C21+'5'!C21+'6'!C21 -> 629 | D21: ='3'!D21+'4'!D21+'5'!D21+'6'!D21 -> 274 | E21: ='3'!E21+'4'!E21+'5'!E21+'6'!E21 -> 59 | F21: ='3'!F21+'4'!F21+'5'!F21+'6'!F21 -> 267 | G21: ='3'!G21+'4'!G21+'5'!G21+'6'!G21 -> 270 | H21: ='3'!H21+'4'!H21+'5'!H21+'6'!H21 -> 20 | I21: ='3'!I21+'4'!I21+'5'!I21+'6'!I21 -> 11 | J21: ='3'!J21+'4'!J21+'5'!J21+'6'!J21 -> 2 | ... T21: ='3'!T21+'4'!T21+'5'!T21+'6'!T21 -> 16
B22: DROCHIA | C22: ='3'!C22+'4'!C22+'5'!C22+'6'!C22 -> 1174 | D22: ='3'!D22+'4'!D22+'5'!D22+'6'!D22 -> 509 | E22: ='3'!E22+'4'!E22+'5'!E22+'6'!E22 -> 84 | F22: ='3'!F22+'4'!F22+'5'!F22+'6'!F22 -> 441 | G22: ='3'!G22+'4'!G22+'5'!G22+'6'!G22 -> 600 | H22: ='3'!H22+'4'!H22+'5'!H22+'6'!H22 -> 22 | I22: ='3'!I22+'4'!I22+'5'!I22+'6'!I22 -> 23 | J22: ='3'!J22+'4'!J22+'5'!J22+'6'!J22 -> 4 | ... T22: ='3'!T22+'4'!T22+'5'!T22+'6'!T22 -> 33
B23: DUBĂSARI | C23: ='3'!C23+'4'!C23+'5'!C23+'6'!C23 -> 447 | D23: ='3'!D23+'4'!D23+'5'!D23+'6'!D23 -> 194 | E23: ='3'!E23+'4'!E23+'5'!E23+'6'!E23 -> 53 | F23: ='3'!F23+'4'!F23+'5'!F23+'6'!F23 -> 181 | G23: ='3'!G23+'4'!G23+'5'!G23+'6'!G23 -> 200 | H23: ='3'!H23+'4'!H23+'5'!H23+'6'!H23 -> 10 | I23: ='3'!I23+'4'!I23+'5'!I23+'6'!I23 -> 2 | J23: ='3'!J23+'4'!J23+'5'!J23+'6'!J23 -> 1 | ... T23: ='3'!T23+'4'!T23+'5'!T23+'6'!T23 -> 18
B24: EDINEŢ | C24: ='3'!C24+'4'!C24+'5'!C24+'6'!C24 -> 1275 | D24: ='3'!D24+'4'!D24+'5'!D24+'6'!D24 -> 585 | E24: ='3'!E24+'4'!E24+'5'!E24+'6'!E24 -> 130 | F24: ='3'!F24+'4'!F24+'5'!F24+'6'!F24 -> 579 | G24: ='3'!G24+'4'!G24+'5'!G24+'6'!G24 -> 504 | H24: ='3'!H24+'4'!H24+'5'!H24+'6'!H24 -> 36 | I24: ='3'!I24+'4'!I24+'5'!I24+'6'!I24 -> 19 | J24: ='3'!J24+'4'!J24+'5'!J24+'6'!J24 -> 7 | ... T24: ='3'!T24+'4'!T24+'5'!T24+'6'!T24 -> 38
B25: FĂLEŞTI | C25: ='3'!C25+'4'!C25+'5'!C25+'6'!C25 -> 1211 | D25: ='3'!D25+'4'!D25+'5'!D25+'6'!D25 -> 476 | E25: ='3'!E25+'4'!E25+'5'!E25+'6'!E25 -> 137 | F25: ='3'!F25+'4'!F25+'5'!F25+'6'!F25 -> 476 | G25: ='3'!G25+'4'!G25+'5'!G25+'6'!G25 -> 551 | H25: ='3'!H25+'4'!H25+'5'!H25+'6'!H25 -> 22 | I25: ='3'!I25+'4'!I25+'5'!I25+'6'!I25 -> 21 | J25: ='3'!J25+'4'!J25+'5'!J25+'6'!J25 -> 4 | ... T25: ='3'!T25+'4'!T25+'5'!T25+'6'!T25 -> 38
B26: FLOREŞTI | C26: ='3'!C26+'4'!C26+'5'!C26+'6'!C26 -> 1603 | D26: ='3'!D26+'4'!D26+'5'!D26+'6'!D26 -> 679 | E26: ='3'!E26+'4'!E26+'5'!E26+'6'!E26 -> 100 | F26: ='3'!F26+'4'!F26+'5'!F26+'6'!F26 -> 614 | G26: ='3'!G26+'4'!G26+'5'!G26+'6'!G26 -> 820 | H26: ='3'!H26+'4'!H26+'5'!H26+'6'!H26 -> 26 | I26: ='3'!I26+'4'!I26+'5'!I26+'6'!I26 -> 29 | J26: ='3'!J26+'4'!J26+'5'!J26+'6'!J26 -> 14 | ... T26: ='3'!T26+'4'!T26+'5'!T26+'6'!T26 -> 66
B27: GLODENI | C27: ='3'!C27+'4'!C27+'5'!C27+'6'!C27 -> 858 | D27: ='3'!D27+'4'!D27+'5'!D27+'6'!D27 -> 336 | E27: ='3'!E27+'4'!E27+'5'!E27+'6'!E27 -> 92 | F27: ='3'!F27+'4'!F27+'5'!F27+'6'!F27 -> 342 | G27: ='3'!G27+'4'!G27+'5'!G27+'6'!G27 -> 376 | H27: ='3'!H27+'4'!H27+'5'!H27+'6'!H27 -> 30 | I27: ='3'!I27+'4'!I27+'5'!I27+'6'!I27 -> 17 | J27: ='3'!J27+'4'!J27+'5'!J27+'6'!J27 -> 1 | ... T27: ='3'!T27+'4'!T27+'5'!T27+'6'!T27 -> 25
B28: HÎNCEŞTI | C28: ='3'!C28+'4'!C28+'5'!C28+'6'!C28 -> 1397 | D28: ='3'!D28+'4'!D28+'5'!D28+'6'!D28 -> 507 | E28: ='3'!E28+'4'!E28+'5'!E28+'6'!E28 -> 148 | F28: ='3'!F28+'4'!F28+'5'!F28+'6'!F28 -> 537 | G28: ='3'!G28+'4'!G28+'5'!G28+'6'!G28 -> 644 | H28: ='3'!H28+'4'!H28+'5'!H28+'6'!H28 -> 37 | I28: ='3'!I28+'4'!I28+'5'!I28+'6'!I28 -> 26 | J28: ='3'!J28+'4'!J28+'5'!J28+'6'!J28 -> 5 | ... T28: ='3'!T28+'4'!T28+'5'!T28+'6'!T28 -> 43
B29: IALOVENI | C29: ='3'!C29+'4'!C29+'5'!C29+'6'!C29 -> 1322 | D29: ='3'!D29+'4'!D29+'5'!D29+'6'!D29 -> 538 | E29: ='3'!E29+'4'!E29+'5'!E29+'6'!E29 -> 149 | F29: ='3'!F29+'4'!F29+'5'!F29+'6'!F29 -> 548 | G29: ='3'!G29+'4'!G29+'5'!G29+'6'!G29 -> 552 | H29: ='3'!H29+'4'!H29+'5'!H29+'6'!H29 -> 57 | I29: ='3'!I29+'4'!I29+'5'!I29+'6'!I29 -> 11 | J29: ='3'!J29+'4'!J29+'5'!J29+'6'!J29 -> 5 | ... T29: ='3'!T29+'4'!T29+'5'!T29+'6'!T29 -> 44
B30: LEOVA | C30: ='3'!C30+'4'!C30+'5'!C30+'6'!C30 -> 679 | D30: ='3'!D30+'4'!D30+'5'!D30+'6'!D30 -> 247 | E30: ='3'!E30+'4'!E30+'5'!E30+'6'!E30 -> 61 | F30: ='3'!F30+'4'!F30+'5'!F30+'6'!F30 -> 251 | G30: ='3'!G30+'4'!G30+'5'!G30+'6'!G30 -> 331 | H30: ='3'!H30+'4'!H30+'5'!H30+'6'!H30 -> 22 | I30: ='3'!I30+'4'!I30+'5'!I30+'6'!I30 -> 12 | J30: ='3'!J30+'4'!J30+'5'!J30+'6'!J30 -> 2 | ... T30: ='3'!T30+'4'!T30+'5'!T30+'6'!T30 -> 18
B31: NISPORENI | C31: ='3'!C31+'4'!C31+'5'!C31+'6'!C31 -> 766 | D31: ='3'!D31+'4'!D31+'5'!D31+'6'!D31 -> 306 | E31: ='3'!E31+'4'!E31+'5'!E31+'6'!E31 -> 75 | F31: ='3'!F31+'4'!F31+'5'!F31+'6'!F31 -> 318 | G31: ='3'!G31+'4'!G31+'5'!G31+'6'!G31 -> 337 | H31: ='3'!H31+'4'!H31+'5'!H31+'6'!H31 -> 22 | I31: ='3'!I31+'4'!I31+'5'!I31+'6'!I31 -> 11 | J31: ='3'!J31+'4'!J31+'5'!J31+'6'!J31 -> 3 | ... T31: ='3'!T31+'4'!T31+'5'!T31+'6'!T31 -> 28
... B44: VULCĂNEŞTI | C44: ='3'!C44+'4'!C44+'5'!C44+'6'!C44 -> 327 | D44: ='3'!D44+'4'!D44+'5'!D44+'6'!D44 -> 123 | E44: ='3'!E44+'4'!E44+'5'!E44+'6'!E44 -> 27 | F44: ='3'!F44+'4'!F44+'5'!F44+'6'!F44 -> 124 | G44: ='3'!G44+'4'!G44+'5'!G44+'6'!G44 -> 163 | H44: ='3'!H44+'4'!H44+'5'!H44+'6'!H44 -> 7 | I44: ='3'!I44+'4'!I44+'5'!I44+'6'!I44 -> 5 | J44: ='3'!J44+'4'!J44+'5'!J44+'6'!J44 -> 1 | ... T44: ='3'!T44+'4'!T44+'5'!T44+'6'!T44 -> 21
B45: TOTAL pe RM malul drept | C45: ='3'!C45+'4'!C45+'5'!C45+'6'!C45 -> 45421 | D45: ='3'!D45+'4'!D45+'5'!D45+'6'!D45 -> 18792 | E45: ='3'!E45+'4'!E45+'5'!E45+'6'!E45 -> 4182 | F45: ='3'!F45+'4'!F45+'5'!F45+'6'!F45 -> 17903 | G45: ='3'!G45+'4'!G45+'5'!G45+'6'!G45 -> 21289 | H45: ='3'!H45+'4'!H45+'5'!H45+'6'!H45 -> 1127 | I45: ='3'!I45+'4'!I45+'5'!I45+'6'!I45 -> 682 | J45: ='3'!J45+'4'!J45+'5'!J45+'6'!J45 -> 238 | ... M45: ='3'!M45+'4'!M45+'5'!M45+'6'!M45 -> 2219 | N45: 23 | O45: ='3'!O45+'4'!O45+'5'!O45+'6'!O45 -> 1 | P45: ='3'!P45+'4'!P45+'5'!P45+'6'!P45 -> 9115 | Q45: ='3'!Q45+'4'!Q45+'5'!Q45+'6'!Q45 -> 8181 | R45: ='3'!R45+'4'!R45+'5'!R45+'6'!R45 -> 2246 | S45: 18396 | T45: ='3'!T45+'4'!T45+'5'!T45+'6'!T45 -> 1613
B46: BENDER | C46: ='3'!C46+'4'!C46+'5'!C46+'6'!C46 -> 71 | D46: ='3'!D46+'4'!D46+'5'!D46+'6'!D46 -> 36 | E46: ='3'!E46+'4'!E46+'5'!E46+'6'!E46 -> 6 | F46: ='3'!F46+'4'!F46+'5'!F46+'6'!F46 -> 31 | G46: ='3'!G46+'4'!G46+'5'!G46+'6'!G46 -> 34 | H46: ='3'!H46+'4'!H46+'5'!H46+'6'!H46 -> 0 | I46: ='3'!I46+'4'!I46+'5'!I46+'6'!I46 -> 0 | J46: ='3'!J46+'4'!J46+'5'!J46+'6'!J46 -> 0 | ... T46: ='3'!T46+'4'!T46+'5'!T46+'6'!T46 -> 11
B47: CAMENCA | C47: ='3'!C47+'4'!C47+'5'!C47+'6'!C47 -> 6 | D47: ='3'!D47+'4'!D47+'5'!D47+'6'!D47 -> 4 | E47: ='3'!E47+'4'!E47+'5'!E47+'6'!E47 -> 1 | F47: ='3'!F47+'4'!F47+'5'!F47+'6'!F47 -> 3 | G47: ='3'!G47+'4'!G47+'5'!G47+'6'!G47 -> 2 | H47: ='3'!H47+'4'!H47+'5'!H47+'6'!H47 -> 0 | I47: ='3'!I47+'4'!I47+'5'!I47+'6'!I47 -> 0 | J47: ='3'!J47+'4'!J47+'5'!J47+'6'!J47 -> 0 | ... T47: ='3'!T47+'4'!T47+'5'!T47+'6'!T47 -> 2
B48: GRIGORIOPOL | C48: ='3'!C48+'4'!C48+'5'!C48+'6'!C48 -> 11 | D48: ='3'!D48+'4'!D48+'5'!D48+'6'!D48 -> 6 | E48: ='3'!E48+'4'!E48+'5'!E48+'6'!E48 -> 1 | F48: ='3'!F48+'4'!F48+'5'!F48+'6'!F48 -> 5 | G48: ='3'!G48+'4'!G48+'5'!G48+'6'!G48 -> 5 | H48: ='3'!H48+'4'!H48+'5'!H48+'6'!H48 -> 0 | I48: ='3'!I48+'4'!I48+'5'!I48+'6'!I48 -> 0 | J48: ='3'!J48+'4'!J48+'5'!J48+'6'!J48 -> 0 | ... T48: ='3'!T48+'4'!T48+'5'!T48+'6'!T48 -> 1
B49: RÎBNIŢA | C49: ='3'!C49+'4'!C49+'5'!C49+'6'!C49 -> 39 | D49: ='3'!D49+'4'!D49+'5'!D49+'6'!D49 -> 20 | E49: ='3'!E49+'4'!E49+'5'!E49+'6'!E49 -> 7 | F49: ='3'!F49+'4'!F49+'5'!F49+'6'!F49 -> 16 | G49: ='3'!G49+'4'!G49+'5'!G49+'6'!G49 -> 16 | H49: ='3'!H49+'4'!H49+'5'!H49+'6'!H49 -> 0 | I49: ='3'!I49+'4'!I49+'5'!I49+'6'!I49 -> 0 | J49: ='3'!J49+'4'!J49+'5'!J49+'6'!J49 -> 0 | ... T49: ='3'!T49+'4'!T49+'5'!T49+'6'!T49 -> 7
B50: SLOBOZIA | C50: ='3'!C50+'4'!C50+'5'!C50+'6'!C50 -> 25 | D50: ='3'!D50+'4'!D50+'5'!D50+'6'!D50 -> 15 | E50: ='3'!E50+'4'!E50+'5'!E50+'6'!E50 -> 4 | F50: ='3'!F50+'4'!F50+'5'!F50+'6'!F50 -> 11 | G50: ='3'!G50+'4'!G50+'5'!G50+'6'!G50 -> 9 | H50: ='3'!H50+'4'!H50+'5'!H50+'6'!H50 -> 1 | I50: ='3'!I50+'4'!I50+'5'!I50+'6'!I50 -> 0 | J50: ='3'!J50+'4'!J50+'5'!J50+'6'!J50 -> 0 | ... T50: ='3'!T50+'4'!T50+'5'!T50+'6'!T50 -> 7
B51: TIRASPOL | C51: ='3'!C51+'4'!C51+'5'!C51+'6'!C51 -> 47 | D51: ='3'!D51+'4'!D51+'5'!D51+'6'!D51 -> 33 | E51: ='3'!E51+'4'!E51+'5'!E51+'6'!E51 -> 4 | F51: ='3'!F51+'4'!F51+'5'!F51+'6'!F51 -> 17 | G51: ='3'!G51+'4'!G51+'5'!G51+'6'!G51 -> 24 | H51: ='3'!H51+'4'!H51+'5'!H51+'6'!H51 -> 0 | I51: ='3'!I51+'4'!I51+'5'!I51+'6'!I51 -> 2 | J51: ='3'!J51+'4'!J51+'5'!J51+'6'!J51 -> 0 | ... T51: ='3'!T51+'4'!T51+'5'!T51+'6'!T51 -> 9
B52: TOTAL pe RM malul stîng | C52: ='3'!C52+'4'!C52+'5'!C52+'6'!C52 -> 199 | D52: ='3'!D52+'4'!D52+'5'!D52+'6'!D52 -> 114 | E52: ='3'!E52+'4'!E52+'5'!E52+'6'!E52 -> 23 | F52: ='3'!F52+'4'!F52+'5'!F52+'6'!F52 -> 83 | G52: ='3'!G52+'4'!G52+'5'!G52+'6'!G52 -> 90 | H52: ='3'!H52+'4'!H52+'5'!H52+'6'!H52 -> 1 | I52: ='3'!I52+'4'!I52+'5'!I52+'6'!I52 -> 2 | J52: ='3'!J52+'4'!J52+'5'!J52+'6'!J52 -> 0 | ... T52: ='3'!T52+'4'!T52+'5'!T52+'6'!T52 -> 37
B53: TOTAL malul drept şi malul stîng | C53: ='3'!C53+'4'!C53+'5'!C53+'6'!C53 -> 45620 | D53: ='3'!D53+'4'!D53+'5'!D53+'6'!D53 -> 18906 | E53: ='3'!E53+'4'!E53+'5'!E53+'6'!E53 -> 4205 | F53: ='3'!F53+'4'!F53+'5'!F53+'6'!F53 -> 17986 | G53: ='3'!G53+'4'!G53+'5'!G53+'6'!G53 -> 21379 | H53: ='3'!H53+'4'!H53+'5'!H53+'6'!H53 -> 1128 | I53: ='3'!I53+'4'!I53+'5'!I53+'6'!I53 -> 684 | J53: ='3'!J53+'4'!J53+'5'!J53+'6'!J53 -> 238 | ... M53: ='3'!M53+'4'!M53+'5'!M53+'6'!M53 -> 2224 | N53: 23 | O53: ='3'!O53+'4'!O53+'5'!O53+'6'!O53 -> 1 | P53: ='3'!P53+'4'!P53+'5'!P53+'6'!P53 -> 9151 | Q53: ='3'!Q53+'4'!Q53+'5'!Q53+'6'!Q53 -> 8210 | R53: ='3'!R53+'4'!R53+'5'!R53+'6'!R53 -> 2266 | S53: 18468 | T53: ='3'!T53+'4'!T53+'5'!T53+'6'!T53 -> 1650
B54: Inclusiv de sex feminin В том числе женского пола | C54: ='3'!C54+'4'!C54+'5'!C54+'6'!C54 -> 18906 | D54: ='3'!D54+'4'!D54+'5'!D54+'6'!D54 -> 18906 | E54: ='3'!E54+'4'!E54+'5'!E54+'6'!E54 -> 1433 | F54: ='3'!F54+'4'!F54+'5'!F54+'6'!F54 -> 6741 | G54: ='3'!G54+'4'!G54+'5'!G54+'6'!G54 -> 9885 | H54: ='3'!H54+'4'!H54+'5'!H54+'6'!H54 -> 559 | I54: ='3'!I54+'4'!I54+'5'!I54+'6'!I54 -> 208 | J54: ='3'!J54+'4'!J54+'5'!J54+'6'!J54 -> 80 | ... M54: ='3'!M54+'4'!M54+'5'!M54+'6'!M54 -> 915 | N54: 12 | O54: ='3'!O54+'4'!O54+'5'!O54+'6'!O54 -> 1 | P54: ='3'!P54+'4'!P54+'5'!P54+'6'!P54 -> 2591 | Q54: ='3'!Q54+'4'!Q54+'5'!Q54+'6'!Q54 -> 3773 | R54: ='3'!R54+'4'!R54+'5'!R54+'6'!R54 -> 1317 | S54: 7254 | T54: ='3'!T54+'4'!T54+'5'!T54+'6'!T54 -> 1448

Sheet 3
B1: II. REPARTIZAREA PERSOANELOR CU DIZABILITĂŢI CAZ NOU DUPĂ CATEGORIE DE VÎRSTĂ, GEN, GRADUL DE DIZABILITATE ŞI CAPACITATE DE MUNCĂ, DUPĂ TIPURI DE AFECTĂRI ALE FUCȚIILOR ȘI UNITĂȚI ADMINISTRATIV-TERITORIALE
B2: РАСПРЕДЕЛЕНИЕ ПЕРВИЧНО ПРИЗНАННЫХ ЛИЦ С ОГРАНИЧЕННЫМИ ВОЗМОЖНОСТЯМИ ПО ВОЗРАСТНЫМ КАТЕГОРИЯМ, ПОЛУ, ТИПУ НАРУШЕНИЯ ФУНКЦИИ И АДМИНИСТРАТИВНО-ТЕРРИТОРИАЛЬНЫМ ЕДИНИЦАМ
B3: b) locuitori urbani городские жители
A4: Nr rînd № строки | B4: Unitatea administrativ-teritorială Административно-территориальная единица | C4: Total persoane cu dizabilităţi Всего лиц с ограниченными возможностями | E4: Din numărul total de persoane cu dizabilităţi s-a determinat grad de dizabilitate şi capacitate de muncă Из общего числа лиц с ограниченными возможностями определены степень ограничения возможностeй и трудоспособность | K4: Din numărul total de persoane cu dizabilităţi s-au determinat tipurile de afectări ale funcțiilor Из общего числа лиц с ограниченными возможностями определены нарушения функций
E5: În vîrstă aptă de muncă В трудоспособном возрасте | H5: Vîrstă pensionară Пенсионный возраст
C6: TOTAL ВСЕГО | D6: Inclusiv de sex feminin В том числе женского пола | E6: Grad sever тяжелая степень (0-20%) | F6: Grad accentuat выраженная степень (25-40%) | G6: Grad mediu cредняя степень (45-60%) | H6: Grad sever тяжелая степень (0-20%) | I6: Grad accentuat выраженная степень (25-40%) | J6: Grad mediu cредняя степень (45-60%) | K6: Afectări mintale Нарушение умственных функций | L6: Afectări senzoriale de auz Нарушение сенсорных функции слуха | M6: Afectări senzoriale de vedere Нарушение сенсорных функций зрения | N6: Afectări de vorbire Нарушения функций речи | O6: Afectări senzoriale Нарушения других сенсорных функций | P6: Afectări ale sistemelor cardiovascular, hematologic, imunitar și respirator Нарушение функции сердечно-сосудистой, крови, имунной и дыхательной систем | Q6: Afectări ale sistemelor digestiv, metabolic și endocrin Нарушение функции пищеварительной, эндокринной систем и метаболизма | R6: Afectări urogenitale și de reproducere Нарушения урогенитальной и репродуктивной функции | S6: Afectări neuromusculoscheletice și ale mișcărilor aferente Нарушение нейромышечной, скелетной и связанных с движением функций | T6: Afectări ale pielii și structurilor aferente pielii Нарушении функций кожи и связанных с ней структур
A7: A | B7: B | C7: C | D7: 1 | E7: 2 | F7: 3 | G7: 4 | H7: 5 | I7: 6 | J7: 7 | K7: 8 | L7: 9 | M7: 10 | N7: 11 | O7: 12 | P7: 13 | Q7: 14 | R7: 15 | S7: 16 | T7: 17
B8: ANENII NOI | C8: 31 | D8: 14 | E8: 1 | F8: 10 | G8: 16 | H8: 2 | I8: 1 | J8: 1 | K8: 1 | L8: 1 | M8: 1 | P8: 5 | Q8: 5 | R8: 4 | S8: 14
B9: BASARABEASCA | C9: 48 | D9: 17 | E9: 3 | F9: 22 | G9: 21 | H9: 2 | K9: 6 | L9: 1 | M9: 1 | P9: 11 | Q9: 8 | R9: 1 | S9: 20
B10: BRICENI | C10: 41 | D10: 12 | E10: 3 | F10: 17 | G10: 18 | H10: 1 | I10: 2 | M10: 3 | P10: 10 | Q10: 4 | R10: 5 | S10: 18 | T10: 1
B11: BĂLŢI | C11: 344 | D11: 143 | E11: 46 | F11: 163 | G11: 124 | H11: 6 | I11: 5 | K11: 19 | L11: 1 | M11: 7 | P11: 97 | Q11: 61 | R11: 19 | S11: 126 | T11: 14
B12: CAHUL | C12: 94 | D12: 38 | E12: 10 | F12: 37 | G12: 45 | H12: 2 | K12: 6 | L12: 3 | M12: 4 | P12: 21 | Q12: 13 | R12: 3 | S12: 42 | T12: 2
B13: CĂLĂRAŞI | C13: 51 | D13: 22 | E13: 7 | F13: 22 | G13: 21 | I13: 1 | K13: 4 | M13: 2 | P13: 10 | Q13: 11 | R13: 1 | S13: 23
B14: CANTEMIR | C14: 16 | D14: 7 | E14: 1 | F14: 9 | G14: 5 | I14: 1 | K14: 1 | P14: 1 | Q14: 1 | R14: 4 | S14: 8 | T14: 1
B15: CĂUŞENI | C15: 62 | D15: 23 | E15: 7 | F15: 24 | G15: 27 | H15: 2 | I15: 2 | K15: 5 | L15: 1 | M15: 3 | P15: 18 | Q15: 15 | R15: 1 | S15: 16 | T15: 3
B16: CEADÎR-LUNGA | C16: 55 | D16: 22 | E16: 9 | F16: 13 | G16: 33 | K16: 3 | L16: 2 | M16: 2 | P16: 15 | Q16: 4 | R16: 7 | S16: 19 | T16: 3
B17: CHIȘINĂU | C17: 1428 | D17: 648 | E17: 249 | F17: 569 | G17: 461 | H17: 118 | I17: 21 | J17: 10 | K17: 115 | L17: 10 | M17: 60 | P17: 253 | Q17: 248 | R17: 100 | S17: 535 | T17: 107
B18: CIMIŞLIA | C18: 37 | D18: 12 | E18: 6 | F18: 12 | G18: 16 | H18: 3 | K18: 1 | M18: 1 | P18: 10 | Q18: 9 | R18: 2 | S18: 13 | T18: 1
B19: COMRAT | C19: 64 | D19: 29 | E19: 15 | F19: 22 | G19: 18 | H19: 8 | I19: 1 | K19: 4 | L19: 1 | M19: 2 | P19: 8 | Q19: 11 | R19: 4 | S19: 30 | T19: 4
B20: CRIULENI | C20: 20 | D20: 11 | E20: 1 | F20: 11 | G20: 7 | H20: 1 | K20: 1 | M20: 1 | P20: 7 | Q20: 2 | R20: 4 | S20: 4 | T20: 1
B21: DONDUŞENI | C21: 34 | D21: 14 | E21: 2 | F21: 14 | G21: 13 | H21: 4 | I21: 1 | M21: 2 | P21: 7 | Q21: 8 | R21: 2 | S21: 14 | T21: 1
B22: DROCHIA | C22: 60 | D22: 24 | E22: 4 | F22: 22 | G22: 26 | H22: 5 | I22: 2 | J22: 1 | K22: 1 | M22: 2 | P22: 13 | Q22: 11 | R22: 5 | S22: 24 | T22: 4
B23: DUBĂSARI | C23: 9 | D23: 5 | E23: 1 | F23: 6 | G23: 2 | P23: 1 | Q23: 1 | R23: 1 | S23: 4 | T23: 2
B24: EDINEŢ | C24: 82 | D24: 36 | E24: 16 | F24: 31 | G24: 31 | H24: 3 | I24: 1 | K24: 3 | M24: 5 | P24: 21 | Q24: 22 | R24: 7 | S24: 22 | T24: 2
B25: FĂLEŞTI | C25: 76 | D25: 30 | E25: 10 | F25: 27 | G25: 33 | H25: 5 | I25: 1 | K25: 5 | L25: 2 | M25: 2 | P25: 14 | Q25: 17 | R25: 3 | S25: 29 | T25: 4
B26: FLOREŞTI | C26: 62 | D26: 31 | E26: 6 | F26: 22 | G26: 29 | H26: 5 | K26: 2 | M26: 2 | P26: 12 | Q26: 8 | R26: 5 | S26: 26 | T26: 7
B27: GLODENI | C27: 39 | D27: 22 | E27: 11 | F27: 12 | G27: 11 | H27: 5 | K27: 2 | M27: 5 | P27: 6 | Q27: 11 | R27: 4 | S27: 8 | T27: 3
B28: HÎNCEŞTI | C28: 52 | D28: 17 | E28: 10 | F28: 14 | G28: 19 | H28: 6 | I28: 2 | J28: 1 | K28: 4 | M28: 1 | P28: 12 | Q28: 13 | R28: 4 | S28: 18
B29: IALOVENI | C29: 50 | D29: 25 | E29: 5 | F29: 14 | G29: 23 | H29: 8 | K29: 5 | M29: 4 | P29: 7 | Q29: 7 | R29: 2 | S29: 24 | T29: 1
B30: LEOVA | C30: 47 | D30: 16 | E30: 4 | F30: 15 | G30: 24 | H30: 4 | K30: 2 | L30: 2 | M30: 2 | P30: 8 | Q30: 14 | R30: 2 | S30: 15 | T30: 2
B31: NISPORENI | C31: 36 | D31: 18 | E31: 4 | F31: 14 | G31: 13 | H31: 4 | I31: 1 | K31: 3 | M31: 2 | P31: 5 | Q31: 6 | R31: 1 | S31: 16 | T31: 3
B32: OCNIŢA | C32: 57 | D32: 27 | E32: 4 | F32: 24 | G32: 27 | H32: 2 | L32: 3 | M32: 7 | P32: 11 | Q32: 8 | R32: 2 | S32: 21 | T32: 5
B33: ORHEI | C33: 83 | D33: 24 | E33: 11 | F33: 35 | G33: 36 | I33: 1 | K33: 8 | L33: 1 | M33: 2 | P33: 14 | Q33: 14 | R33: 4 | S33: 37 | T33: 3
B34: REZINA | C34: 28 | D34: 11 | E34: 2 | F34: 4 | G34: 18 | H34: 3 | I34: 1 | K34: 1 | P34: 9 | Q34: 2 | S34: 15 | T34: 1
B35: RÎŞCANI | C35: 53 | D35: 25 | E35: 11 | F35: 13 | G35: 23 | H35: 6 | K35: 3 | M35: 7 | P35: 10 | Q35: 9 | R35: 1 | S35: 23
B36: SÎNGEREI | C36: 77 | D36: 29 | E36: 6 | F36: 33 | G36: 35 | H36: 2 | I36: 1 | K36: 2 | M36: 2 | P36: 16 | Q36: 19 | R36: 4 | S36: 34
B37: SOROCA | C37: 90 | D37: 43 | E37: 14 | F37: 23 | G37: 41 | H37: 8 | I37: 3 | J37: 1 | K37: 11 | L37: 2 | M37: 4 | P37: 19 | Q37: 16 | R37: 5 | S37: 30 | T37: 3
B38: ŞOLDANEŞTI | C38: 25 | D38: 6 | E38: 4 | F38: 8 | G38: 10 | H38: 1 | I38: 1 | J38: 1 | K38: 2 | P38: 8 | Q38: 7 | S38: 8
B39: STRĂŞENI | C39: 57 | D39: 24 | E39: 8 | F39: 25 | G39: 20 | H39: 3 | I39: 1 | K39: 5 | M39: 3 | N39: 1 | P39: 11 | Q39: 10 | S39: 25 | T39: 2
B40: ŞTEFAN VODĂ | C40: 15 | D40: 8 | E40: 2 | F40: 6 | G40: 7 | L40: 1 | Q40: 3 | R40: 2 | S40: 7 | T40: 2
B41: TARACLIA | C41: 39 | D41: 14 | E41: 6 | F41: 16 | G41: 17 | K41: 1 | M41: 1 | P41: 8 | Q41: 9 | R41: 5 | S41: 13 | T41: 2
B42: TELENEŞTI | C42: 25 | D42: 13 | E42: 4 | F42: 9 | G42: 7 | H42: 4 | J42: 1 | K42: 1 | P42: 3 | Q42: 4 | R42: 1 | S42: 16
B43: UNGHENI | C43: 135 | D43: 56 | E43: 11 | F43: 53 | G43: 58 | H43: 9 | I43: 3 | J43: 1 | K43: 13 | L43: 1 | M43: 4 | P43: 21 | Q43: 23 | R43: 10 | S43: 57 | T43: 6
B44: VULCĂNEŞTI | C44: 31 | D44: 9 | E44: 4 | F44: 15 | G44: 12 | P44: 8 | Q44: 8 | R44: 2 | S44: 11 | T44: 2
B45: TOTAL pe RM malul drept | C45: =SUM(C8:C44) -> 3553 | D45: =SUM(D8:D44) -> 1525 | E45: =SUM(E8:E44) -> 518 | F45: =SUM(F8:F44) -> 1386 | G45: =SUM(G8:G44) -> 1347 | H45: =SUM(H8:H44) -> 232 | I45: =SUM(I8:I44) -> 53 | J45: =SUM(J8:J44) -> 17 | ... T45: =SUM(T8:T44) -> 192
B46: BENDER | C46: 26 | D46: 13 | E46: 6 | F46: 11 | G46: 9 | M46: 2 | P46: 3 | Q46: 5 | R46: 6 | S46: 8 | T46: 2
B47: CAMENCA | C47: 3 | D47: 2 | E47: 1 | G47: 2 | Q47: 1 | S47: 1 | T47: 1
B48: GRIGORIOPOL | C48: 1 | G48: 1 | T48: 1
B49: RÎBNIŢA | C49: 15 | D49: 9 | E49: 4 | F49: 2 | G49: 9 | P49: 1 | Q49: 5 | S49: 7 | T49: 2
B50: SLOBOZIA | C50: 2 | D50: 2 | E50: 1 | G50: 1 | Q50: 1 | S50: 1
B51: TIRASPOL | C51: 24 | D51: 20 | E51: 1 | F51: 9 | G51: 12 | I51: 2 | M51: 1 | P51: 4 | Q51: 1 | R51: 7 | S51: 8 | T51: 3
B52: TOTAL pe RM malul stîng | C52: =SUM(C46:C51) -> 71 | D52: =SUM(D46:D51) -> 46 | E52: =SUM(E46:E51) -> 13 | F52: =SUM(F46:F51) -> 22 | G52: =SUM(G46:G51) -> 34 | H52: =SUM(H46:H51) -> 0 | I52: =SUM(I46:I51) -> 2 | J52: =SUM(J46:J51) -> 0 | ... T52: =SUM(T46:T51) -> 9
B53: TOTAL malul drept şi malul stîng | C53: =C45+C52 -> 3624 | D53: =D45+D52 -> 1571 | E53: =E45+E52 -> 531 | F53: =F45+F52 -> 1408 | G53: =G45+G52 -> 1381 | H53: =H45+H52 -> 232 | I53: =I45+I52 -> 55 | J53: =J45+J52 -> 17 | ... T53: =T45+T52 -> 201
B54: Inclusiv de sex feminin В том числе женского пола | C54: 1571 | D54: 1571 | E54: 202 | F54: 528 | G54: 676 | H54: 126 | I54: 30 | J54: 9 | K54: 113 | L54: 10 | M54: 55 | N54: 1 | P54: 200 | Q54: 296 | R54: 131 | S54: 585 | T54: 180

Sheet 4
B1: III. REPARTIZAREA PERSOANELOR CU DIZABILITĂŢI CAZ NOU DUPĂ CATEGORIE DE VÎRSTĂ, GEN, GRADUL DE DIZABILITATE ŞI CAPACITATE DE MUNCĂ, DUPĂ TIPURI DE AFECTĂRI ALE FUCȚIILOR ȘI UNITĂȚI ADMINISTRATIV-TERITORIALE
B2: РАСПРЕДЕЛЕНИЕ ПЕРВИЧНО ПРИЗНАННЫХ ЛИЦ С ОГРАНИЧЕННЫМИ ВОЗМОЖНОСТЯМИ ПО ВОЗРАСТНЫМ КАТЕГОРИЯМ, ПОЛУ, ТИПУ НАРУШЕНИЯ ФУНКЦИИ И АДМИНИСТРАТИВНО-ТЕРРИТОРИАЛЬНЫМ ЕДИНИЦАМ
B3: c) locuitori rurali сельские жители
A4: Nr rînd № строки | B4: Unitatea administrativ-teritorială Административно-территориальная единица | C4: Total persoane cu dizabilităţi Всего лиц с ограниченными возможностями | E4: Din numărul total de persoane cu dizabilităţi s-a determinat grad de dizabilitate şi capacitate de muncă Из общего числа лиц с ограниченными возможностями определены степень ограничения возможностeй и трудоспособность | K4: Din numărul total de persoane cu dizabilităţi s-au determinat tipurile de afectări ale funcțiilor Из общего числа лиц с ограниченными возможностями определены нарушения функций
E5: În vîrstă aptă de muncă В трудоспособном возрасте | H5: Vîrstă pensionară Пенсионный возраст
C6: TOTAL ВСЕГО | D6: Inclusiv de sex feminin В том числе женского пола | E6: Grad sever тяжелая степень (0-20%) | F6: Grad accentuat выраженная степень (25-40%) | G6: Grad mediu cредняя степень (45-60%) | H6: Grad sever тяжелая степень (0-20%) | I6: Grad accentuat выраженная степень (25-40%) | J6: Grad mediu cредняя степень (45-60%) | K6: Afectări mintale Нарушение умственных функций | L6: Afectări senzoriale de auz Нарушение сенсорных функции слуха | M6: Afectări senzoriale de vedere Нарушение сенсорных функций зрения | N6: Afectări de vorbire Нарушения функций речи | O6: Afectări senzoriale Нарушения других сенсорных функций | P6: Afectări ale sistemelor cardiovascular, hematologic, imunitar și respirator Нарушение функции сердечно-сосудистой, крови, имунной и дыхательной систем | Q6: Afectări ale sistemelor digestiv, metabolic și endocrin Нарушение функции пищеварительной, эндокринной систем и метаболизма | R6: Afectări urogenitale și de reproducere Нарушения урогенитальной и репродуктивной функции | S6: Afectări neuromusculoscheletice și ale mișcărilor aferente Нарушение нейромышечной, скелетной и связанных с движением функций | T6: Afectări ale pielii și structurilor aferente pielii Нарушении функций кожи и связанных с ней структур
A7: A | B7: B | C7: C | D7: 1 | E7: 2 | F7: 3 | G7: 4 | H7: 5 | I7: 6 | J7: 7 | K7: 8 | L7: 9 | M7: 10 | N7: 11 | O7: 12 | P7: 13 | Q7: 14 | R7: 15 | S7: 16 | T7: 17
B8: ANENII NOI | C8: 278 | D8: 121 | E8: 23 | F8: 106 | G8: 134 | H8: 14 | I8: 1 | K8: 11 | L8: 2 | M8: 12 | P8: 55 | Q8: 50 | R8: 14 | S8: 123 | T8: 11
B9: BASARABEASCA | C9: 59 | D9: 23 | E9: 8 | F9: 16 | G9: 25 | H9: 7 | I9: 2 | J9: 1 | K9: 8 | L9: 2 | M9: 3 | P9: 12 | Q9: 7 | R9: 3 | S9: 22 | T9: 2
B10: BRICENI | C10: 133 | D10: 50 | E10: 18 | F10: 55 | G10: 42 | H10: 13 | I10: 5 | K10: 4 | M10: 8 | P10: 26 | Q10: 22 | R10: 7 | S10: 61 | T10: 5
B11: BĂLŢI | C11: 11 | D11: 7 | E11: 2 | F11: 3 | G11: 5 | I11: 1 | K11: 1 | Q11: 2 | S11: 7 | T11: 1
B12: CAHUL | C12: 265 | D12: 106 | E12: 31 | F12: 89 | G12: 124 | H12: 13 | I12: 3 | J12: 5 | K12: 18 | L12: 6 | M12: 19 | P12: 44 | Q12: 49 | R12: 18 | S12: 104 | T12: 7
B13: CĂLĂRAŞI | C13: 208 | D13: 82 | E13: 24 | F13: 80 | G13: 99 | H13: 4 | I13: 1 | K13: 11 | L13: 5 | M13: 6 | P13: 40 | Q13: 40 | R13: 16 | S13: 87 | T13: 3
B14: CANTEMIR | C14: 186 | D14: 73 | E14: 22 | F14: 78 | G14: 78 | H14: 5 | I14: 2 | J14: 1 | K14: 6 | L14: 2 | M14: 10 | P14: 45 | Q14: 41 | R14: 7 | S14: 70 | T14: 5
B15: CĂUŞENI | C15: 199 | D15: 82 | E15: 15 | F15: 87 | G15: 93 | H15: 2 | I15: 2 | K15: 9 | L15: 5 | M15: 17 | P15: 38 | Q15: 37 | R15: 10 | S15: 77 | T15: 6
B16: CEADÎR-LUNGA | C16: 113 | D16: 45 | E16: 16 | F16: 32 | G16: 58 | H16: 7 | K16: 4 | L16: 1 | M16: 1 | P16: 23 | Q16: 35 | R16: 3 | S16: 40 | T16: 6
B17: CHIȘINĂU | C17: 233 | D17: 86 | E17: 24 | F17: 101 | G17: 94 | H17: 12 | I17: 2 | K17: 20 | L17: 5 | M17: 16 | P17: 49 | Q17: 38 | R17: 12 | S17: 83 | T17: 10
B18: CIMIŞLIA | C18: 109 | D18: 46 | E18: 17 | F18: 37 | G18: 44 | H18: 8 | J18: 3 | K18: 7 | L18: 2 | M18: 10 | P18: 16 | Q18: 19 | R18: 5 | S18: 47 | T18: 3
B19: COMRAT | C19: 140 | D19: 63 | E19: 24 | F19: 45 | G19: 63 | H19: 7 | J19: 1 | K19: 9 | L19: 1 | M19: 2 | P19: 25 | Q19: 35 | R19: 10 | S19: 55 | T19: 3
B20: CRIULENI | C20: 194 | D20: 88 | E20: 27 | F20: 69 | G20: 84 | H20: 13 | I20: 1 | K20: 8 | L20: 2 | M20: 7 | P20: 36 | Q20: 39 | R20: 15 | S20: 84 | T20: 3
B21: DONDUŞENI | C21: 91 | D21: 34 | E21: 21 | F21: 31 | G21: 35 | H21: 4 | K21: 4 | M21: 5 | P21: 15 | Q21: 16 | R21: 2 | S21: 48 | T21: 1
B22: DROCHIA | C22: 184 | D22: 81 | E22: 24 | F22: 76 | G22: 73 | H22: 10 | I22: 1 | K22: 12 | L22: 1 | M22: 8 | P22: 44 | Q22: 38 | R22: 16 | S22: 62 | T22: 3
B23: DUBĂSARI | C23: 103 | D23: 32 | E23: 17 | F23: 34 | G23: 45 | H23: 7 | K23: 10 | M23: 5 | P23: 22 | Q23: 18 | R23: 5 | S23: 39 | T23: 4
B24: EDINEŢ | C24: 173 | D24: 94 | E24: 22 | F24: 71 | G24: 65 | H24: 11 | I24: 3 | J24: 1 | K24: 12 | M24: 10 | P24: 26 | Q24: 44 | R24: 11 | S24: 63 | T24: 7
B25: FĂLEŞTI | C25: 211 | D25: 84 | E25: 27 | F25: 93 | G25: 82 | H25: 5 | I25: 2 | J25: 2 | K25: 11 | L25: 3 | M25: 6 | P25: 40 | Q25: 57 | R25: 8 | S25: 80 | T25: 6
B26: FLOREŞTI | C26: 194 | D26: 73 | E26: 28 | F26: 71 | G26: 84 | H26: 5 | I26: 5 | J26: 1 | K26: 9 | L26: 1 | M26: 9 | P26: 44 | Q26: 30 | R26: 14 | S26: 78 | T26: 9
B27: GLODENI | C27: 159 | D27: 57 | E27: 23 | F27: 67 | G27: 54 | H27: 11 | I27: 4 | K27: 10 | L27: 1 | M27: 8 | P27: 38 | Q27: 26 | R27: 10 | S27: 63 | T27: 3
B28: HÎNCEŞTI | C28: 278 | D28: 93 | E28: 43 | F28: 88 | G28: 135 | H28: 10 | I28: 1 | J28: 1 | K28: 19 | L28: 1 | M28: 14 | P28: 57 | Q28: 60 | R28: 18 | S28: 101 | T28: 8
B29: IALOVENI | C29: 263 | D29: 113 | E29: 34 | F29: 105 | G29: 103 | H29: 18 | I29: 2 | J29: 1 | K29: 15 | L29: 2 | M29: 14 | N29: 1 | P29: 33 | Q29: 51 | R29: 18 | S29: 119 | T29: 10
B30: LEOVA | C30: 128 | D30: 45 | E30: 12 | F30: 46 | G30: 60 | H30: 5 | I30: 3 | J30: 2 | K30: 6 | M30: 10 | P30: 30 | Q30: 26 | R30: 5 | S30: 48 | T30: 3
B31: NISPORENI | C31: 161 | D31: 71 | E31: 27 | F31: 67 | G31: 61 | H31: 5 | J31: 1 | K31: 7 | L31: 1 | M31: 3 | P31: 34 | Q31: 29 | R31: 15 | S31: 64 | T31: 8
B32: OCNIŢA | C32: 105 | D32: 42 | E32: 10 | F32: 35 | G32: 57 | H32: 3 | K32: 4 | M32: 5 | P32: 18 | Q32: 24 | R32: 11 | S32: 40 | T32: 3
B33: ORHEI | C33: 277 | D33: 125 | E33: 45 | F33: 99 | G33: 121 | H33: 9 | I33: 1 | J33: 2 | K33: 14 | L33: 1 | M33: 17 | P33: 59 | Q33: 50 | R33: 19 | S33: 113 | T33: 4
B34: REZINA | C34: 124 | D34: 55 | E34: 14 | F34: 43 | G34: 56 | H34: 7 | I34: 4 | K34: 9 | L34: 1 | M34: 8 | P34: 23 | Q34: 25 | R34: 5 | S34: 50 | T34: 3
B35: RÎŞCANI | C35: 153 | D35: 63 | E35: 19 | F35: 59 | G35: 62 | H35: 11 | I35: 2 | K35: 7 | M35: 13 | P35: 29 | Q35: 28 | R35: 6 | S35: 69 | T35: 1
B36: SÎNGEREI | C36: 307 | D36: 118 | E36: 35 | F36: 115 | G36: 142 | H36: 13 | I36: 1 | J36: 1 | K36: 15 | L36: 1 | M36: 19 | P36: 54 | Q36: 50 | R36: 10 | S36: 146 | T36: 12
B37: SOROCA | C37: 225 | D37: 84 | E37: 28 | F37: 77 | G37: 91 | H37: 23 | I37: 5 | J37: 1 | K37: 19 | L37: 8 | M37: 9 | P37: 46 | Q37: 32 | R37: 13 | S37: 96 | T37: 2
B38: ŞOLDANEŞTI | C38: 145 | D38: 57 | E38: 15 | F38: 55 | G38: 61 | H38: 12 | I38: 1 | J38: 1 | K38: 7 | L38: 2 | M38: 6 | P38: 48 | Q38: 15 | R38: 7 | S38: 53 | T38: 7
B39: STRĂŞENI | C39: 231 | D39: 69 | E39: 26 | F39: 94 | G39: 97 | H39: 12 | J39: 2 | K39: 12 | L39: 5 | M39: 13 | P39: 53 | Q39: 40 | R39: 10 | S39: 93 | T39: 5
B40: ŞTEFAN VODĂ | C40: 140 | D40: 63 | E40: 16 | F40: 62 | G40: 55 | H40: 5 | J40: 2 | K40: 8 | L40: 1 | M40: 7 | P40: 20 | Q40: 37 | R40: 12 | S40: 53 | T40: 2
B41: TARACLIA | C41: 90 | D41: 39 | E41: 13 | F41: 21 | G41: 53 | H41: 2 | J41: 1 | K41: 2 | L41: 1 | M41: 2 | P41: 18 | Q41: 8 | R41: 6 | S41: 53
B42: TELENEŞTI | C42: 239 | D42: 98 | E42: 39 | F42: 90 | G42: 102 | H42: 8 | K42: 15 | L42: 4 | M42: 5 | P42: 45 | Q42: 39 | R42: 12 | S42: 106 | T42: 13
B43: UNGHENI | C43: 290 | D43: 125 | E43: 41 | F43: 87 | G43: 134 | H43: 20 | I43: 8 | K43: 18 | L43: 2 | M43: 25 | P43: 55 | Q43: 43 | R43: 11 | S43: 129 | T43: 7
B44: VULCĂNEŞTI | C44: 22 | D44: 7 | E44: 2 | F44: 9 | G44: 10 | H44: 1 | P44: 7 | Q44: 4 | S44: 11
B45: TOTAL pe RM malul drept | C45: =SUM(C8:C44) -> 6421 | D45: =SUM(D8:D44) -> 2594 | E45: =SUM(E8:E44) -> 832 | F45: =SUM(F8:F44) -> 2393 | G45: =SUM(G8:G44) -> 2781 | H45: =SUM(H8:H44) -> 322 | I45: =SUM(I8:I44) -> 63 | J45: =SUM(J8:J44) -> 30 | ... T45: =SUM(T8:T44) -> 186
B46: BENDER | C46: 2 | D46: 1 | F46: 1 | G46: 1 | S46: 1 | T46: 1
B47: CAMENCA | C47: 2 | D47: 1 | F47: 2 | S47: 1 | T47: 1
B48: GRIGORIOPOL | C48: 4 | D48: 2 | F48: 3 | G48: 1 | P48: 1 | R48: 1 | S48: 2
B49: RÎBNIŢA | C49: 1 | D49: 1 | F49: 1 | Q49: 1
B50: SLOBOZIA | C50: 11 | D50: 8 | E50: 1 | F50: 5 | G50: 4 | H50: 1 | M50: 1 | Q50: 1 | R50: 1 | S50: 3 | T50: 5
B51: TIRASPOL | C51: 0
B52: TOTAL pe RM malul stîng | C52: =SUM(C46:C51) -> 20 | D52: =SUM(D46:D51) -> 13 | E52: =SUM(E46:E51) -> 1 | F52: =SUM(F46:F51) -> 12 | G52: =SUM(G46:G51) -> 6 | H52: =SUM(H46:H51) -> 1 | I52: =SUM(I46:I51) -> 0 | J52: =SUM(J46:J51) -> 0 | ... T52: =SUM(T46:T51) -> 7
B53: TOTAL malul drept şi malul stîng | C53: =C45+C52 -> 6441 | D53: =D45+D52 -> 2607 | E53: =E45+E52 -> 833 | F53: =F45+F52 -> 2405 | G53: =G45+G52 -> 2787 | H53: =H45+H52 -> 323 | I53: =I45+I52 -> 63 | J53: =J45+J52 -> 30 | ... T53: =T45+T52 -> 193
B54: Inclusiv de sex feminin В том числе женского пола | C54: 2607 | D54: 2607 | E54: 258 | F54: 867 | G54: 1247 | H54: 190 | I54: 29 | J54: 16 | K54: 157 | L54: 27 | M54: 147 | P54: 327 | Q54: 486 | R54: 220 | S54: 1078 | T54: 165

Sheet 5
B1: IV. REPARTIZAREA PERSOANELOR CU DIZABILITĂŢI REEXPERTIZATE DUPĂ CATEGORIE DE VÎRSTĂ, GEN, GRADUL DE DIZABILITATE ŞI CAPACITATE DE MUNCĂ, DUPĂ TIPURI DE AFECTĂRI ALE FUNCȚIILOR ȘI UNITĂȚI ADMINISTRATIV-TERITORIALE
B2: РАСПРЕДЕЛЕНИЕ ВТОРИЧНО ПРИЗНАННЫХ ЛИЦ С ОГРАНИЧЕННЫМИ ВОЗМОЖНОСТЯМИ ПО ВОЗРАСТНЫМ КАТЕГОРИЯМ, ПОЛУ, ТИПУ НАРУШЕНИЯ ФУНКЦИИ И АДМИНИСТРАТИВНО-ТЕРРИТОРИАЛЬНЫМ ЕДИНИЦАМ
B3: b) locuitori urbani городские жители
A4: Nr rînd № строки | B4: Unitatea administrativ-teritorială Административно-территориальная единица | C4: Total persoane cu dizabilităţi Всего лиц с ограниченными возможностями | E4: Din numărul total de persoane cu dizabilităţi s-a determinat grad de dizabilitate şi capacitate de muncă Из общего числа лиц с ограниченными возможностями определены степень ограничения возможностeй и трудоспособность | K4: Din numărul total de persoane cu dizabilităţi s-au determinat tipurile de afectări ale funcțiilor Из общего числа лиц с ограниченными возможностями определены нарушения функций
E5: În vîrstă aptă de muncă В трудоспособном возрасте | H5: Vîrstă pensionară Пенсионный возраст
C6: TOTAL ВСЕГО | D6: Inclusiv de sex feminin В том числе женского пола | E6: Grad sever тяжелая степень (0-20%) | F6: Grad accentuat выраженная степень (25-40%) | G6: Grad mediu cредняя степень (45-60%) | H6: Grad sever тяжелая степень (0-20%) | I6: Grad accentuat выраженная степень (25-40%) | J6: Grad mediu cредняя степень (45-60%) | K6: Afectări mintale Нарушение умственных функций | L6: Afectări senzoriale de auz Сенсорные функции слуха | M6: Afectări senzoriale de vedere Нарушение сенсорных функций зрения | N6: Afectări de vorbire Нарушения функций речи | O6: Afectări senzoriale Нарушения других сенсорных функций | P6: Afectări ale sistemelor cardiovascular, hematologic, imunitar și respirator Нарушение функции сердечно-сосудистой, крови, имунной и дыхательной систем | Q6: Afectări ale sistemelor digestiv, metabolic și endocrin Нарушение функции пищеварительной, эндокринной систем и метаболизма | R6: Afectări urogenitale și de reproducere Нарушения урогенитальной и репродуктивной функции | S6: Afectări neuromusculoscheletice și ale mișcărilor aferente Нарушение нейромышечной, скелетной и связанных с движением функций | T6: Afectări ale pielii și structurilor aferente pielii Нарушении функций кожи и связанных с ней структур
A7: A | B7: B | C7: C | D7: 1 | E7: 2 | F7: 3 | G7: 4 | H7: 5 | I7: 6 | J7: 7 | K7: 8 | L7: 9 | M7: 10 | N7: 11 | O7: 12 | P7: 13 | Q7: 14 | R7: 15 | S7: 16 | T7: 17
B8: ANENII NOI | C8: 98 | D8: 47 | E8: 5 | F8: 39 | G8: 49 | H8: 3 | J8: 2 | K8: 2 | M8: 6 | P8: 13 | Q8: 27 | R8: 7 | S8: 41 | T8: 2
B9: BASARABEASCA | C9: 135 | D9: 61 | E9: 7 | F9: 60 | G9: 66 | I9: 1 | J9: 1 | K9: 12 | L9: 1 | M9: 13 | P9: 29 | Q9: 18 | R9: 6 | S9: 52 | T9: 4
B10: BRICENI | C10: 136 | D10: 54 | E10: 9 | F10: 48 | G10: 73 | H10: 2 | I10: 3 | J10: 1 | K10: 7 | M10: 4 | P10: 35 | Q10: 33 | R10: 10 | S10: 45 | T10: 2
B11: BĂLŢI | C11: 1087 | D11: 483 | E11: 82 | F11: 544 | G11: 424 | H11: 8 | I11: 19 | J11: 10 | K11: 75 | L11: 1 | M11: 43 | P11: 248 | Q11: 222 | R11: 48 | S11: 405 | T11: 45
B12: CAHUL | C12: 299 | D12: 111 | E12: 21 | F12: 95 | G12: 162 | H12: 8 | I12: 7 | J12: 6 | K12: 21 | L12: 2 | M12: 14 | N12: 1 | P12: 64 | Q12: 44 | R12: 21 | S12: 118 | T12: 14
B13: CĂLĂRAŞI | C13: 191 | D13: 67 | E13: 10 | F13: 88 | G13: 87 | H13: 1 | I13: 4 | J13: 1 | K13: 11 | L13: 3 | M13: 9 | P13: 48 | Q13: 39 | R13: 8 | S13: 67 | T13: 6
B14: CANTEMIR | C14: 42 | D14: 17 | E14: 1 | F14: 19 | G14: 22 | K14: 1 | M14: 3 | P14: 9 | Q14: 9 | R14: 2 | S14: 17 | T14: 1
B15: CĂUŞENI | C15: 213 | D15: 90 | E15: 12 | F15: 88 | G15: 106 | H15: 4 | I15: 1 | J15: 2 | K15: 21 | L15: 1 | M15: 15 | P15: 41 | Q15: 38 | R15: 7 | S15: 81 | T15: 9
B16: CEADÎR-LUNGA | C16: 285 | D16: 110 | E16: 19 | F16: 71 | G16: 190 | H16: 3 | I16: 1 | J16: 1 | K16: 17 | M16: 9 | P16: 81 | Q16: 54 | R16: 11 | S16: 104 | T16: 9
B17: CHIȘINĂU | C17: 4492 | D17: 1935 | E17: 416 | F17: 1957 | G17: 1916 | H17: 98 | I17: 78 | J17: 27 | K17: 352 | L17: 32 | M17: 168 | N17: 3 | P17: 865 | Q17: 811 | R17: 215 | S17: 1741 | T17: 305
B18: CIMIŞLIA | C18: 103 | D18: 40 | E18: 11 | F18: 47 | G18: 36 | H18: 3 | I18: 5 | J18: 1 | K18: 12 | M18: 3 | P18: 25 | Q18: 13 | R18: 4 | S18: 40 | T18: 6
B19: COMRAT | C19: 266 | D19: 116 | E19: 21 | F19: 81 | G19: 156 | H19: 4 | I19: 3 | J19: 1 | K19: 22 | L19: 2 | M19: 9 | P19: 45 | Q19: 59 | R19: 13 | S19: 104 | T19: 12
B20: CRIULENI | C20: 64 | D20: 29 | E20: 4 | F20: 26 | G20: 32 | H20: 1 | I20: 1 | K20: 4 | M20: 6 | P20: 15 | Q20: 11 | R20: 2 | S20: 22 | T20: 4
B21: DONDUŞENI | C21: 126 | D21: 60 | E21: 7 | F21: 58 | G21: 53 | H21: 4 | I21: 3 | J21: 1 | K21: 9 | M21: 1 | N21: 1 | P21: 30 | Q21: 23 | R21: 10 | S21: 50 | T21: 2
B22: DROCHIA | C22: 214 | D22: 82 | E22: 10 | F22: 67 | G22: 131 | I22: 5 | J22: 1 | K22: 11 | L22: 4 | M22: 5 | P22: 50 | Q22: 32 | R22: 14 | S22: 91 | T22: 7
B23: DUBĂSARI | C23: 1 | D23: 1 | G23: 1 | R23: 1
B24: EDINEŢ | C24: 277 | D24: 133 | E24: 20 | F24: 132 | G24: 114 | H24: 7 | I24: 2 | J24: 2 | K24: 15 | L24: 2 | M24: 14 | P24: 66 | Q24: 70 | R24: 18 | S24: 81 | T24: 11
B25: FĂLEŞTI | C25: 200 | D25: 71 | E25: 20 | F25: 81 | G25: 90 | H25: 3 | I25: 6 | K25: 18 | M25: 8 | P25: 47 | Q25: 30 | R25: 13 | S25: 77 | T25: 7
B26: FLOREŞTI | C26: 315 | D26: 126 | E26: 19 | F26: 127 | G26: 163 | H26: 3 | I26: 2 | J26: 1 | K26: 26 | L26: 1 | M26: 13 | P26: 86 | Q26: 66 | R26: 11 | S26: 101 | T26: 11
B27: GLODENI | C27: 153 | D27: 56 | E27: 16 | F27: 64 | G27: 65 | H27: 3 | I27: 5 | K27: 7 | M27: 9 | P27: 34 | Q27: 39 | R27: 6 | S27: 52 | T27: 6
B28: HÎNCEŞTI | C28: 169 | D28: 71 | E28: 27 | F28: 51 | G28: 80 | H28: 6 | I28: 5 | K28: 19 | M28: 7 | P28: 34 | Q28: 32 | R28: 4 | S28: 67 | T28: 6
B29: IALOVENI | C29: 174 | D29: 60 | E29: 19 | F29: 73 | G29: 69 | H29: 9 | I29: 3 | J29: 1 | K29: 21 | M29: 10 | P29: 30 | Q29: 35 | R29: 9 | S29: 62 | T29: 7
B30: LEOVA | C30: 141 | D30: 44 | E30: 17 | F30: 55 | G30: 63 | H30: 4 | I30: 2 | K30: 13 | M30: 9 | P30: 22 | Q30: 28 | R30: 6 | S30: 56 | T30: 7
B31: NISPORENI | C31: 107 | D31: 41 | E31: 14 | F31: 39 | G31: 46 | H31: 3 | I31: 4 | J31: 1 | K31: 6 | M31: 11 | P31: 19 | Q31: 18 | R31: 5 | S31: 44 | T31: 4
B32: OCNIŢA | C32: 187 | D32: 82 | E32: 14 | F32: 73 | G32: 93 | H32: 3 | I32: 3 | J32: 1 | K32: 8 | L32: 5 | M32: 9 | P32: 30 | Q32: 24 | R32: 17 | S32: 86 | T32: 8
B33: ORHEI | C33: 321 | D33: 122 | E33: 26 | F33: 145 | G33: 141 | H33: 4 | I33: 2 | J33: 3 | K33: 29 | L33: 2 | M33: 14 | N33: 2 | P33: 60 | Q33: 57 | R33: 20 | S33: 129 | T33: 8
B34: REZINA | C34: 116 | D34: 47 | E34: 8 | F34: 35 | G34: 65 | H34: 4 | I34: 4 | K34: 12 | M34: 8 | P34: 26 | Q34: 18 | R34: 2 | S34: 42 | T34: 8
B35: RÎŞCANI | C35: 162 | D35: 60 | E35: 12 | F35: 65 | G35: 78 | I35: 4 | J35: 3 | K35: 11 | L35: 1 | M35: 8 | P35: 34 | Q35: 32 | R35: 5 | S35: 66 | T35: 5
B36: SÎNGEREI | C36: 274 | D36: 125 | E36: 14 | F36: 130 | G36: 118 | H36: 3 | I36: 7 | J36: 2 | K36: 11 | M36: 9 | P36: 55 | Q36: 52 | R36: 9 | S36: 125 | T36: 13
B37: SOROCA | C37: 406 | D37: 168 | E37: 34 | F37: 142 | G37: 204 | H37: 11 | I37: 12 | J37: 3 | K37: 34 | L37: 1 | M37: 15 | N37: 1 | P37: 91 | Q37: 72 | R37: 19 | S37: 159 | T37: 14
B38: ŞOLDANEŞTI | C38: 112 | D38: 44 | E38: 22 | F38: 26 | G38: 59 | H38: 2 | I38: 2 | J38: 1 | K38: 8 | L38: 1 | M38: 4 | P38: 23 | Q38: 15 | R38: 7 | S38: 54
B39: STRĂŞENI | C39: 209 | D39: 73 | E39: 16 | F39: 74 | G39: 112 | H39: 5 | I39: 1 | J39: 1 | K39: 19 | L39: 1 | M39: 7 | P39: 50 | Q39: 33 | R39: 10 | S39: 86 | T39: 3
B40: ŞTEFAN VODĂ | C40: 70 | D40: 31 | E40: 5 | F40: 33 | G40: 31 | J40: 1 | K40: 3 | M40: 3 | P40: 15 | Q40: 16 | R40: 3 | S40: 26 | T40: 4
B41: TARACLIA | C41: 207 | D41: 91 | E41: 15 | F41: 65 | G41: 122 | I41: 5 | K41: 10 | M41: 9 | P41: 49 | Q41: 43 | R41: 12 | S41: 76 | T41: 8
B42: TELENEŞTI | C42: 85 | D42: 30 | E42: 6 | F42: 32 | G42: 44 | H42: 1 | I42: 2 | K42: 7 | M42: 2 | P42: 12 | Q42: 16 | R42: 6 | S42: 39 | T42: 3
B43: UNGHENI | C43: 409 | D43: 169 | E43: 31 | F43: 160 | G43: 198 | H43: 8 | I43: 9 | J43: 3 | K43: 25 | L43: 1 | M43: 15 | P43: 69 | Q43: 72 | R43: 27 | S43: 184 | T43: 16
B44: VULCĂNEŞTI | C44: 168 | D44: 70 | E44: 15 | F44: 60 | G44: 87 | H44: 5 | I44: 1 | K44: 11 | L44: 1 | M44: 11 | P44: 40 | Q44: 32 | R44: 8 | S44: 54 | T44: 11
B45: TOTAL pe RM malul drept | C45: =SUM(C8:C44) -> 12014 | D45: =SUM(D8:D44) -> 5017 | E45: =SUM(E8:E44) -> 1005 | F45: =SUM(F8:F44) -> 4950 | G45: =SUM(G8:G44) -> 5546 | H45: =SUM(H8:H44) -> 223 | I45: =SUM(I8:I44) -> 212 | J45: =SUM(J8:J44) -> 78 | ... T45: =SUM(T8:T44) -> 588
B46: BENDER | C46: 41 | D46: 21 | F46: 19 | G46: 22 | P46: 10 | Q46: 4 | R46: 1 | S46: 19 | T46: 7
B47: CAMENCA | C47: 1 | D47: 1 | F47: 1 | S47: 1
B48: GRIGORIOPOL | C48: 2 | D48: 1 | F48: 1 | G48: 1 | Q48: 1 | S48: 1
B49: RÎBNIŢA | C49: 18 | D49: 7 | E49: 2 | F49: 12 | G49: 4 | M49: 1 | P49: 4 | Q49: 2 | R49: 2 | S49: 6 | T49: 3
B50: SLOBOZIA | C50: 3 | D50: 1 | E50: 2 | F50: 1 | P50: 2 | T50: 1
B51: TIRASPOL | C51: 23 | D51: 13 | E51: 3 | F51: 8 | G51: 12 | P51: 4 | Q51: 2 | R51: 2 | S51: 9 | T51: 6
B52: TOTAL pe RM malul stîng | C52: =SUM(C46:C51) -> 88 | D52: =SUM(D46:D51) -> 44 | E52: =SUM(E46:E51) -> 7 | F52: =SUM(F46:F51) -> 42 | G52: =SUM(G46:G51) -> 39 | H52: =SUM(H46:H51) -> 0 | I52: =SUM(I46:I51) -> 0 | J52: =SUM(J46:J51) -> 0 | ... T52: =SUM(T46:T51) -> 17
B53: TOTAL malul drept şi malul stîng | C53: =C45+C52 -> 12102 | D53: =D45+D52 -> 5061 | E53: =E45+E52 -> 1012 | F53: =F45+F52 -> 4992 | G53: =G45+G52 -> 5585 | H53: =H45+H52 -> 223 | I53: =I45+I52 -> 212 | J53: =J45+J52 -> 78 | ... T53: =T45+T52 -> 605
B54: Inclusiv de sex feminin В том числе женского пола | C54: 5061 | D54: 5061 | E54: 369 | F54: 1903 | G54: 2602 | H54: 100 | I54: 62 | J54: 25 | K54: 392 | L54: 29 | M54: 205 | N54: 5 | P54: 722 | Q54: 1067 | R54: 329 | S54: 1764 | T54: 548

Sheet 6
B1: V. REPARTIZAREA PERSOANELOR CU DIZABILITĂŢI REEXPERTIZATE DUPĂ CATEGORIE DE VÎRSTĂ, GEN, GRADUL DE DIZABILITATE ŞI CAPACITATE DE MUNCĂ, DUPĂ TIPURI DE AFECTĂRI ALE FUCȚIILOR ȘI UNITĂȚI ADMINISTRATIV-TERITORIALE
B2: РАСПРЕДЕЛЕНИЕ ВТОРИЧНО ПРИЗНАННЫХ ЛИЦ С ОГРАНИЧЕННЫМИ ВОЗМОЖНОСТЯМИ ПО ВОЗРАСТНЫМ КАТЕГОРИЯМ, ПОЛУ, ТИПУ НАРУШЕНИЯ ФУНКЦИИ И АДМИНИСТРАТИВНО-ТЕРРИТОРИАЛЬНЫМ ЕДИНИЦАМ
B3: c) locuitori rurali сельские жители
A4: Nr rînd № стрîки | B4: Unitatea administrativ-teritorială Администратиâнî-территîриальная единица | C4: Total persoane cu dizabilităţi Âсеăî лиц с îăраниченными âîзмîжнîстями | E4: Din numărul total de persoane cu dizabilităţi s-a determinat grad de dizabilitate şi capacitate de muncă Из îбщеăî числа лиц с îăраниченными âîзмîжнîстями îпределены степень îăраничения âîзмîжнîстeй и трудîспîсîбнîсть | K4: Din numărul total de persoane cu dizabilităţi s-au determinat tipurile de afectări ale funcțiilor Из îбщеăî числа лиц с îăраниченными âîзмîжнîстями îпределены нарушения функций
E5: În vîrstă aptă de muncă Â трудîспîсîбнîм âîзрасте | H5: Vîrstă pensionară Пенсиîнный âîзраст
C6: TOTAL ÂСЕĂÎ | D6: Inclusiv de sex feminin Â тîм числе женскîăî пîла | E6: Grad sever тяжелая степень (0-20%) | F6: Grad accentuat âыраженная степень (25-40%) | G6: Grad mediu cредняя степень (45-60%) | H6: Grad sever тяжелая степень (0-20%) | I6: Grad accentuat âыраженная степень (25-40%) | J6: Grad mediu cредняя степень (45-60%) | K6: Afectări mintale Нарушение умстâенных функций | L6: Afectări senzoriale de auz Нарушение сенсîрных функции слуха | M6: Afectări senzoriale de vedere Нарушение сенсîрных функций зрения | N6: Afectări de vorbire Нарушения функций речи | O6: Afectări senzoriale Нарушения друăих сенсîрных функций | P6: Afectări ale sistemelor cardiovascular, hematologic, imunitar și respirator Нарушение функции сердечнî-сîсудистîй, крîâи, имуннîй и дыхательнîй систем | Q6: Afectări ale sistemelor digestiv, metabolic și endocrin Нарушение функции пищеâарительнîй, эндîкриннîй систем и метабîлизма | R6: Afectări urogenitale și de reproducere Нарушения урîăенитальнîй и репрîдуктиâнîй функции | S6: Afectări neuromusculoscheletice și ale mișcărilor aferente Нарушение нейрîмышечнîй, скелетнîй и сâязанных с дâижением функций | T6: Afectări ale pielii și structurilor aferente pielii Нарушении функций кîжи и сâязанных с ней структур
A7: A | B7: B | C7: C | D7: 1 | E7: 2 | F7: 3 | G7: 4 | H7: 5 | I7: 6 | J7: 7 | K7: 8 | L7: 9 | M7: 10 | N7: 11 | O7: 12 | P7: 13 | Q7: 14 | R7: 15 | S7: 16 | T7: 17
B8: ANENII NOI | C8: 962 | D8: 457 | E8: 58 | F8: 418 | G8: 457 | H8: 18 | I8: 7 | J8: 4 | K8: 64 | L8: 8 | M8: 57 | N8: 1 | P8: 155 | Q8: 165 | R8: 44 | S8: 442 | T8: 26
B9: BASARABEASCA | C9: 193 | D9: 74 | E9: 13 | F9: 78 | G9: 88 | H9: 4 | I9: 10 | K9: 17 | L9: 2 | M9: 11 | P9: 43 | Q9: 35 | R9: 7 | S9: 72 | T9: 6
B10: BRICENI | C10: 609 | D10: 251 | E10: 49 | F10: 234 | G10: 299 | H10: 9 | I10: 13 | J10: 5 | K10: 19 | L10: 3 | M10: 18 | P10: 143 | Q10: 108 | R10: 48 | S10: 253 | T10: 17
B11: BĂLŢI | C11: 39 | D11: 17 | F11: 17 | G11: 20 | H11: 2 | K11: 5 | M11: 2 | P11: 6 | Q11: 12 | R11: 2 | S11: 10 | T11: 2
B12: CAHUL | C12: 764 | D12: 304 | E12: 64 | F12: 258 | G12: 426 | H12: 6 | I12: 7 | J12: 3 | K12: 57 | L12: 5 | M12: 46 | P12: 150 | Q12: 137 | R12: 33 | S12: 320 | T12: 16
B13: CĂLĂRAŞI | C13: 791 | D13: 311 | E13: 52 | F13: 307 | G13: 414 | H13: 8 | I13: 8 | J13: 2 | K13: 62 | L13: 9 | M13: 39 | P13: 158 | Q13: 154 | R13: 34 | S13: 322 | T13: 13
B14: CANTEMIR | C14: 538 | D14: 202 | E14: 37 | F14: 228 | G14: 255 | H14: 5 | I14: 7 | J14: 6 | K14: 36 | L14: 6 | M14: 42 | P14: 115 | Q14: 102 | R14: 21 | S14: 200 | T14: 16
B15: CĂUŞENI | C15: 607 | D15: 249 | E15: 31 | F15: 264 | G15: 302 | H15: 2 | I15: 6 | J15: 2 | K15: 58 | L15: 9 | M15: 45 | N15: 1 | P15: 120 | Q15: 85 | R15: 28 | S15: 245 | T15: 16
B16: CEADÎR-LUNGA | C16: 749 | D16: 306 | E16: 50 | F16: 205 | G16: 477 | I16: 7 | J16: 10 | K16: 49 | L16: 5 | M16: 25 | P16: 216 | Q16: 163 | R16: 30 | S16: 248 | T16: 13
B17: CHIȘINĂU | C17: 649 | D17: 287 | E17: 67 | F17: 267 | G17: 290 | H17: 10 | I17: 10 | J17: 5 | K17: 43 | L17: 2 | M17: 29 | P17: 116 | Q17: 118 | R17: 37 | S17: 270 | T17: 34
B18: CIMIŞLIA | C18: 363 | D18: 128 | E18: 38 | F18: 177 | G18: 134 | H18: 6 | I18: 8 | K18: 23 | L18: 4 | M18: 20 | N18: 1 | P18: 65 | Q18: 63 | R18: 9 | S18: 172 | T18: 6
B19: COMRAT | C19: 557 | D19: 221 | E19: 40 | F19: 165 | G19: 335 | H19: 7 | I19: 4 | J19: 6 | K19: 31 | L19: 14 | M19: 26 | N19: 1 | P19: 94 | Q19: 128 | R19: 35 | S19: 211 | T19: 17
B20: CRIULENI | C20: 679 | D20: 299 | E20: 44 | F20: 268 | G20: 350 | H20: 8 | I20: 6 | J20: 3 | K20: 36 | L20: 4 | M20: 28 | P20: 135 | Q20: 127 | R20: 37 | S20: 290 | T20: 22
B21: DONDUŞENI | C21: 378 | D21: 166 | E21: 29 | F21: 164 | G21: 169 | H21: 8 | I21: 7 | J21: 1 | K21: 33 | L21: 2 | M21: 38 | P21: 53 | Q21: 63 | R21: 13 | S21: 164 | T21: 12
B22: DROCHIA | C22: 716 | D22: 322 | E22: 46 | F22: 276 | G22: 370 | H22: 7 | I22: 15 | J22: 2 | K22: 37 | L22: 3 | M22: 46 | P22: 146 | Q22: 145 | R22: 27 | S22: 293 | T22: 19
B23: DUBĂSARI | C23: 334 | D23: 156 | E23: 35 | F23: 141 | G23: 152 | H23: 3 | I23: 2 | J23: 1 | K23: 21 | L23: 2 | M23: 12 | P23: 68 | Q23: 48 | R23: 18 | S23: 153 | T23: 12
B24: EDINEŢ | C24: 743 | D24: 322 | E24: 72 | F24: 345 | G24: 294 | H24: 15 | I24: 13 | J24: 4 | K24: 64 | L24: 2 | M24: 39 | N24: 3 | P24: 170 | Q24: 171 | R24: 32 | S24: 244 | T24: 18
B25: FĂLEŞTI | C25: 724 | D25: 291 | E25: 80 | F25: 275 | G25: 346 | H25: 9 | I25: 12 | J25: 2 | K25: 52 | L25: 6 | M25: 30 | P25: 147 | Q25: 116 | R25: 37 | S25: 315 | T25: 21
B26: FLOREŞTI | C26: 1032 | D26: 449 | E26: 47 | F26: 394 | G26: 544 | H26: 13 | I26: 22 | J26: 12 | K26: 70 | L26: 6 | M26: 34 | N26: 1 | P26: 244 | Q26: 175 | R26: 39 | S26: 424 | T26: 39
B27: GLODENI | C27: 507 | D27: 201 | E27: 42 | F27: 199 | G27: 246 | H27: 11 | I27: 8 | J27: 1 | K27: 25 | L27: 5 | M27: 30 | P27: 118 | Q27: 93 | R27: 24 | S27: 199 | T27: 13
B28: HÎNCEŞTI | C28: 898 | D28: 326 | E28: 68 | F28: 384 | G28: 410 | H28: 15 | I28: 18 | J28: 3 | K28: 98 | L28: 8 | M28: 45 | N28: 1 | O28: 1 | P28: 146 | Q28: 178 | R28: 38 | S28: 354 | T28: 29
B29: IALOVENI | C29: 835 | D29: 340 | E29: 91 | F29: 356 | G29: 357 | H29: 22 | I29: 6 | J29: 3 | K29: 93 | L29: 10 | M29: 40 | P29: 134 | Q29: 140 | R29: 42 | S29: 350 | T29: 26
B30: LEOVA | C30: 363 | D30: 142 | E30: 28 | F30: 135 | G30: 184 | H30: 9 | I30: 7 | K30: 41 | L30: 1 | M30: 24 | P30: 53 | Q30: 62 | R30: 17 | S30: 159 | T30: 6
B31: NISPORENI | C31: 462 | D31: 176 | E31: 30 | F31: 198 | G31: 217 | H31: 10 | I31: 6 | J31: 1 | K31: 48 | L31: 6 | M31: 22 | P31: 86 | Q31: 88 | R31: 22 | S31: 177 | T31: 13
B32: OCNIŢA | C32: 510 | D32: 214 | E32: 32 | F32: 207 | G32: 252 | H32: 8 | I32: 10 | J32: 1 | K32: 33 | L32: 2 | M32: 33 | P32: 87 | Q32: 76 | R32: 31 | S32: 234 | T32: 14
B33: ORHEI | C33: 1039 | D33: 402 | E33: 79 | F33: 432 | G33: 500 | H33: 15 | I33: 9 | J33: 4 | K33: 102 | L33: 7 | M33: 57 | P33: 197 | Q33: 147 | R33: 45 | S33: 460 | T33: 24
B34: REZINA | C34: 541 | D34: 207 | E34: 52 | F34: 182 | G34: 287 | H34: 9 | I34: 9 | J34: 2 | K34: 60 | L34: 3 | M34: 50 | P34: 115 | Q34: 53 | R34: 23 | S34: 231 | T34: 6
B35: RÎŞCANI | C35: 652 | D35: 275 | E35: 68 | F35: 284 | G35: 276 | H35: 16 | I35: 5 | J35: 3 | K35: 56 | M35: 31 | N35: 1 | P35: 136 | Q35: 130 | R35: 32 | S35: 247 | T35: 19
B36: SÎNGEREI | C36: 1116 | D36: 484 | E36: 72 | F36: 475 | G36: 539 | H36: 6 | I36: 20 | J36: 4 | K36: 87 | L36: 2 | M36: 46 | P36: 208 | Q36: 153 | R36: 38 | S36: 550 | T36: 32
B37: SOROCA | C37: 846 | D37: 343 | E37: 72 | F37: 283 | G37: 450 | H37: 21 | I37: 14 | J37: 6 | K37: 63 | L37: 2 | M37: 50 | N37: 1 | P37: 184 | Q37: 126 | R37: 54 | S37: 344 | T37: 22
B38: ŞOLDANEŞTI | C38: 524 | D38: 220 | E38: 58 | F38: 150 | G38: 286 | H38: 13 | I38: 14 | J38: 3 | K38: 57 | L38: 4 | M38: 39 | P38: 95 | Q38: 90 | R38: 12 | S38: 218 | T38: 9
B39: STRĂŞENI | C39: 934 | D39: 379 | E39: 70 | F39: 365 | G39: 457 | H39: 14 | I39: 25 | J39: 3 | K39: 66 | L39: 12 | M39: 42 | P39: 208 | Q39: 166 | R39: 29 | S39: 387 | T39: 24
B40: ŞTEFAN VODĂ | C40: 530 | D40: 219 | E40: 41 | F40: 224 | G40: 253 | H40: 6 | I40: 4 | J40: 2 | K40: 38 | L40: 1 | M40: 13 | P40: 130 | Q40: 99 | R40: 31 | S40: 193 | T40: 25
B41: TARACLIA | C41: 348 | D41: 154 | E41: 15 | F41: 89 | G41: 238 | H41: 2 | I41: 4 | K41: 18 | L41: 1 | M41: 14 | N41: 1 | P41: 89 | Q41: 69 | R41: 15 | S41: 132 | T41: 9
B42: TELENEŞTI | C42: 902 | D42: 381 | E42: 74 | F42: 350 | G42: 451 | H42: 10 | I42: 12 | J42: 5 | K42: 63 | L42: 6 | M42: 36 | P42: 143 | Q42: 170 | R42: 34 | S42: 430 | T42: 20
B43: UNGHENI | C43: 893 | D43: 344 | E43: 77 | F43: 340 | G43: 436 | H43: 22 | I43: 15 | J43: 3 | K43: 74 | L43: 6 | M43: 72 | P43: 148 | Q43: 125 | R43: 37 | S43: 408 | T43: 23
B44: VULCĂNEŞTI | C44: 106 | D44: 37 | E44: 6 | F44: 40 | G44: 54 | H44: 1 | I44: 4 | J44: 1 | K44: 6 | M44: 9 | P44: 27 | Q44: 22 | R44: 4 | S44: 30 | T44: 8
B45: TOTAL pe RM malul drept | C45: =SUM(C8:C44) -> 23433 | D45: =SUM(D8:D44) -> 9656 | E45: =SUM(E8:E44) -> 1827 | F45: =SUM(F8:F44) -> 9174 | G45: =SUM(G8:G44) -> 11615 | H45: =SUM(H8:H44) -> 350 | I45: =SUM(I8:I44) -> 354 | J45: =SUM(J8:J44) -> 113 | ... T45: =SUM(T8:T44) -> 647
B46: BENDER | C46: 2 | D46: 1 | G46: 2 | Q46: 1 | T46: 1
B47: CAMENCA | C47: 0
B48: GRIGORIOPOL | C48: 4 | D48: 3 | E48: 1 | F48: 1 | G48: 2 | P48: 4
B49: RÎBNIŢA | C49: 5 | D49: 3 | E49: 1 | F49: 1 | G49: 3 | P49: 1 | Q49: 1 | S49: 1 | T49: 2
B50: SLOBOZIA | C50: 9 | D50: 4 | F50: 5 | G50: 4 | P50: 2 | Q50: 3 | S50: 3 | T50: 1
B51: TIRASPOL | C51: 0
B52: TOTAL pe RM malul stîng | C52: =SUM(C46:C51) -> 20 | D52: =SUM(D46:D51) -> 11 | E52: =SUM(E46:E51) -> 2 | F52: =SUM(F46:F51) -> 7 | G52: =SUM(G46:G51) -> 11 | H52: =SUM(H46:H51) -> 0 | I52: =SUM(I46:I51) -> 0 | J52: =SUM(J46:J51) -> 0 | ... T52: =SUM(T46:T51) -> 4
B53: TOTAL malul drept şi malul stîng | C53: =C45+C52 -> 23453 | D53: =D45+D52 -> 9667 | E53: =E45+E52 -> 1829 | F53: =F45+F52 -> 9181 | G53: =G45+G52 -> 11626 | H53: =H45+H52 -> 350 | I53: =I45+I52 -> 354 | J53: =J45+J52 -> 113 | ... T53: =T45+T52 -> 651
B54: Inclusiv de sex feminin В том числе женского пола | C54: 9667 | D54: 9667 | E54: 604 | F54: 3443 | G54: 5360 | H54: 143 | I54: 87 | J54: 30 | K54: 791 | L54: 76 | M54: 508 | N54: 5 | O54: 1 | P54: 1342 | Q54: 1924 | R54: 637 | S54: 3828 | T54: 555
