Workbook

Sheet Лист1
A1: RAPORT STATISTIC DE RAMURĂ
A2: ОТРАСЛЕВОЙ СТАТИСТИЧЕСКИЙ ОТЧЁТ
K3: In conformitate cu Legea Republicii Moldova Nr. 412-XV din 9.12.2004 «Cu privire la statistica oficială» organele statisticii oficiale: -au dreptul să obţină date statistice de la toate persoanele fizice si juridice, indiferent de forma de proprietate; -asigură comfidențialitatea datelor individuale obținute și utilizarea lor numai în scopuri statistice. Refuzul, prezentarea cu întîrziere a datelor statistice, prezentarea datelor eronate sau în volum incomplet constituie contravenție administrativă şi se sancţionează conform legislaţiei în vigoare. В соответствии с Законом Республики Молдова N 412-XV oт 9.12.2004 «Об официальной статистике» органы официальной статистики: -имеют право получать статистические данные от всех физических и юридических лиц независимо от формы собственности; -гарантируют конфиденциальность полученных итдивидуальных данных и их использование только в статистических целях. Отказ, представление статистических данных с опозданием, представление ошибочных данных или не в полном объеме, является административным правонарушением и влекут за собой применение санкций в соответствии с действующим законодательством. Aprobat de MSMPSF al Republicii Moldova prin ordinul Nr. 989 din 03.11.2020 Утвержден приказом МЗТСЗ Республики Молдова № 989 от 03.11.2020 Prezintă: -Consiliul Naţional pentru Determinarea Dizabilităţii şi Capacităţii de Muncă -MSMPS al Republicii Moldova (către Agenția Națională pentru Sănătate Publică) în termenele fixate de ultimul; -MSMPS al Republicii Moldova (Agenția Națională pentru Sănătate Publică) centralizator anual la 3 martie - Biroului Naţional de Statistică. Представляют: - Национальный Консилиум Установления Ограничения Возможностей и Трудоспособности- МЗТСЗ РМ (Национальному Агенству Общественного Здоровья в установленные последним сроки; -МЗТСЗ Республики Молдова (Национальное Агенство Общественного Здоровья) сводные данные за год 3 марта Национальному Бюро Статистики.
A4: Denumirea: Наименование:
A5: CNDDCM
A9: Adresa: | B9: Адрес:
F10: RAPORT STATISTIC Nr. 27a -ANEXA - 1
A11: Raionul (municipiul) | C11: Chișinău | F11: (semestrial, anual)
A12: Район (муниципий)
F13: PRIVIND DETERMINAREA DIZABILITĂŢII LA COPII DUPĂ TIPURI DE AFECTĂRI ALE FUCȚIILOR ȘI UNITĂȚI ADMINISTRATIV-TERITORIALE
A17: Strada | B17: Alecsandri | D17: , nr | E17: 1
A18: Улица | F18: СТАТИСТИЧЕСКИЙ ОТЧЁТ №27a, ВКЛАДЫШ - 1 (квартальный накопительный, годовой)
F19: (полугодовой, годовой)
A20: Cod CUIÎO
A21: Код | F21: ОБ УСТАНОВЛЕНИИ ОГРАНИЧЕНИЯ ВОЗМОЖНОСТЕЙ У ДЕТЕЙ ПО ТИПУ НАРУШЕНИЯ ФУНКЦИИ И АДМИНИСТРАТИВНО-ТЕРРИТОРИАЛЬНЫМ ЕДИНИЦАМ
A23: Cod INDO | C23: 1007601001134
A24: Код
C25: Cod CAEM, ediţia 2005
A26: Activitatea principală
A27: Основной вид деятельности | G27: pe 20 | H27: 21
G28: за
F32: CODUL MUNICIPIULUI / RAIONULUI
A33: Conducătorul L.Ş. Руководитель М.П. | H33: 41
A34: Руководитель | D34: М.П.
A36: Numele şi coordonatele executantului
A37: Фамилия и координаты исполнителя
A39: Dl (dna) | B39: Stela Pînzaru
A40: Tel: | B40: 22820677
F41: Ziua | G41: Luna | I41: Anul
A42: e-mail | B42: cnddcm@cnddcm.gov.md | F42: 8 | G42: 2 | I42: 22

Sheet 2
B1: I. REPARTIZAREA PERSOANELOR CU DIZABILITĂŢI CAZ ȘI PERSOANELOR CU DIZABILITĂŢI REEXPERTIZATE NOU DUPĂ CATEGORIE DE VÎRSTĂ, GEN, GRADUL DE DIZABILITATE, DUPĂ TIPURI DE AFECTĂRI ALE FUCȚIILOR ȘI UNITĂȚI ADMINISTRATIV-TERITORIALE
B2: РАСПРЕДЕЛЕНИЕ ПЕРВИЧНО ПРИЗНАННЫХ ЛИЦ И ВТОРИЧНО ПРИЗНАННЫХ ЛИЦ С ОГРАНИЧЕННЫМИ ВОЗМОЖНОСТЯМИС ОГРАНИЧЕННЫМИ ВОЗМОЖНОСТЯМИ ПО ВОЗРАСТНЫМ КАТЕГОРИЯМ, ПОЛУ, ТИПУ НАРУШЕНИЯ ФУНКЦИИ И АДМИНИСТРАТИВНО-ТЕРРИТОРИАЛЬНЫМ ЕДИНИЦАМ
B3: a) total populaţie всего население
A4: Nr rînd № строки | B4: Unitatea administrativ-teritorială Административно-территориальная единица | C4: Total persoane cu dizabilităţi Всего лиц с ограни-ченными возмож-ностями | E4: Inclusiv în vîrstă В том числе в возрасте | J4: Din numărul total de persoane cu dizabilităţi s-a determinat grad de dizabilitate Из общего числа лиц с ограниченными возможностями определены степень ограничения возможностeй | M4: Din numărul total de persoane cu dizabilităţi s-au determinat tipurile de afectări ale funcțiilor Из общего числа лиц с ограниченными возможностями определены нарушения функций
C5: Total | D5: Inclusiv de sex feminin В том числе женского пола | E5: 0-2 ani 11 luni 29 zile | F5: 3-6 ani 11 luni 29 zile | G5: 7-15 ani 11 luni 29 zile | H5: 16-17ani 11 luni 29 zile | J5: Grad sever тяжелая степень | K5: Grad accentuat выраженная степень | L5: Grad mediu cредняя степень | M5: Afectări mintale Нарушение умственных функций | N5: Afectări senzoriale de auz Сенсорные функции слуха | O5: Afectări senzoriale de vedere Нарушение сенсорных функций зрения | P5: Afectări de vorbire Нарушения функций речи | Q5: Afectări senzoriale Нарушения других сенсорных функций | R5: Afectări ale sistemelor cardiovascular, hematologic, imunitar și respirator Нарушение функции сердечно-сосудистой, крови, имунной и дыхательной систем | S5: Afectări ale sistemelor digestiv, metabolic și endocrin Нарушение функции пищеварительной, эндокринной систем и метаболизма | T5: Afectări urogenitale și de reproducere Нарушения урогенитальной и репродуктивной функции | U5: Afectări neuromusculoscheletice și ale mișcărilor aferente Нарушение нейромышечной, скелетной и связанных с движением функций | V5: Afectări ale pielii și structurilor aferente pielii Нарушении функций кожи и связанных с ней структур
H6: fete | I6: băieți
A7: A | B7: B | C7: C | D7: 1 | E7: 2 | F7: 3 | G7: 4 | H7: 5 | I7: 6 | J7: 7 | K7: 8 | L7: 9 | M7: 10 | N7: 11 | O7: 12 | P7: 13 | Q7: 14 | R7: 15 | S7: 16 | T7: 17 | U7: 18 | V7: 19
B8: ANENII NOI | C8: ='3'!C8+'4'!C8+'5'!C8+'6'!C8 -> 133 | D8: ='3'!D8+'4'!D8+'5'!D8+'6'!D8 -> 58 | E8: ='3'!E8+'4'!E8+'5'!E8+'6'!E8 -> 5 | F8: ='3'!F8+'4'!F8+'5'!F8+'6'!F8 -> 32 | G8: ='3'!G8+'4'!G8+'5'!G8+'6'!G8 -> 84 | H8: ='3'!H8+'4'!H8+'5'!H8+'6'!H8 -> 4 | I8: ='3'!I8+'4'!I8+'5'!I8+'6'!I8 -> 8 | J8: ='3'!J8+'4'!J8+'5'!J8+'6'!J8 -> 29 | ... V8: ='3'!V8+'4'!V8+'5'!V8+'6'!V8 -> 2
B9: BASARABEASCA | C9: ='3'!C9+'4'!C9+'5'!C9+'6'!C9 -> 54 | D9: ='3'!D9+'4'!D9+'5'!D9+'6'!D9 -> 22 | E9: ='3'!E9+'4'!E9+'5'!E9+'6'!E9 -> 4 | F9: ='3'!F9+'4'!F9+'5'!F9+'6'!F9 -> 8 | G9: ='3'!G9+'4'!G9+'5'!G9+'6'!G9 -> 37 | H9: ='3'!H9+'4'!H9+'5'!H9+'6'!H9 -> 2 | I9: ='3'!I9+'4'!I9+'5'!I9+'6'!I9 -> 3 | J9: ='3'!J9+'4'!J9+'5'!J9+'6'!J9 -> 11 | ... V9: ='3'!V9+'4'!V9+'5'!V9+'6'!V9 -> 0
B10: BRICENI | C10: ='3'!C10+'4'!C10+'5'!C10+'6'!C10 -> 115 | D10: ='3'!D10+'4'!D10+'5'!D10+'6'!D10 -> 38 | E10: ='3'!E10+'4'!E10+'5'!E10+'6'!E10 -> 8 | F10: ='3'!F10+'4'!F10+'5'!F10+'6'!F10 -> 18 | G10: ='3'!G10+'4'!G10+'5'!G10+'6'!G10 -> 78 | H10: ='3'!H10+'4'!H10+'5'!H10+'6'!H10 -> 3 | I10: ='3'!I10+'4'!I10+'5'!I10+'6'!I10 -> 8 | J10: ='3'!J10+'4'!J10+'5'!J10+'6'!J10 -> 24 | ... P10: ='3'!P10+'4'!P10+'5'!P10+'6'!P10 -> 1 | Q10: 0 | R10: ='3'!R10+'4'!R10+'5'!R10+'6'!R10 -> 15 | S10: ='3'!S10+'4'!S10+'5'!S10+'6'!S10 -> 16 | T10: ='3'!T10+'4'!T10+'5'!T10+'6'!T10 -> 2 | U10: ='3'!U10+'4'!U10+'5'!U10+'6'!U10 -> 42 | V10: ='3'!V10+'4'!V10+'5'!V10+'6'!V10 -> 3
B11: BĂLŢI | C11: ='3'!C11+'4'!C11+'5'!C11+'6'!C11 -> 251 | D11: ='3'!D11+'4'!D11+'5'!D11+'6'!D11 -> 109 | E11: ='3'!E11+'4'!E11+'5'!E11+'6'!E11 -> 29 | F11: ='3'!F11+'4'!F11+'5'!F11+'6'!F11 -> 61 | G11: ='3'!G11+'4'!G11+'5'!G11+'6'!G11 -> 141 | H11: ='3'!H11+'4'!H11+'5'!H11+'6'!H11 -> 13 | I11: ='3'!I11+'4'!I11+'5'!I11+'6'!I11 -> 7 | J11: ='3'!J11+'4'!J11+'5'!J11+'6'!J11 -> 68 | ... V11: ='3'!V11+'4'!V11+'5'!V11+'6'!V11 -> 4
B12: CAHUL | C12: ='3'!C12+'4'!C12+'5'!C12+'6'!C12 -> 226 | D12: ='3'!D12+'4'!D12+'5'!D12+'6'!D12 -> 95 | E12: ='3'!E12+'4'!E12+'5'!E12+'6'!E12 -> 19 | F12: ='3'!F12+'4'!F12+'5'!F12+'6'!F12 -> 52 | G12: ='3'!G12+'4'!G12+'5'!G12+'6'!G12 -> 130 | H12: ='3'!H12+'4'!H12+'5'!H12+'6'!H12 -> 12 | I12: ='3'!I12+'4'!I12+'5'!I12+'6'!I12 -> 13 | J12: ='3'!J12+'4'!J12+'5'!J12+'6'!J12 -> 42 | ... V12: ='3'!V12+'4'!V12+'5'!V12+'6'!V12 -> 6
B13: CĂLĂRAŞI | C13: ='3'!C13+'4'!C13+'5'!C13+'6'!C13 -> 125 | D13: ='3'!D13+'4'!D13+'5'!D13+'6'!D13 -> 54 | E13: ='3'!E13+'4'!E13+'5'!E13+'6'!E13 -> 10 | F13: ='3'!F13+'4'!F13+'5'!F13+'6'!F13 -> 22 | G13: ='3'!G13+'4'!G13+'5'!G13+'6'!G13 -> 80 | H13: ='3'!H13+'4'!H13+'5'!H13+'6'!H13 -> 9 | I13: ='3'!I13+'4'!I13+'5'!I13+'6'!I13 -> 4 | J13: ='3'!J13+'4'!J13+'5'!J13+'6'!J13 -> 23 | ... V13: ='3'!V13+'4'!V13+'5'!V13+'6'!V13 -> 3
B14: CANTEMIR | C14: ='3'!C14+'4'!C14+'5'!C14+'6'!C14 -> 104 | D14: ='3'!D14+'4'!D14+'5'!D14+'6'!D14 -> 48 | E14: ='3'!E14+'4'!E14+'5'!E14+'6'!E14 -> 7 | F14: ='3'!F14+'4'!F14+'5'!F14+'6'!F14 -> 21 | G14: ='3'!G14+'4'!G14+'5'!G14+'6'!G14 -> 68 | H14: ='3'!H14+'4'!H14+'5'!H14+'6'!H14 -> 4 | I14: ='3'!I14+'4'!I14+'5'!I14+'6'!I14 -> 4 | J14: ='3'!J14+'4'!J14+'5'!J14+'6'!J14 -> 21 | ... V14: ='3'!V14+'4'!V14+'5'!V14+'6'!V14 -> 2
B15: CĂUŞENI | C15: ='3'!C15+'4'!C15+'5'!C15+'6'!C15 -> 138 | D15: ='3'!D15+'4'!D15+'5'!D15+'6'!D15 -> 54 | E15: ='3'!E15+'4'!E15+'5'!E15+'6'!E15 -> 11 | F15: ='3'!F15+'4'!F15+'5'!F15+'6'!F15 -> 27 | G15: ='3'!G15+'4'!G15+'5'!G15+'6'!G15 -> 88 | H15: ='3'!H15+'4'!H15+'5'!H15+'6'!H15 -> 5 | I15: ='3'!I15+'4'!I15+'5'!I15+'6'!I15 -> 7 | J15: ='3'!J15+'4'!J15+'5'!J15+'6'!J15 -> 28 | ... V15: ='3'!V15+'4'!V15+'5'!V15+'6'!V15 -> 2
B16: CEADÎR-LUNGA | C16: ='3'!C16+'4'!C16+'5'!C16+'6'!C16 -> 180 | D16: ='3'!D16+'4'!D16+'5'!D16+'6'!D16 -> 62 | E16: ='3'!E16+'4'!E16+'5'!E16+'6'!E16 -> 10 | F16: ='3'!F16+'4'!F16+'5'!F16+'6'!F16 -> 54 | G16: ='3'!G16+'4'!G16+'5'!G16+'6'!G16 -> 105 | H16: ='3'!H16+'4'!H16+'5'!H16+'6'!H16 -> 5 | I16: ='3'!I16+'4'!I16+'5'!I16+'6'!I16 -> 6 | J16: ='3'!J16+'4'!J16+'5'!J16+'6'!J16 -> 36 | ... V16: ='3'!V16+'4'!V16+'5'!V16+'6'!V16 -> 1
B17: CHIȘINĂU | C17: ='3'!C17+'4'!C17+'5'!C17+'6'!C17 -> 1105 | D17: ='3'!D17+'4'!D17+'5'!D17+'6'!D17 -> 370 | E17: ='3'!E17+'4'!E17+'5'!E17+'6'!E17 -> 121 | F17: ='3'!F17+'4'!F17+'5'!F17+'6'!F17 -> 343 | G17: ='3'!G17+'4'!G17+'5'!G17+'6'!G17 -> 575 | H17: ='3'!H17+'4'!H17+'5'!H17+'6'!H17 -> 26 | I17: ='3'!I17+'4'!I17+'5'!I17+'6'!I17 -> 40 | J17: ='3'!J17+'4'!J17+'5'!J17+'6'!J17 -> 405 | ... V17: ='3'!V17+'4'!V17+'5'!V17+'6'!V17 -> 3
B18: CIMIŞLIA | C18: ='3'!C18+'4'!C18+'5'!C18+'6'!C18 -> 66 | D18: ='3'!D18+'4'!D18+'5'!D18+'6'!D18 -> 22 | E18: ='3'!E18+'4'!E18+'5'!E18+'6'!E18 -> 9 | F18: ='3'!F18+'4'!F18+'5'!F18+'6'!F18 -> 15 | G18: ='3'!G18+'4'!G18+'5'!G18+'6'!G18 -> 37 | H18: ='3'!H18+'4'!H18+'5'!H18+'6'!H18 -> 0 | I18: ='3'!I18+'4'!I18+'5'!I18+'6'!I18 -> 5 | J18: ='3'!J18+'4'!J18+'5'!J18+'6'!J18 -> 20 | ... V18: ='3'!V18+'4'!V18+'5'!V18+'6'!V18 -> 1
B19: COMRAT | C19: ='3'!C19+'4'!C19+'5'!C19+'6'!C19 -> 181 | D19: ='3'!D19+'4'!D19+'5'!D19+'6'!D19 -> 71 | E19: ='3'!E19+'4'!E19+'5'!E19+'6'!E19 -> 15 | F19: ='3'!F19+'4'!F19+'5'!F19+'6'!F19 -> 47 | G19: ='3'!G19+'4'!G19+'5'!G19+'6'!G19 -> 113 | H19: ='3'!H19+'4'!H19+'5'!H19+'6'!H19 -> 2 | I19: ='3'!I19+'4'!I19+'5'!I19+'6'!I19 -> 4 | J19: ='3'!J19+'4'!J19+'5'!J19+'6'!J19 -> 59 | ... V19: ='3'!V19+'4'!V19+'5'!V19+'6'!V19 -> 3
B20: CRIULENI | C20: ='3'!C20+'4'!C20+'5'!C20+'6'!C20 -> 143 | D20: ='3'!D20+'4'!D20+'5'!D20+'6'!D20 -> 58 | E20: ='3'!E20+'4'!E20+'5'!E20+'6'!E20 -> 15 | F20: ='3'!F20+'4'!F20+'5'!F20+'6'!F20 -> 28 | G20: ='3'!G20+'4'!G20+'5'!G20+'6'!G20 -> 84 | H20: ='3'!H20+'4'!H20+'5'!H20+'6'!H20 -> 5 | I20: ='3'!I20+'4'!I20+'5'!I20+'6'!I20 -> 11 | J20: ='3'!J20+'4'!J20+'5'!J20+'6'!J20 -> 39 | ... V20: ='3'!V20+'4'!V20+'5'!V20+'6'!V20 -> 2
B21: DONDUŞENI | C21: ='3'!C21+'4'!C21+'5'!C21+'6'!C21 -> 73 | D21: ='3'!D21+'4'!D21+'5'!D21+'6'!D21 -> 38 | E21: ='3'!E21+'4'!E21+'5'!E21+'6'!E21 -> 8 | F21: ='3'!F21+'4'!F21+'5'!F21+'6'!F21 -> 17 | G21: ='3'!G21+'4'!G21+'5'!G21+'6'!G21 -> 44 | H21: ='3'!H21+'4'!H21+'5'!H21+'6'!H21 -> 2 | I21: ='3'!I21+'4'!I21+'5'!I21+'6'!I21 -> 2 | J21: ='3'!J21+'4'!J21+'5'!J21+'6'!J21 -> 15 | ... V21: ='3'!V21+'4'!V21+'5'!V21+'6'!V21 -> 2
B22: DROCHIA | C22: ='3'!C22+'4'!C22+'5'!C22+'6'!C22 -> 157 | D22: ='3'!D22+'4'!D22+'5'!D22+'6'!D22 -> 70 | E22: ='3'!E22+'4'!E22+'5'!E22+'6'!E22 -> 13 | F22: ='3'!F22+'4'!F22+'5'!F22+'6'!F22 -> 37 | G22: ='3'!G22+'4'!G22+'5'!G22+'6'!G22 -> 89 | H22: ='3'!H22+'4'!H22+'5'!H22+'6'!H22 -> 11 | I22: ='3'!I22+'4'!I22+'5'!I22+'6'!I22 -> 7 | J22: ='3'!J22+'4'!J22+'5'!J22+'6'!J22 -> 21 | ... V22: ='3'!V22+'4'!V22+'5'!V22+'6'!V22 -> 2
B23: DUBĂSARI | C23: ='3'!C23+'4'!C23+'5'!C23+'6'!C23 -> 61 | D23: ='3'!D23+'4'!D23+'5'!D23+'6'!D23 -> 20 | E23: ='3'!E23+'4'!E23+'5'!E23+'6'!E23 -> 4 | F23: ='3'!F23+'4'!F23+'5'!F23+'6'!F23 -> 19 | G23: ='3'!G23+'4'!G23+'5'!G23+'6'!G23 -> 36 | H23: ='3'!H23+'4'!H23+'5'!H23+'6'!H23 -> 1 | I23: ='3'!I23+'4'!I23+'5'!I23+'6'!I23 -> 1 | J23: ='3'!J23+'4'!J23+'5'!J23+'6'!J23 -> 12 | ... V23: ='3'!V23+'4'!V23+'5'!V23+'6'!V23 -> 2
B24: EDINEŢ | C24: ='3'!C24+'4'!C24+'5'!C24+'6'!C24 -> 130 | D24: ='3'!D24+'4'!D24+'5'!D24+'6'!D24 -> 35 | E24: ='3'!E24+'4'!E24+'5'!E24+'6'!E24 -> 12 | F24: ='3'!F24+'4'!F24+'5'!F24+'6'!F24 -> 22 | G24: ='3'!G24+'4'!G24+'5'!G24+'6'!G24 -> 91 | H24: ='3'!H24+'4'!H24+'5'!H24+'6'!H24 -> 4 | I24: ='3'!I24+'4'!I24+'5'!I24+'6'!I24 -> 1 | J24: ='3'!J24+'4'!J24+'5'!J24+'6'!J24 -> 31 | ... P24: ='3'!P24+'4'!P24+'5'!P24+'6'!P24 -> 1 | R24: ='3'!R24+'4'!R24+'5'!R24+'6'!R24 -> 27 | S24: ='3'!S24+'4'!S24+'5'!S24+'6'!S24 -> 23 | T24: ='3'!T24+'4'!T24+'5'!T24+'6'!T24 -> 8 | U24: ='3'!U24+'4'!U24+'5'!U24+'6'!U24 -> 38 | V24: ='3'!V24+'4'!V24+'5'!V24+'6'!V24 -> 2
B25: FĂLEŞTI | C25: ='3'!C25+'4'!C25+'5'!C25+'6'!C25 -> 167 | D25: ='3'!D25+'4'!D25+'5'!D25+'6'!D25 -> 69 | E25: ='3'!E25+'4'!E25+'5'!E25+'6'!E25 -> 15 | F25: ='3'!F25+'4'!F25+'5'!F25+'6'!F25 -> 31 | G25: ='3'!G25+'4'!G25+'5'!G25+'6'!G25 -> 108 | H25: ='3'!H25+'4'!H25+'5'!H25+'6'!H25 -> 6 | I25: ='3'!I25+'4'!I25+'5'!I25+'6'!I25 -> 7 | J25: ='3'!J25+'4'!J25+'5'!J25+'6'!J25 -> 32 | ... V25: ='3'!V25+'4'!V25+'5'!V25+'6'!V25 -> 6
B26: FLOREŞTI | C26: ='3'!C26+'4'!C26+'5'!C26+'6'!C26 -> 181 | D26: ='3'!D26+'4'!D26+'5'!D26+'6'!D26 -> 69 | E26: ='3'!E26+'4'!E26+'5'!E26+'6'!E26 -> 7 | F26: ='3'!F26+'4'!F26+'5'!F26+'6'!F26 -> 43 | G26: ='3'!G26+'4'!G26+'5'!G26+'6'!G26 -> 120 | H26: ='3'!H26+'4'!H26+'5'!H26+'6'!H26 -> 4 | I26: ='3'!I26+'4'!I26+'5'!I26+'6'!I26 -> 7 | J26: ='3'!J26+'4'!J26+'5'!J26+'6'!J26 -> 25 | ... V26: ='3'!V26+'4'!V26+'5'!V26+'6'!V26 -> 3
B27: GLODENI | C27: ='3'!C27+'4'!C27+'5'!C27+'6'!C27 -> 124 | D27: ='3'!D27+'4'!D27+'5'!D27+'6'!D27 -> 43 | E27: ='3'!E27+'4'!E27+'5'!E27+'6'!E27 -> 8 | F27: ='3'!F27+'4'!F27+'5'!F27+'6'!F27 -> 29 | G27: ='3'!G27+'4'!G27+'5'!G27+'6'!G27 -> 80 | H27: ='3'!H27+'4'!H27+'5'!H27+'6'!H27 -> 2 | I27: ='3'!I27+'4'!I27+'5'!I27+'6'!I27 -> 5 | J27: ='3'!J27+'4'!J27+'5'!J27+'6'!J27 -> 17 | ... V27: ='3'!V27+'4'!V27+'5'!V27+'6'!V27 -> 2
B28: HÎNCEŞTI | C28: ='3'!C28+'4'!C28+'5'!C28+'6'!C28 -> 214 | D28: ='3'!D28+'4'!D28+'5'!D28+'6'!D28 -> 72 | E28: ='3'!E28+'4'!E28+'5'!E28+'6'!E28 -> 22 | F28: ='3'!F28+'4'!F28+'5'!F28+'6'!F28 -> 52 | G28: ='3'!G28+'4'!G28+'5'!G28+'6'!G28 -> 125 | H28: ='3'!H28+'4'!H28+'5'!H28+'6'!H28 -> 7 | I28: ='3'!I28+'4'!I28+'5'!I28+'6'!I28 -> 8 | J28: ='3'!J28+'4'!J28+'5'!J28+'6'!J28 -> 43 | ... V28: ='3'!V28+'4'!V28+'5'!V28+'6'!V28 -> 7
B29: IALOVENI | C29: ='3'!C29+'4'!C29+'5'!C29+'6'!C29 -> 223 | D29: ='3'!D29+'4'!D29+'5'!D29+'6'!D29 -> 86 | E29: ='3'!E29+'4'!E29+'5'!E29+'6'!E29 -> 18 | F29: ='3'!F29+'4'!F29+'5'!F29+'6'!F29 -> 52 | G29: ='3'!G29+'4'!G29+'5'!G29+'6'!G29 -> 137 | H29: ='3'!H29+'4'!H29+'5'!H29+'6'!H29 -> 8 | I29: ='3'!I29+'4'!I29+'5'!I29+'6'!I29 -> 8 | J29: ='3'!J29+'4'!J29+'5'!J29+'6'!J29 -> 51 | ... V29: ='3'!V29+'4'!V29+'5'!V29+'6'!V29 -> 2
B30: LEOVA | C30: ='3'!C30+'4'!C30+'5'!C30+'6'!C30 -> 104 | D30: ='3'!D30+'4'!D30+'5'!D30+'6'!D30 -> 42 | E30: ='3'!E30+'4'!E30+'5'!E30+'6'!E30 -> 10 | F30: ='3'!F30+'4'!F30+'5'!F30+'6'!F30 -> 27 | G30: ='3'!G30+'4'!G30+'5'!G30+'6'!G30 -> 55 | H30: ='3'!H30+'4'!H30+'5'!H30+'6'!H30 -> 3 | I30: ='3'!I30+'4'!I30+'5'!I30+'6'!I30 -> 9 | J30: ='3'!J30+'4'!J30+'5'!J30+'6'!J30 -> 16 | ... V30: ='3'!V30+'4'!V30+'5'!V30+'6'!V30 -> 1
B31: NISPORENI | C31: ='3'!C31+'4'!C31+'5'!C31+'6'!C31 -> 113 | D31: ='3'!D31+'4'!D31+'5'!D31+'6'!D31 -> 51 | E31: ='3'!E31+'4'!E31+'5'!E31+'6'!E31 -> 10 | F31: ='3'!F31+'4'!F31+'5'!F31+'6'!F31 -> 23 | G31: ='3'!G31+'4'!G31+'5'!G31+'6'!G31 -> 76 | H31: ='3'!H31+'4'!H31+'5'!H31+'6'!H31 -> 0 | I31: ='3'!I31+'4'!I31+'5'!I31+'6'!I31 -> 4 | J31: ='3'!J31+'4'!J31+'5'!J31+'6'!J31 -> 33 | ... V31: ='3'!V31+'4'!V31+'5'!V31+'6'!V31 -> 0
B32: OCNIŢA | C32: ='3'!C32+'4'!C32+'5'!C32+'6'!C32 -> 115 | D32: ='3'!D32+'4'!D32+'5'!D32+'6'!D32 -> 56 | E32: ='3'!E32+'4'!E32+'5'!E32+'6'!E32 -> 11 | F32: ='3'!F32+'4'!F32+'5'!F32+'6'!F32 -> 19 | G32: ='3'!G32+'4'!G32+'5'!G32+'6'!G32 -> 76 | H32: ='3'!H32+'4'!H32+'5'!H32+'6'!H32 -> 3 | I32: ='3'!I32+'4'!I32+'5'!I32+'6'!I32 -> 6 | J32: ='3'!J32+'4'!J32+'5'!J32+'6'!J32 -> 26 | ... V32: ='3'!V32+'4'!V32+'5'!V32+'6'!V32 -> 3
B33: ORHEI | C33: ='3'!C33+'4'!C33+'5'!C33+'6'!C33 -> 254 | D33: ='3'!D33+'4'!D33+'5'!D33+'6'!D33 -> 89 | E33: ='3'!E33+'4'!E33+'5'!E33+'6'!E33 -> 14 | F33: ='3'!F33+'4'!F33+'5'!F33+'6'!F33 -> 44 | G33: ='3'!G33+'4'!G33+'5'!G33+'6'!G33 -> 183 | H33: ='3'!H33+'4'!H33+'5'!H33+'6'!H33 -> 5 | I33: ='3'!I33+'4'!I33+'5'!I33+'6'!I33 -> 8 | J33: ='3'!J33+'4'!J33+'5'!J33+'6'!J33 -> 47 | ... V33: ='3'!V33+'4'!V33+'5'!V33+'6'!V33 -> 6
B34: REZINA | C34: ='3'!C34+'4'!C34+'5'!C34+'6'!C34 -> 100 | D34: ='3'!D34+'4'!D34+'5'!D34+'6'!D34 -> 33 | E34: ='3'!E34+'4'!E34+'5'!E34+'6'!E34 -> 12 | F34: ='3'!F34+'4'!F34+'5'!F34+'6'!F34 -> 25 | G34: ='3'!G34+'4'!G34+'5'!G34+'6'!G34 -> 56 | H34: ='3'!H34+'4'!H34+'5'!H34+'6'!H34 -> 2 | I34: ='3'!I34+'4'!I34+'5'!I34+'6'!I34 -> 5 | J34: ='3'!J34+'4'!J34+'5'!J34+'6'!J34 -> 19 | ... V34: ='3'!V34+'4'!V34+'5'!V34+'6'!V34 -> 0
B35: RÎŞCANI | C35: ='3'!C35+'4'!C35+'5'!C35+'6'!C35 -> 126 | D35: ='3'!D35+'4'!D35+'5'!D35+'6'!D35 -> 55 | E35: ='3'!E35+'4'!E35+'5'!E35+'6'!E35 -> 17 | F35: ='3'!F35+'4'!F35+'5'!F35+'6'!F35 -> 31 | G35: ='3'!G35+'4'!G35+'5'!G35+'6'!G35 -> 65 | H35: ='3'!H35+'4'!H35+'5'!H35+'6'!H35 -> 6 | I35: ='3'!I35+'4'!I35+'5'!I35+'6'!I35 -> 7 | J35: ='3'!J35+'4'!J35+'5'!J35+'6'!J35 -> 26 | ... V35: ='3'!V35+'4'!V35+'5'!V35+'6'!V35 -> 1
B36: SÎNGEREI | C36: ='3'!C36+'4'!C36+'5'!C36+'6'!C36 -> 208 | D36: ='3'!D36+'4'!D36+'5'!D36+'6'!D36 -> 87 | E36: ='3'!E36+'4'!E36+'5'!E36+'6'!E36 -> 12 | F36: ='3'!F36+'4'!F36+'5'!F36+'6'!F36 -> 50 | G36: ='3'!G36+'4'!G36+'5'!G36+'6'!G36 -> 133 | H36: ='3'!H36+'4'!H36+'5'!H36+'6'!H36 -> 6 | I36: ='3'!I36+'4'!I36+'5'!I36+'6'!I36 -> 7 | J36: ='3'!J36+'4'!J36+'5'!J36+'6'!J36 -> 30 | ... V36: ='3'!V36+'4'!V36+'5'!V36+'6'!V36 -> 10
... B38: ŞOLDANEŞTI | C38: ='3'!C38+'4'!C38+'5'!C38+'6'!C38 -> 101 | D38: ='3'!D38+'4'!D38+'5'!D38+'6'!D38 -> 40 | E38: ='3'!E38+'4'!E38+'5'!E38+'6'!E38 -> 10 | F38: ='3'!F38+'4'!F38+'5'!F38+'6'!F38 -> 24 | G38: ='3'!G38+'4'!G38+'5'!G38+'6'!G38 -> 55 | H38: ='3'!H38+'4'!H38+'5'!H38+'6'!H38 -> 4 | I38: ='3'!I38+'4'!I38+'5'!I38+'6'!I38 -> 8 | J38: ='3'!J38+'4'!J38+'5'!J38+'6'!J38 -> 16 | ... V38: ='3'!V38+'4'!V38+'5'!V38+'6'!V38 -> 3
B39: STRĂŞENI | C39: ='3'!C39+'4'!C39+'5'!C39+'6'!C39 -> 231 | D39: ='3'!D39+'4'!D39+'5'!D39+'6'!D39 -> 92 | E39: ='3'!E39+'4'!E39+'5'!E39+'6'!E39 -> 13 | F39: ='3'!F39+'4'!F39+'5'!F39+'6'!F39 -> 51 | G39: ='3'!G39+'4'!G39+'5'!G39+'6'!G39 -> 146 | H39: ='3'!H39+'4'!H39+'5'!H39+'6'!H39 -> 9 | I39: ='3'!I39+'4'!I39+'5'!I39+'6'!I39 -> 12 | J39: ='3'!J39+'4'!J39+'5'!J39+'6'!J39 -> 47 | ... P39: ='3'!P39+'4'!P39+'5'!P39+'6'!P39 -> 1 | R39: ='3'!R39+'4'!R39+'5'!R39+'6'!R39 -> 45 | S39: ='3'!S39+'4'!S39+'5'!S39+'6'!S39 -> 22 | T39: ='3'!T39+'4'!T39+'5'!T39+'6'!T39 -> 12 | U39: ='3'!U39+'4'!U39+'5'!U39+'6'!U39 -> 66 | V39: ='3'!V39+'4'!V39+'5'!V39+'6'!V39 -> 2
B40: ŞTEFAN VODĂ | C40: ='3'!C40+'4'!C40+'5'!C40+'6'!C40 -> 134 | D40: ='3'!D40+'4'!D40+'5'!D40+'6'!D40 -> 48 | E40: ='3'!E40+'4'!E40+'5'!E40+'6'!E40 -> 9 | F40: ='3'!F40+'4'!F40+'5'!F40+'6'!F40 -> 25 | G40: ='3'!G40+'4'!G40+'5'!G40+'6'!G40 -> 92 | H40: ='3'!H40+'4'!H40+'5'!H40+'6'!H40 -> 2 | I40: ='3'!I40+'4'!I40+'5'!I40+'6'!I40 -> 6 | J40: ='3'!J40+'4'!J40+'5'!J40+'6'!J40 -> 25 | ... V40: ='3'!V40+'4'!V40+'5'!V40+'6'!V40 -> 0
B41: TARACLIA | C41: ='3'!C41+'4'!C41+'5'!C41+'6'!C41 -> 83 | D41: ='3'!D41+'4'!D41+'5'!D41+'6'!D41 -> 29 | E41: ='3'!E41+'4'!E41+'5'!E41+'6'!E41 -> 7 | F41: ='3'!F41+'4'!F41+'5'!F41+'6'!F41 -> 26 | G41: ='3'!G41+'4'!G41+'5'!G41+'6'!G41 -> 45 | H41: ='3'!H41+'4'!H41+'5'!H41+'6'!H41 -> 1 | I41: ='3'!I41+'4'!I41+'5'!I41+'6'!I41 -> 4 | J41: ='3'!J41+'4'!J41+'5'!J41+'6'!J41 -> 23 | ... V41: ='3'!V41+'4'!V41+'5'!V41+'6'!V41 -> 2
...

Sheet 3
C1: II. REPARTIZAREA PERSOANELOR CU DIZABILITĂŢI CAZ NOU DUPĂ CATEGORIE DE VÎRSTĂ, GEN, GRADUL DE DIZABILITATE, DUPĂ TIPURI DE AFECTĂRI ALE FUCȚIILOR ȘI UNITĂȚI ADMINISTRATIV-TERITORIALE
C2: РАСПРЕДЕЛЕНИЕ ПЕРВИЧНО ПРИЗНАННЫХ ЛИЦ С ОГРАНИЧЕННЫМИ ВОЗМОЖНОСТЯМИ ПО ВОЗРАСТНЫМ КАТЕГОРИЯМ, ПОЛУ, ТИПУ НАРУШЕНИЯ ФУНКЦИИ И АДМИНИСТРАТИВНО-ТЕРРИТОРИАЛЬНЫМ ЕДИНИЦАМ
C3: b) locuitori urbani городские жители
A4: Nr rînd № строки | B4: Unitatea administrativ-teritorială Административно-территориальная единица | C4: Total persoane cu dizabilităţi Всего лиц с ограни-ченными возмож-ностями | E4: Inclusiv în vîrstă В том числе в возрасте | J4: Din numărul total de persoane cu dizabilităţi s-a determinat grad de dizabilitate Из общего числа лиц с ограниченными возможностями определены степень ограничения возможностeй | M4: Din numărul total de persoane cu dizabilităţi s-au determinat tipurile de afectări ale funcțiilor Из общего числа лиц с ограниченными возможностями определены нарушения функций
C5: Total | D5: Inclusiv de sex feminin В том числе женского пола | E5: 0-2 ani 11 luni 29 zile | F5: 3-6 ani 11 luni 29 zile | G5: 7-15 ani 11 luni 29 zile | H5: 16-17ani 11 luni 29 zile | J5: Grad sever тяжелая степень | K5: Grad accentuat выраженная степень | L5: Grad mediu cредняя степень | M5: Afectări mintale Нарушение умственных функций | N5: Afectări senzoriale de auz Нарушение cенсорных функций слуха | O5: Afectări senzoriale de vedere Нарушение сенсорных функций зрения | P5: Afectări de vorbire Нарушения функций речи | Q5: Afectări senzoriale Нарушения других сенсорных функций | R5: Afectări ale sistemelor cardiovascular, hematologic, imunitar și respirator Нарушение функции сердечно-сосудистой, крови, имунной и дыхательной систем | S5: Afectări ale sistemelor digestiv, metabolic și endocrin Нарушение функции пищеварительной, эндокринной систем и метаболизма | T5: Afectări urogenitale și de reproducere Нарушения урогенитальной и репродуктивной функции | U5: Afectări neuromusculoscheletice și ale mișcărilor aferente Нарушение нейромышечной, скелетной и связанных с движением функций | V5: Afectări ale pielii și structurilor aferente pielii Нарушении функций кожи и связанных с ней структур
H6: fete | I6: băieți
A7: A | B7: B | C7: C | D7: 1 | E7: 2 | F7: 3 | G7: 4 | H7: 5 | I7: 6 | J7: 7 | K7: 8 | L7: 9 | M7: 10 | N7: 11 | O7: 12 | P7: 13 | Q7: 14 | R7: 15 | S7: 16 | T7: 17 | U7: 18 | V7: 19
B8: ANENII NOI | C8: 1 | D8: 1 | E8: 1 | F8: 0 | G8: 0 | H8: 0 | I8: 0 | J8: 1 | U8: 1
B9: BASARABEASCA | C9: 4 | E9: 2 | F9: 1 | G9: 1 | H9: 0 | I9: 0 | J9: 3 | K9: 1 | M9: 2 | O9: 1 | U9: 1
B10: BRICENI | C10: 3 | E10: 1 | F10: 0 | G10: 2 | H10: 0 | I10: 0 | J10: 1 | K10: 1 | L10: 1 | U10: 3
B11: BĂLŢI | C11: 66 | D11: 28 | E11: 17 | F11: 19 | G11: 26 | H11: 2 | I11: 2 | J11: 24 | K11: 32 | L11: 10 | M11: 18 | N11: 2 | O11: 3 | R11: 11 | S11: 11 | T11: 1 | U11: 19 | V11: 1
B12: CAHUL | C12: 16 | D12: 4 | E12: 5 | F12: 5 | G12: 6 | H12: 0 | I12: 0 | J12: 10 | K12: 6 | M12: 6 | N12: 2 | S12: 1 | U12: 7
B13: CĂLĂRAŞI | C13: 2 | D13: 2 | E13: 0 | F13: 0 | G13: 2 | H13: 0 | I13: 0 | L13: 2 | M13: 2
B14: CANTEMIR | C14: 4 | D14: 3 | E14: 0 | F14: 2 | G14: 2 | H14: 0 | I14: 0 | J14: 1 | K14: 3 | M14: 1 | S14: 3
B15: CĂUŞENI | C15: 5 | D15: 2 | E15: 1 | F15: 1 | G15: 2 | H15: 0 | I15: 1 | J15: 1 | K15: 1 | L15: 3 | M15: 2 | T15: 1 | U15: 2
B16: CEADÎR-LUNGA | C16: 12 | D16: 5 | E16: 1 | F16: 6 | G16: 4 | H16: 1 | I16: 0 | J16: 4 | K16: 4 | L16: 4 | M16: 4 | N16: 1 | S16: 3 | T16: 1 | U16: 3
B17: CHIȘINĂU | C17: 263 | D17: 91 | E17: 69 | F17: 104 | G17: 84 | H17: 2 | I17: 4 | J17: 146 | K17: 93 | L17: 24 | M17: 98 | N17: 12 | O17: 3 | R17: 32 | S17: 34 | T17: 11 | U17: 73
B18: CIMIŞLIA | C18: 5 | D18: 2 | E18: 3 | F18: 1 | G18: 1 | H18: 0 | I18: 0 | J18: 3 | K18: 2 | M18: 1 | O18: 1 | S18: 2 | U18: 1
B19: COMRAT | C19: 12 | D19: 4 | E19: 3 | F19: 5 | G19: 4 | H19: 0 | I19: 0 | J19: 9 | K19: 2 | L19: 1 | M19: 7 | R19: 1 | S19: 2 | U19: 2
B20: CRIULENI | C20: 1 | E20: 1 | F20: 0 | G20: 0 | H20: 0 | I20: 0 | J20: 1 | M20: 1
B21: DONDUŞENI | C21: 1 | D21: 1 | E21: 0 | F21: 1 | G21: 0 | H21: 0 | I21: 0 | K21: 1 | V21: 1
B22: DROCHIA | C22: 6 | D22: 2 | E22: 1 | F22: 2 | G22: 3 | H22: 0 | I22: 0 | J22: 1 | K22: 2 | L22: 3 | N22: 1 | R22: 1 | S22: 2 | U22: 2
B23: DUBĂSARI | C23: 1 | E23: 0 | F23: 0 | G23: 1 | H23: 0 | I23: 0 | J23: 1 | M23: 1
B24: EDINEŢ | C24: 9 | D24: 2 | E24: 2 | F24: 2 | G24: 5 | H24: 0 | I24: 0 | J24: 2 | K24: 6 | L24: 1 | R24: 3 | S24: 5 | U24: 1
B25: FĂLEŞTI | C25: 11 | D25: 6 | E25: 1 | F25: 3 | G25: 7 | H25: 0 | I25: 0 | J25: 3 | K25: 2 | L25: 6 | M25: 8 | O25: 1 | T25: 1 | U25: 1
B26: FLOREŞTI | C26: 6 | D26: 1 | E26: 0 | F26: 3 | G26: 3 | H26: 0 | I26: 0 | J26: 3 | K26: 2 | L26: 1 | M26: 3 | R26: 1 | S26: 2
B27: GLODENI | C27: 7 | D27: 4 | E27: 3 | F27: 2 | G27: 1 | H27: 1 | I27: 0 | J27: 2 | K27: 2 | L27: 3 | M27: 2 | O27: 2 | R27: 2 | U27: 1
B28: HÎNCEŞTI | C28: 11 | D28: 3 | E28: 2 | F28: 4 | G28: 5 | H28: 0 | I28: 0 | J28: 3 | K28: 6 | L28: 2 | M28: 3 | O28: 1 | R28: 2 | S28: 4 | V28: 1
B29: IALOVENI | C29: 12 | D29: 5 | E29: 2 | F29: 4 | G29: 5 | H29: 0 | I29: 1 | J29: 3 | K29: 7 | L29: 2 | M29: 5 | S29: 4 | T29: 1 | U29: 2
B30: LEOVA | C30: 8 | D30: 4 | E30: 2 | F30: 2 | G30: 4 | H30: 0 | I30: 0 | J30: 3 | K30: 2 | L30: 3 | M30: 3 | R30: 2 | T30: 1 | U30: 2
B31: NISPORENI | C31: 7 | D31: 3 | E31: 2 | F31: 2 | G31: 3 | H31: 0 | I31: 0 | J31: 3 | K31: 3 | L31: 1 | M31: 3 | U31: 4
B32: OCNIŢA | C32: 10 | D32: 4 | E32: 3 | F32: 4 | G32: 3 | H32: 0 | I32: 0 | J32: 4 | K32: 4 | L32: 2 | M32: 2 | N32: 2 | R32: 2 | S32: 1 | U32: 3
B33: ORHEI | C33: 12 | D33: 5 | E33: 2 | F33: 5 | G33: 5 | H33: 0 | I33: 0 | J33: 3 | K33: 3 | L33: 6 | M33: 2 | N33: 2 | R33: 2 | U33: 5 | V33: 1
B34: REZINA | C34: 6 | D34: 2 | E34: 0 | F34: 2 | G34: 4 | H34: 0 | I34: 0 | J34: 1 | K34: 3 | L34: 2 | M34: 3 | R34: 1 | S34: 1 | U34: 1
B35: RÎŞCANI | C35: 8 | D35: 4 | E35: 2 | F35: 3 | G35: 2 | H35: 1 | I35: 0 | J35: 3 | K35: 3 | L35: 2 | M35: 1 | O35: 2 | R35: 2 | S35: 1 | U35: 2
B36: SÎNGEREI | C36: 7 | D36: 4 | E36: 3 | F36: 1 | G36: 2 | H36: 1 | I36: 0 | J36: 2 | K36: 3 | L36: 2 | M36: 1 | N36: 1 | R36: 2 | S36: 2 | U36: 1
B37: SOROCA | C37: 15 | D37: 4 | E37: 2 | F37: 6 | G37: 6 | H37: 0 | I37: 1 | J37: 7 | K37: 5 | L37: 3 | M37: 7 | O37: 1 | S37: 2 | U37: 5
B38: ŞOLDANEŞTI | C38: 5 | D38: 3 | E38: 3 | F38: 1 | G38: 1 | H38: 0 | I38: 0 | J38: 2 | K38: 1 | L38: 2 | N38: 1 | R38: 1 | U38: 3
B39: STRĂŞENI | C39: 11 | D39: 4 | E39: 0 | F39: 7 | G39: 4 | H39: 0 | I39: 0 | J39: 6 | K39: 5 | M39: 5 | R39: 3 | S39: 1 | U39: 2
B40: ŞTEFAN VODĂ | C40: 3 | D40: 1 | E40: 0 | F40: 2 | G40: 1 | H40: 0 | I40: 0 | J40: 2 | L40: 1 | M40: 1 | R40: 1 | U40: 1
...

Sheet 4
C1: II. REPARTIZAREA PERSOANELOR CU DIZABILITĂŢI CAZ NOU DUPĂ CATEGORIE DE VÎRSTĂ, GEN, GRADUL DE DIZABILITATE, DUPĂ TIPURI DE AFECTĂRI ALE FUCȚIILOR ȘI UNITĂȚI ADMINISTRATIV-TERITORIALE
C2: РАСПРЕДЕЛЕНИЕ ПЕРВИЧНО ПРИЗНАННЫХ ЛИЦ С ОГРАНИЧЕННЫМИ ВОЗМОЖНОСТЯМИ ПО ВОЗРАСТНЫМ КАТЕГОРИЯМ, ПОЛУ, ТИПУ НАРУШЕНИЯ ФУНКЦИИ И АДМИНИСТРАТИВНО-ТЕРРИТОРИАЛЬНЫМ ЕДИНИЦАМ
C3: c) locuitori rurali сельские жители
A4: Nr rînd № строки | B4: Unitatea administrativ-teritorială Административно-территориальная единица | C4: Total persoane cu dizabilităţi Всего лиц с ограни-ченными возмож-ностями | E4: Inclusiv în vîrstă В том числе в возрасте | J4: Din numărul total de persoane cu dizabilităţi s-a determinat grad de dizabilitate Из общего числа лиц с ограниченными возможностями определены степень ограничения возможностeй | M4: Din numărul total de persoane cu dizabilităţi s-au determinat tipurile de afectări ale funcțiilor Из общего числа лиц с ограниченными возможностями определены нарушения функций
C5: Total | D5: Inclusiv de sex feminin В том числе женского пола | E5: 0-2 ani 11 luni 29 zile | F5: 3-6 ani 11 luni 29 zile | G5: 7-15 ani 11 luni 29 zile | H5: 16-17ani 11 luni 29 zile | J5: Grad sever тяжелая степень | K5: Grad accentuat выраженная степень | L5: Grad mediu cредняя степень | M5: Afectări mintale Нарушение умственных функций | N5: Afectări senzoriale de auz Нарушение сенсорных функции слуха | O5: Afectări senzoriale de vedere Нарушение сенсорных функций зрения | P5: Afectări de vorbire Нарушения функций речи | Q5: Afectări senzoriale Нарушения других сенсорных функций | R5: Afectări ale sistemelor cardiovascular, hematologic, imunitar și respirator Нарушение функции сердечно-сосудистой, крови, имунной и дыхательной систем | S5: Afectări ale sistemelor digestiv, metabolic și endocrin Нарушение функции пищеварительной, эндокринной систем и метаболизма | T5: Afectări urogenitale și de reproducere Нарушения урогенитальной и репродуктивной функции | U5: Afectări neuromusculoscheletice și ale mișcărilor aferente Нарушение нейромышечной, скелетной и связанных с движением функций | V5: Afectări ale pielii și structurilor aferente pielii Нарушении функций кожи и связанных с ней структур
H6: fete | I6: băieți
A7: A | B7: B | C7: C | D7: 1 | E7: 2 | F7: 3 | G7: 4 | H7: 5 | I7: 6 | J7: 7 | K7: 8 | L7: 9 | M7: 10 | N7: 11 | O7: 12 | P7: 13 | Q7: 14 | R7: 15 | S7: 16 | T7: 17 | U7: 18 | V7: 19
B8: ANENII NOI | C8: 22 | D8: 8 | E8: 2 | F8: 8 | G8: 10 | H8: 1 | I8: 1 | J8: 8 | K8: 8 | L8: 6 | M8: 8 | N8: 1 | O8: 4 | R8: 2 | S8: 1 | T8: 1 | U8: 5
B9: BASARABEASCA | C9: 3 | D9: 2 | E9: 0 | F9: 0 | G9: 3 | H9: 0 | I9: 0 | J9: 1 | K9: 2 | M9: 2 | U9: 1
B10: BRICENI | C10: 17 | D10: 8 | E10: 2 | F10: 3 | G10: 10 | H10: 0 | I10: 2 | J10: 3 | K10: 9 | L10: 5 | M10: 1 | O10: 2 | R10: 3 | S10: 3 | U10: 6 | V10: 2
B11: BĂLŢI | C11: 5 | D11: 1 | E11: 1 | F11: 1 | G11: 2 | H11: 1 | I11: 0 | J11: 1 | K11: 1 | L11: 3 | R11: 3 | T11: 1 | U11: 1
B12: CAHUL | C12: 35 | D12: 14 | E12: 7 | F12: 13 | G12: 15 | H12: 0 | I12: 0 | J12: 10 | K12: 12 | L12: 13 | M12: 10 | O12: 2 | R12: 4 | S12: 3 | T12: 3 | U12: 13
B13: CĂLĂRAŞI | C13: 31 | D13: 9 | E13: 8 | F13: 9 | G13: 13 | H13: 0 | I13: 1 | J13: 10 | K13: 13 | L13: 8 | M13: 13 | N13: 1 | R13: 6 | S13: 2 | U13: 9
B14: CANTEMIR | C14: 17 | D14: 7 | E14: 6 | F14: 5 | G14: 4 | H14: 0 | I14: 2 | J14: 3 | K14: 5 | L14: 9 | M14: 3 | R14: 5 | S14: 2 | U14: 7
B15: CĂUŞENI | C15: 24 | D15: 10 | E15: 5 | F15: 7 | G15: 10 | H15: 1 | I15: 1 | J15: 8 | K15: 10 | L15: 6 | M15: 10 | N15: 1 | R15: 5 | S15: 2 | U15: 5 | V15: 1
B16: CEADÎR-LUNGA | C16: 19 | D16: 5 | E16: 5 | F16: 5 | G16: 9 | H16: 0 | I16: 0 | J16: 10 | K16: 5 | L16: 4 | M16: 6 | N16: 1 | O16: 1 | R16: 4 | S16: 1 | T16: 1 | U16: 5
B17: CHIȘINĂU | C17: 49 | D17: 14 | E17: 8 | F17: 22 | G17: 17 | H17: 2 | I17: 0 | J17: 21 | K17: 18 | L17: 10 | M17: 16 | N17: 2 | O17: 5 | R17: 5 | S17: 3 | T17: 2 | U17: 15 | V17: 1
B18: CIMIŞLIA | C18: 12 | D18: 5 | E18: 4 | F18: 4 | G18: 2 | H18: 0 | I18: 2 | J18: 5 | K18: 3 | L18: 4 | M18: 4 | O18: 1 | R18: 3 | U18: 4
B19: COMRAT | C19: 27 | D19: 11 | E19: 5 | F19: 12 | G19: 10 | H19: 0 | I19: 0 | J19: 12 | K19: 11 | L19: 4 | M19: 3 | O19: 2 | R19: 8 | S19: 6 | U19: 8
B20: CRIULENI | C20: 27 | D20: 15 | E20: 8 | F20: 5 | G20: 13 | H20: 0 | I20: 1 | J20: 12 | K20: 9 | L20: 6 | M20: 5 | O20: 2 | R20: 3 | S20: 4 | U20: 12 | V20: 1
B21: DONDUŞENI | C21: 21 | D21: 14 | E21: 5 | F21: 8 | G21: 5 | H21: 2 | I21: 1 | J21: 7 | K21: 8 | L21: 6 | M21: 5 | O21: 1 | R21: 4 | S21: 1 | T21: 1 | U21: 9
B22: DROCHIA | C22: 24 | D22: 12 | E22: 6 | F22: 11 | G22: 7 | H22: 0 | I22: 0 | J22: 8 | K22: 11 | L22: 5 | M22: 8 | N22: 1 | R22: 7 | S22: 2 | U22: 6
B23: DUBĂSARI | C23: 13 | D23: 5 | E23: 2 | F23: 5 | G23: 6 | H23: 0 | I23: 0 | J23: 3 | K23: 4 | L23: 6 | M23: 2 | O23: 1 | R23: 1 | S23: 2 | T23: 2 | U23: 5
B24: EDINEŢ | C24: 18 | D24: 4 | E24: 4 | F24: 5 | G24: 9 | H24: 0 | I24: 0 | J24: 5 | K24: 6 | L24: 7 | M24: 4 | O24: 1 | R24: 4 | S24: 2 | T24: 1 | U24: 6
B25: FĂLEŞTI | C25: 21 | D25: 10 | E25: 6 | F25: 6 | G25: 8 | H25: 0 | I25: 1 | J25: 5 | K25: 9 | L25: 7 | M25: 4 | O25: 1 | R25: 4 | S25: 3 | T25: 2 | U25: 6 | V25: 1
B26: FLOREŞTI | C26: 26 | D26: 14 | E26: 3 | F26: 7 | G26: 14 | H26: 1 | I26: 1 | J26: 6 | K26: 15 | L26: 5 | M26: 5 | O26: 2 | R26: 2 | S26: 4 | T26: 1 | U26: 12
B27: GLODENI | C27: 21 | D27: 5 | E27: 2 | F27: 9 | G27: 10 | H27: 0 | I27: 0 | J27: 3 | K27: 10 | L27: 8 | M27: 7 | O27: 3 | R27: 1 | S27: 2 | T27: 2 | U27: 6
B28: HÎNCEŞTI | C28: 38 | D28: 17 | E28: 12 | F28: 9 | G28: 16 | H28: 1 | I28: 0 | J28: 18 | K28: 12 | L28: 8 | M28: 13 | O28: 1 | R28: 10 | S28: 2 | U28: 12
B29: IALOVENI | C29: 45 | D29: 11 | E29: 11 | F29: 14 | G29: 17 | H29: 2 | I29: 1 | J29: 16 | K29: 21 | L29: 8 | M29: 18 | N29: 8 | R29: 2 | S29: 5 | U29: 12
B30: LEOVA | C30: 14 | D30: 3 | E30: 4 | F30: 3 | G30: 6 | H30: 1 | I30: 0 | J30: 4 | K30: 5 | L30: 5 | M30: 8 | R30: 2 | U30: 4
B31: NISPORENI | C31: 21 | D31: 11 | E31: 6 | F31: 6 | G31: 8 | H31: 0 | I31: 1 | J31: 7 | K31: 9 | L31: 5 | M31: 9 | N31: 2 | R31: 4 | S31: 2 | U31: 4
B32: OCNIŢA | C32: 17 | D32: 8 | E32: 4 | F32: 4 | G32: 8 | H32: 0 | I32: 1 | J32: 4 | K32: 11 | L32: 2 | M32: 4 | N32: 1 | O32: 4 | R32: 3 | S32: 1 | U32: 3 | V32: 1
B33: ORHEI | C33: 37 | D33: 16 | E33: 10 | F33: 7 | G33: 17 | H33: 1 | I33: 2 | J33: 14 | K33: 11 | L33: 12 | M33: 16 | N33: 2 | O33: 1 | R33: 6 | S33: 1 | T33: 1 | U33: 10
B34: REZINA | C34: 18 | D34: 6 | E34: 6 | F34: 6 | G34: 6 | H34: 0 | I34: 0 | J34: 6 | K34: 10 | L34: 2 | M34: 3 | N34: 1 | O34: 1 | R34: 2 | U34: 11
B35: RÎŞCANI | C35: 24 | D35: 13 | E35: 8 | F35: 6 | G35: 9 | H35: 1 | I35: 0 | J35: 9 | K35: 6 | L35: 9 | M35: 5 | O35: 1 | R35: 6 | S35: 3 | U35: 9
B36: SÎNGEREI | C36: 43 | D36: 19 | E36: 4 | F36: 10 | G36: 24 | H36: 2 | I36: 3 | J36: 9 | K36: 15 | L36: 19 | M36: 7 | N36: 1 | O36: 1 | R36: 7 | S36: 7 | T36: 3 | U36: 17
B37: SOROCA | C37: 25 | D37: 9 | E37: 4 | F37: 8 | G37: 13 | H37: 0 | I37: 0 | J37: 8 | K37: 9 | L37: 8 | M37: 8 | O37: 1 | R37: 1 | S37: 1 | T37: 1 | U37: 13
B38: ŞOLDANEŞTI | C38: 20 | D38: 9 | E38: 7 | F38: 5 | G38: 7 | H38: 0 | I38: 1 | J38: 5 | K38: 6 | L38: 9 | M38: 3 | O38: 3 | R38: 2 | T38: 2 | U38: 10
B39: STRĂŞENI | C39: 36 | D39: 17 | E39: 7 | F39: 10 | G39: 15 | H39: 1 | I39: 3 | J39: 13 | K39: 13 | L39: 10 | M39: 12 | O39: 3 | R39: 6 | S39: 4 | T39: 1 | U39: 10
B40: ŞTEFAN VODĂ | C40: 25 | D40: 11 | E40: 6 | F40: 6 | G40: 11 | H40: 1 | I40: 1 | J40: 5 | K40: 12 | L40: 8 | M40: 5 | N40: 1 | R40: 6 | S40: 2 | U40: 11
...

Sheet 5
C1: IV. REPARTIZAREA PERSOANELOR CU DIZABILITĂŢI REEXPERTIZATE DUPĂ CATEGORIE DE VÎRSTĂ, GEN, GRADUL DE DIZABILITATE, DUPĂ TIPURI DE AFECTĂRI ALE FUNCȚIILOR ȘI UNITĂȚI ADMINISTRATIV-TERITORIALE
C2: РАСПРЕДЕЛЕНИЕ ВТОРИЧНО ПРИЗНАННЫХ ЛИЦ С ОГРАНИЧЕННЫМИ ВОЗМОЖНОСТЯМИ ПО ВОЗРАСТНЫМ КАТЕГОРИЯМ, ПОЛУ, ТИПУ НАРУШЕНИЯ ФУНКЦИИ И АДМИНИСТРАТИВНО-ТЕРРИТОРИАЛЬНЫМ ЕДИНИЦАМ
C3: b) locuitori urbani городские жители
A4: Nr rînd № строки | B4: Unitatea administrativ-teritorială Административно-территориальная единица | C4: Total persoane cu dizabilităţi Всего лиц с ограни-ченными возмож-ностями | E4: Inclusiv în vîrstă В том числе в возрасте | J4: Din numărul total de persoane cu dizabilităţi s-a determinat grad de dizabilitate Из общего числа лиц с ограниченными возможностями определены степень ограничения возможностeй | M4: Din numărul total de persoane cu dizabilităţi s-au determinat tipurile de afectări ale funcțiilor Из общего числа лиц с ограниченными возможностями определены нарушения функций
C5: Total | D5: Inclusiv de sex feminin В том числе женского пола | E5: 0-2 ani 11 luni 29 zile | F5: 3-6 ani 11 luni 29 zile | G5: 7-15 ani 11 luni 29 zile | H5: 16-17ani 11 luni 29 zile | J5: Grad sever тяжелая степень | K5: Grad accentuat выраженная степень | L5: Grad mediu cредняя степень | M5: Afectări mintale Нарушение умственных функций | N5: Afectări senzoriale de auz Нарушение сенсорных функции слуха | O5: Afectări senzoriale de vedere Нарушение сенсорных функций зрения | P5: Afectări de vorbire Нарушения функций речи | Q5: Afectări senzoriale Нарушения других сенсорных функций | R5: Afectări ale sistemelor cardiovascular, hematologic, imunitar și respirator Нарушение функции сердечно-сосудистой, крови, имунной и дыхательной систем | S5: Afectări ale sistemelor digestiv, metabolic și endocrin Нарушение функции пищеварительной, эндокринной систем и метаболизма | T5: Afectări urogenitale și de reproducere Нарушения урогенитальной и репродуктивной функции | U5: Afectări neuromusculoscheletice și ale mișcărilor aferente Нарушение нейромышечной, скелетной и связанных с движением функций | V5: Afectări ale pielii și structurilor aferente pielii Нарушении функций кожи и связанных с ней структур
H6: fete | I6: băieți
A7: A | B7: B | C7: C | D7: 1 | E7: 2 | F7: 3 | G7: 4 | H7: 5 | I7: 6 | J7: 7 | K7: 8 | L7: 9 | M7: 10 | N7: 11 | O7: 12 | P7: 13 | Q7: 14 | R7: 15 | S7: 16 | T7: 17 | U7: 18 | V7: 19
B8: ANENII NOI | C8: 16 | D8: 7 | E8: 0 | F8: 5 | G8: 10 | H8: 1 | I8: 0 | J8: 6 | K8: 8 | L8: 2 | M8: 2 | N8: 2 | O8: 3 | R8: 1 | S8: 5 | U8: 3
B9: BASARABEASCA | C9: 24 | D9: 8 | E9: 1 | F9: 3 | G9: 17 | H9: 2 | I9: 1 | J9: 4 | K9: 14 | L9: 6 | M9: 7 | O9: 4 | R9: 2 | S9: 4 | U9: 7
B10: BRICENI | C10: 27 | D10: 7 | E10: 2 | F10: 2 | G10: 21 | H10: 0 | I10: 2 | J10: 8 | K10: 13 | L10: 6 | M10: 8 | O10: 2 | P10: 1 | R10: 3 | S10: 3 | U10: 10
B11: BĂLŢI | C11: 174 | D11: 79 | E11: 10 | F11: 39 | G11: 110 | H11: 10 | I11: 5 | J11: 41 | K11: 72 | L11: 61 | M11: 32 | N11: 5 | O11: 6 | R11: 35 | S11: 28 | T11: 12 | U11: 53 | V11: 3
B12: CAHUL | C12: 38 | D12: 14 | E12: 2 | F12: 8 | G12: 23 | H12: 1 | I12: 4 | J12: 3 | K12: 20 | L12: 15 | M12: 9 | N12: 2 | O12: 3 | R12: 7 | S12: 6 | U12: 10 | V12: 1
B13: CĂLĂRAŞI | C13: 21 | D13: 9 | E13: 0 | F13: 3 | G13: 12 | H13: 4 | I13: 2 | J13: 2 | K13: 7 | L13: 12 | M13: 3 | R13: 5 | S13: 3 | U13: 9 | V13: 1
B14: CANTEMIR | C14: 8 | D14: 2 | E14: 0 | F14: 1 | G14: 7 | H14: 0 | I14: 0 | J14: 1 | K14: 3 | L14: 4 | M14: 2 | S14: 1 | T14: 1 | U14: 4
B15: CĂUŞENI | C15: 20 | D15: 7 | E15: 1 | F15: 4 | G15: 14 | H15: 1 | I15: 0 | J15: 5 | K15: 9 | L15: 6 | M15: 5 | R15: 4 | S15: 2 | T15: 4 | U15: 5
B16: CEADÎR-LUNGA | C16: 47 | D16: 16 | E16: 1 | F16: 10 | G16: 33 | H16: 1 | I16: 2 | J16: 12 | K16: 14 | L16: 21 | M16: 8 | O16: 2 | R16: 13 | S16: 9 | T16: 3 | U16: 12
B17: CHIȘINĂU | C17: 708 | D17: 237 | E17: 37 | F17: 194 | G17: 428 | H17: 19 | I17: 30 | J17: 218 | K17: 315 | L17: 175 | M17: 143 | N17: 24 | O17: 34 | P17: 1 | R17: 105 | S17: 132 | T17: 55 | U17: 213 | V17: 1
B18: CIMIŞLIA | C18: 10 | E18: 0 | F18: 2 | G18: 7 | H18: 0 | I18: 1 | J18: 3 | K18: 3 | L18: 4 | M18: 2 | S18: 2 | U18: 5 | V18: 1
B19: COMRAT | C19: 54 | D19: 23 | E19: 1 | F19: 9 | G19: 41 | H19: 1 | I19: 2 | J19: 16 | K19: 19 | L19: 19 | M19: 12 | N19: 2 | O19: 5 | R19: 11 | S19: 5 | T19: 1 | U19: 17 | V19: 1
B20: CRIULENI | C20: 12 | D20: 4 | E20: 0 | F20: 3 | G20: 7 | H20: 0 | I20: 2 | J20: 2 | K20: 5 | L20: 5 | M20: 2 | N20: 1 | O20: 1 | R20: 2 | U20: 6
B21: DONDUŞENI | C21: 16 | D21: 8 | E21: 0 | F21: 5 | G21: 11 | H21: 0 | I21: 0 | J21: 2 | K21: 10 | L21: 4 | M21: 3 | N21: 1 | R21: 4 | S21: 4 | U21: 4
B22: DROCHIA | C22: 35 | D22: 16 | E22: 2 | F22: 8 | G22: 19 | H22: 5 | I22: 1 | J22: 4 | K22: 12 | L22: 19 | M22: 8 | O22: 3 | R22: 5 | S22: 7 | T22: 2 | U22: 10
B23: DUBĂSARI | C23: 2 | E23: 0 | F23: 1 | G23: 1 | H23: 0 | I23: 0 | J23: 1 | K23: 1 | R23: 1 | S23: 1
B24: EDINEŢ | C24: 30 | D24: 7 | E24: 1 | F24: 8 | G24: 21 | H24: 0 | I24: 0 | J24: 10 | K24: 14 | L24: 6 | M24: 4 | N24: 2 | O24: 1 | P24: 1 | R24: 6 | S24: 7 | T24: 2 | U24: 7
B25: FĂLEŞTI | C25: 25 | D25: 10 | E25: 1 | F25: 6 | G25: 14 | H25: 1 | I25: 3 | J25: 2 | K25: 8 | L25: 15 | M25: 2 | O25: 3 | R25: 9 | S25: 1 | U25: 9 | V25: 1
B26: FLOREŞTI | C26: 41 | D26: 16 | E26: 2 | F26: 10 | G26: 25 | H26: 0 | I26: 4 | J26: 4 | K26: 21 | L26: 16 | M26: 5 | O26: 1 | R26: 7 | S26: 7 | T26: 4 | U26: 17
B27: GLODENI | C27: 23 | D27: 10 | E27: 0 | F27: 3 | G27: 19 | H27: 0 | I27: 1 | J27: 3 | K27: 13 | L27: 7 | M27: 5 | O27: 2 | R27: 3 | S27: 4 | T27: 2 | U27: 7
B28: HÎNCEŞTI | C28: 27 | D28: 11 | E28: 1 | F28: 7 | G28: 15 | H28: 3 | I28: 1 | J28: 4 | K28: 12 | L28: 11 | M28: 7 | O28: 1 | R28: 4 | S28: 3 | T28: 2 | U28: 9 | V28: 1
B29: IALOVENI | C29: 32 | D29: 16 | E29: 0 | F29: 7 | G29: 23 | H29: 1 | I29: 1 | J29: 6 | K29: 19 | L29: 7 | M29: 10 | O29: 1 | R29: 3 | S29: 5 | T29: 4 | U29: 8 | V29: 1
B30: LEOVA | C30: 19 | D30: 10 | E30: 2 | F30: 5 | G30: 10 | H30: 0 | I30: 2 | J30: 4 | K30: 9 | L30: 6 | M30: 2 | R30: 5 | S30: 2 | T30: 3 | U30: 7
B31: NISPORENI | C31: 16 | D31: 9 | E31: 0 | F31: 2 | G31: 14 | H31: 0 | I31: 0 | J31: 6 | K31: 6 | L31: 4 | M31: 5 | O31: 2 | R31: 3 | S31: 3 | U31: 3
B32: OCNIŢA | C32: 23 | D32: 13 | E32: 1 | F32: 5 | G32: 15 | H32: 1 | I32: 1 | J32: 5 | K32: 10 | L32: 8 | M32: 3 | N32: 1 | O32: 7 | S32: 3 | T32: 1 | U32: 7 | V32: 1
B33: ORHEI | C33: 54 | D33: 18 | E33: 0 | F33: 13 | G33: 41 | H33: 0 | I33: 0 | J33: 12 | K33: 33 | L33: 9 | M33: 15 | N33: 2 | O33: 4 | R33: 9 | S33: 6 | T33: 2 | U33: 14 | V33: 2
B34: REZINA | C34: 18 | D34: 2 | E34: 1 | F34: 4 | G34: 13 | H34: 0 | I34: 0 | J34: 4 | K34: 5 | L34: 9 | M34: 1 | R34: 8 | S34: 3 | T34: 1 | U34: 5
B35: RÎŞCANI | C35: 20 | D35: 8 | E35: 1 | F35: 5 | G35: 12 | H35: 0 | I35: 2 | J35: 3 | K35: 8 | L35: 9 | M35: 3 | N35: 1 | O35: 1 | R35: 3 | S35: 4 | U35: 8
B36: SÎNGEREI | C36: 27 | D36: 12 | E36: 2 | F36: 4 | G36: 18 | H36: 2 | I36: 1 | J36: 7 | K36: 7 | L36: 13 | M36: 5 | N36: 1 | O36: 1 | R36: 5 | S36: 4 | U36: 10 | V36: 1
B37: SOROCA | C37: 58 | D37: 27 | E37: 1 | F37: 12 | G37: 41 | H37: 1 | I37: 3 | J37: 13 | K37: 17 | L37: 28 | M37: 1 | N37: 2 | O37: 2 | R37: 17 | S37: 9 | T37: 6 | U37: 19 | V37: 2
B38: ŞOLDANEŞTI | C38: 17 | D38: 3 | E38: 0 | F38: 3 | G38: 11 | H38: 1 | I38: 2 | J38: 1 | K38: 8 | L38: 8 | M38: 2 | N38: 2 | R38: 4 | S38: 2 | T38: 3 | U38: 4
B39: STRĂŞENI | C39: 36 | D39: 13 | E39: 3 | F39: 6 | G39: 25 | H39: 0 | I39: 2 | J39: 5 | K39: 14 | L39: 17 | M39: 4 | N39: 2 | O39: 1 | R39: 11 | S39: 5 | T39: 2 | U39: 11
B40: ŞTEFAN VODĂ | C40: 15 | D40: 4 | E40: 1 | F40: 1 | G40: 12 | H40: 0 | I40: 1 | J40: 3 | K40: 7 | L40: 5 | M40: 5 | N40: 1 | O40: 1 | S40: 1 | T40: 1 | U40: 6
...

Sheet 6
C1: V. REPARTIZAREA PERSOANELOR CU DIZABILITĂŢI REEXPERTIZATE DUPĂ CATEGORIE DE VÎRSTĂ, GEN, GRADUL DE DIZABILITATE, DUPĂ TIPURI DE AFECTĂRI ALE FUNCȚIILOR ȘI UNITĂȚI ADMINISTRATIV-TERITORIALE
C2: РАСПРЕДЕЛЕНИЕ ÂТÎРИЧНÎ ПРИЗНАННЫХ ЛИЦ С ÎĂРАНИЧЕННЫМИ ÂÎЗМÎЖНÎСТЯМИ ПÎ ÂÎЗРАСТНЫМ КАТЕĂÎРИЯМ, ПÎЛУ, ТИПУ НАРУШЕНИЯ ФУНКЦИИ И АДМИНИСТРАТИÂНÎ-ТЕРРИТÎРИАЛЬНЫМ ЕДИНИЦАМ
C3: c) locuitori rurali сельские жители
A4: Nr rînd № стрîки | B4: Unitatea administrativ-teritorială Администратиâнî-территîриальная единица | C4: Total persoane cu dizabilităţi Âсеăî лиц с îăрани-ченными âîзмîж-нîстями | E4: Inclusiv în vîrstă Â тîм числе â âîзрасте | J4: Din numărul total de persoane cu dizabilităţi s-a determinat grad de dizabilitate Из îбщеăî числа лиц с îăраниченными âîзмîжнîстями îпределены степень îăраничения âîзмîжнîстeй | M4: Din numărul total de persoane cu dizabilităţi s-au determinat tipurile de afectări ale funcțiilor Из îбщеăî числа лиц с îăраниченными âîзмîжнîстями îпределены нарушения функций
C5: Total | D5: Inclusiv de sex feminin Â тîм числе женскîăî пîла | E5: 0-2 ani 11 luni 29 zile | F5: 3-6 ani 11 luni 29 zile | G5: 7-15 ani 11 luni 29 zile | H5: 16-17ani 11 luni 29 zile | J5: Grad sever тяжелая степень | K5: Grad accentuat âыраженная степень | L5: Grad mediu cредняя степень | M5: Afectări mintale Нарушение умстâенных функций | N5: Afectări senzoriale de auz Нарушение сенсîрных функции слуха | O5: Afectări senzoriale de vedere Нарушение сенсîрных функций зрения | P5: Afectări de vorbire Нарушения функций речи | Q5: Afectări senzoriale Нарушения друăих сенсîрных функций | R5: Afectări ale sistemelor cardiovascular, hematologic, imunitar și respirator Нарушение функции сердечнî-сîсудистîй, крîâи, имуннîй и дыхательнîй систем | S5: Afectări ale sistemelor digestiv, metabolic și endocrin Нарушение функции пищеâарительнîй, эндîкриннîй систем и метабîлизма | T5: Afectări urogenitale și de reproducere Нарушения урîăенитальнîй и репрîдуктиâнîй функции | U5: Afectări neuromusculoscheletice și ale mișcărilor aferente Нарушение нейрîмышечнîй, скелетнîй и сâязанных с дâижением функций | V5: Afectări ale pielii și structurilor aferente pielii Нарушении функций кîжи и сâязанных с ней структур
H6: fete | I6: băieți
A7: A | B7: B | C7: C | D7: 1 | E7: 2 | F7: 3 | G7: 4 | H7: 5 | I7: 6 | J7: 7 | K7: 8 | L7: 9 | M7: 10 | N7: 11 | O7: 12 | P7: 13 | Q7: 14 | R7: 15 | S7: 16 | T7: 17 | U7: 18 | V7: 19
B8: ANENII NOI | C8: 94 | D8: 42 | E8: 2 | F8: 19 | G8: 64 | H8: 2 | I8: 7 | J8: 14 | K8: 40 | L8: 40 | M8: 34 | N8: 4 | R8: 12 | S8: 9 | T8: 8 | U8: 25 | V8: 2
B9: BASARABEASCA | C9: 23 | D9: 12 | E9: 1 | F9: 4 | G9: 16 | H9: 0 | I9: 2 | J9: 3 | K9: 12 | L9: 8 | M9: 10 | O9: 1 | R9: 5 | T9: 1 | U9: 6
B10: BRICENI | C10: 68 | D10: 23 | E10: 3 | F10: 13 | G10: 45 | H10: 3 | I10: 4 | J10: 12 | K10: 31 | L10: 25 | M10: 16 | N10: 1 | O10: 6 | R10: 9 | S10: 10 | T10: 2 | U10: 23 | V10: 1
B11: BĂLŢI | C11: 6 | D11: 1 | E11: 1 | F11: 2 | G11: 3 | H11: 0 | I11: 0 | J11: 2 | K11: 4 | M11: 1 | S11: 4 | U11: 1
B12: CAHUL | C12: 137 | D12: 63 | E12: 5 | F12: 26 | G12: 86 | H12: 11 | I12: 9 | J12: 19 | K12: 72 | L12: 46 | M12: 28 | N12: 7 | O12: 7 | R12: 17 | S12: 10 | T12: 8 | U12: 55 | V12: 5
B13: CĂLĂRAŞI | C13: 71 | D13: 34 | E13: 2 | F13: 10 | G13: 53 | H13: 5 | I13: 1 | J13: 11 | K13: 30 | L13: 30 | M13: 20 | N13: 3 | O13: 1 | R13: 12 | S13: 4 | T13: 3 | U13: 26 | V13: 2
B14: CANTEMIR | C14: 75 | D14: 36 | E14: 1 | F14: 13 | G14: 55 | H14: 4 | I14: 2 | J14: 16 | K14: 33 | L14: 26 | M14: 12 | N14: 3 | O14: 8 | R14: 13 | S14: 6 | T14: 1 | U14: 30 | V14: 2
B15: CĂUŞENI | C15: 89 | D15: 35 | E15: 4 | F15: 15 | G15: 62 | H15: 3 | I15: 5 | J15: 14 | K15: 42 | L15: 33 | M15: 24 | N15: 1 | O15: 4 | R15: 11 | S15: 12 | U15: 36 | V15: 1
B16: CEADÎR-LUNGA | C16: 102 | D16: 36 | E16: 3 | F16: 33 | G16: 59 | H16: 3 | I16: 4 | J16: 10 | K16: 42 | L16: 50 | M16: 16 | N16: 1 | O16: 5 | R16: 24 | S16: 12 | T16: 9 | U16: 34 | V16: 1
B17: CHIŞINĂU | C17: 85 | D17: 28 | E17: 7 | F17: 23 | G17: 46 | H17: 3 | I17: 6 | J17: 20 | K17: 42 | L17: 23 | M17: 16 | N17: 3 | O17: 4 | R17: 9 | S17: 14 | T17: 9 | U17: 29 | V17: 1
B18: CIMIŞLIA | C18: 39 | D18: 15 | E18: 2 | F18: 8 | G18: 27 | H18: 0 | I18: 2 | J18: 9 | K18: 16 | L18: 14 | M18: 5 | N18: 3 | R18: 10 | S18: 4 | T18: 5 | U18: 12
B19: COMRAT | C19: 88 | D19: 33 | E19: 6 | F19: 21 | G19: 58 | H19: 1 | I19: 2 | J19: 22 | K19: 40 | L19: 26 | M19: 26 | N19: 1 | O19: 4 | R19: 11 | S19: 8 | T19: 5 | U19: 31 | V19: 2
B20: CRIULENI | C20: 103 | D20: 39 | E20: 6 | F20: 20 | G20: 64 | H20: 5 | I20: 8 | J20: 24 | K20: 40 | L20: 39 | M20: 19 | N20: 3 | O20: 5 | R20: 15 | S20: 8 | T20: 8 | U20: 44 | V20: 1
B21: DONDUŞENI | C21: 35 | D21: 15 | E21: 3 | F21: 3 | G21: 28 | H21: 0 | I21: 1 | J21: 6 | K21: 13 | L21: 16 | M21: 10 | N21: 1 | O21: 3 | R21: 4 | S21: 3 | T21: 1 | U21: 12 | V21: 1
B22: DROCHIA | C22: 92 | D22: 40 | E22: 4 | F22: 16 | G22: 60 | H22: 6 | I22: 6 | J22: 8 | K22: 47 | L22: 37 | M22: 10 | N22: 5 | O22: 12 | R22: 17 | S22: 13 | T22: 5 | U22: 28 | V22: 2
B23: DUBĂSARI | C23: 45 | D23: 15 | E23: 2 | F23: 13 | G23: 28 | H23: 1 | I23: 1 | J23: 7 | K23: 18 | L23: 20 | M23: 9 | O23: 2 | R23: 12 | S23: 6 | T23: 3 | U23: 11 | V23: 2
B24: EDINEŢ | C24: 73 | D24: 22 | E24: 5 | F24: 7 | G24: 56 | H24: 4 | I24: 1 | J24: 14 | K24: 32 | L24: 27 | M24: 14 | N24: 1 | O24: 4 | R24: 14 | S24: 9 | T24: 5 | U24: 24 | V24: 2
B25: FĂLEŞTI | C25: 110 | D25: 43 | E25: 7 | F25: 16 | G25: 79 | H25: 5 | I25: 3 | J25: 22 | K25: 43 | L25: 45 | M25: 21 | N25: 4 | O25: 3 | R25: 24 | S25: 14 | T25: 7 | U25: 33 | V25: 4
B26: FLOREŞTI | C26: 108 | D26: 38 | E26: 2 | F26: 23 | G26: 78 | H26: 3 | I26: 2 | J26: 12 | K26: 48 | L26: 48 | M26: 14 | N26: 1 | O26: 2 | R26: 16 | S26: 11 | T26: 12 | U26: 49 | V26: 3
B27: GLODENI | C27: 73 | D27: 24 | E27: 3 | F27: 15 | G27: 50 | H27: 1 | I27: 4 | J27: 9 | K27: 31 | L27: 33 | M27: 20 | N27: 2 | O27: 6 | R27: 18 | S27: 6 | T27: 4 | U27: 15 | V27: 2
B28: HÎNCEŞTI | C28: 138 | D28: 41 | E28: 7 | F28: 32 | G28: 89 | H28: 3 | I28: 7 | J28: 18 | K28: 66 | L28: 54 | M28: 37 | N28: 4 | O28: 3 | R28: 24 | S28: 9 | T28: 7 | U28: 49 | V28: 5
B29: IALOVENI | C29: 134 | D29: 54 | E29: 5 | F29: 27 | G29: 92 | H29: 5 | I29: 5 | J29: 26 | K29: 79 | L29: 29 | M29: 40 | N29: 3 | O29: 8 | R29: 20 | S29: 15 | T29: 10 | U29: 37 | V29: 1
B30: LEOVA | C30: 63 | D30: 25 | E30: 2 | F30: 17 | G30: 35 | H30: 2 | I30: 7 | J30: 5 | K30: 35 | L30: 23 | M30: 18 | N30: 3 | O30: 5 | R30: 5 | S30: 7 | T30: 3 | U30: 21 | V30: 1
B31: NISPORENI | C31: 69 | D31: 28 | E31: 2 | F31: 13 | G31: 51 | H31: 0 | I31: 3 | J31: 17 | K31: 32 | L31: 20 | M31: 17 | N31: 1 | O31: 4 | R31: 8 | S31: 11 | T31: 3 | U31: 25
B32: OCNIŢA | C32: 65 | D32: 31 | E32: 3 | F32: 6 | G32: 50 | H32: 2 | I32: 4 | J32: 13 | K32: 25 | L32: 27 | M32: 18 | N32: 2 | O32: 3 | R32: 16 | S32: 5 | T32: 6 | U32: 14 | V32: 1
B33: ORHEI | C33: 151 | D33: 50 | E33: 2 | F33: 19 | G33: 120 | H33: 4 | I33: 6 | J33: 18 | K33: 73 | L33: 60 | M33: 59 | N33: 6 | O33: 3 | R33: 21 | S33: 10 | T33: 12 | U33: 37 | V33: 3
B34: REZINA | C34: 58 | D34: 23 | E34: 5 | F34: 13 | G34: 33 | H34: 2 | I34: 5 | J34: 8 | K34: 29 | L34: 21 | M34: 18 | N34: 1 | R34: 12 | S34: 8 | T34: 1 | U34: 18
B35: RÎŞCANI | C35: 74 | D35: 30 | E35: 6 | F35: 17 | G35: 42 | H35: 4 | I35: 5 | J35: 11 | K35: 34 | L35: 29 | M35: 11 | N35: 4 | O35: 3 | R35: 13 | S35: 8 | T35: 3 | U35: 31 | V35: 1
B36: SÎNGEREI | C36: 131 | D36: 52 | E36: 3 | F36: 35 | G36: 89 | H36: 1 | I36: 3 | J36: 12 | K36: 58 | L36: 61 | M36: 20 | N36: 4 | O36: 3 | R36: 29 | S36: 14 | T36: 5 | U36: 47 | V36: 9
B37: SOROCA | C37: 96 | D37: 37 | E37: 5 | F37: 17 | G37: 68 | H37: 1 | I37: 5 | J37: 16 | K37: 35 | L37: 45 | M37: 26 | N37: 4 | O37: 6 | R37: 17 | S37: 8 | T37: 2 | U37: 28 | V37: 5
B38: ŞOLDĂNEŞTI | C38: 59 | D38: 25 | E38: 0 | F38: 15 | G38: 36 | H38: 3 | I38: 5 | J38: 8 | K38: 19 | L38: 32 | M38: 10 | O38: 4 | R38: 12 | S38: 10 | T38: 4 | U38: 16 | V38: 3
B39: STRĂŞENI | C39: 148 | D39: 58 | E39: 3 | F39: 28 | G39: 102 | H39: 8 | I39: 7 | J39: 23 | K39: 75 | L39: 50 | M39: 48 | N39: 1 | O39: 7 | P39: 1 | R39: 25 | S39: 12 | T39: 9 | U39: 43 | V39: 2
B40: ŞTEFAN VODĂ | C40: 91 | D40: 32 | E40: 2 | F40: 16 | G40: 68 | H40: 1 | I40: 4 | J40: 15 | K40: 34 | L40: 42 | M40: 23 | N40: 1 | O40: 4 | R40: 14 | S40: 7 | T40: 6 | U40: 36
...
